BEGIN:VCALENDAR
VERSION:2.0
PRODID:-//Tague Lumber - ECPv6.15.18//NONSGML v1.0//EN
CALSCALE:GREGORIAN
METHOD:PUBLISH
X-WR-CALNAME:Tague Lumber
X-ORIGINAL-URL:https://www.taguelumber.com
X-WR-CALDESC:Events for Tague Lumber
REFRESH-INTERVAL;VALUE=DURATION:PT1H
X-Robots-Tag:noindex
X-PUBLISHED-TTL:PT1H
BEGIN:VTIMEZONE
TZID:America/New_York
BEGIN:DAYLIGHT
TZOFFSETFROM:-0500
TZOFFSETTO:-0400
TZNAME:EDT
DTSTART:20220313T070000
END:DAYLIGHT
BEGIN:STANDARD
TZOFFSETFROM:-0400
TZOFFSETTO:-0500
TZNAME:EST
DTSTART:20221106T060000
END:STANDARD
BEGIN:DAYLIGHT
TZOFFSETFROM:-0500
TZOFFSETTO:-0400
TZNAME:EDT
DTSTART:20230312T070000
END:DAYLIGHT
BEGIN:STANDARD
TZOFFSETFROM:-0400
TZOFFSETTO:-0500
TZNAME:EST
DTSTART:20231105T060000
END:STANDARD
BEGIN:DAYLIGHT
TZOFFSETFROM:-0500
TZOFFSETTO:-0400
TZNAME:EDT
DTSTART:20240310T070000
END:DAYLIGHT
BEGIN:STANDARD
TZOFFSETFROM:-0400
TZOFFSETTO:-0500
TZNAME:EST
DTSTART:20241103T060000
END:STANDARD
BEGIN:DAYLIGHT
TZOFFSETFROM:-0500
TZOFFSETTO:-0400
TZNAME:EDT
DTSTART:20250309T070000
END:DAYLIGHT
BEGIN:STANDARD
TZOFFSETFROM:-0400
TZOFFSETTO:-0500
TZNAME:EST
DTSTART:20251102T060000
END:STANDARD
END:VTIMEZONE
BEGIN:VEVENT
DTSTART;VALUE=DATE:20240907
DTEND;VALUE=DATE:20240908
DTSTAMP:20260424T073558
CREATED:20240802T185846Z
LAST-MODIFIED:20240820T161843Z
UID:10000660-1725667200-1725753599@www.taguelumber.com
SUMMARY:Tague Lumber Presents the Phoenixville Blues Festival 2024
DESCRIPTION:Tague Lumber is Proud to be the Title Sponsor of the\n2024 Phoenixville Blues Festival\nDATE:  Saturday\, September 7\, 2024\nLOCATION:  Reeves Park in Phoenixville \nThe 2023 event was great fun with more than 4\,000 visitors who spent the day listening to the music and enjoying great food.\nThis year’s Festival is sure to be another not-to-be-missed extravaganza! \n2024 Musical Lineup\n\n1:00-2:00 Main Line School of Rock Delta Squad\n2:00-3:00 Blues Reincarnation\n3:00-4:00 Street Beans\n4:00-5:00 Greg Sover Band\n5:45-7:00 Ghost Town Blues Band\n7:15-8:30 Vanessa Collier\n8:45-10:00 Brown Sugar – Rolling Stones Tribute
URL:https://www.taguelumber.com/event/phoenixville-blues-festival-2024/
LOCATION:Reeves Park Phoenixville PA\, 3rd and STarr Streets\, Phoenixville\, PA\, 19460-3520\, United States
CATEGORIES:Phoenixville
END:VEVENT
BEGIN:VEVENT
DTSTART;VALUE=DATE:20230909
DTEND;VALUE=DATE:20230910
DTSTAMP:20260424T073558
CREATED:20230925T201424Z
LAST-MODIFIED:20230925T201424Z
UID:10000637-1694217600-1694303999@www.taguelumber.com
SUMMARY:Phoenixville Blues Fest
DESCRIPTION:Tague Lumber is proud to be the Title Sponsor of the Phoenxiville Blues Festival.\nBAND 2023 Lineup \n1:00 – Main Line School of Rock Delta Squad\n2:00 – Soul Miners Union\n3:00 – Street Beans\n4:05 – Electric Candlelight\n5:15 – Vocal Fusion\n5:45 – Popa Chubby\n7:15 – Ghost Town Blues Band\n8:45 – Hotlanta – The Allman Brothers Experience
URL:https://www.taguelumber.com/event/phoenixville-blues-fest/
LOCATION:Reeves Park Phoenixville PA\, 3rd and STarr Streets\, Phoenixville\, PA\, 19460-3520\, United States
CATEGORIES:Phoenixville
END:VEVENT
END:VCALENDAR