BEGIN:VCALENDAR
VERSION:2.0
PRODID:-//Tague Lumber - ECPv6.15.18//NONSGML v1.0//EN
CALSCALE:GREGORIAN
METHOD:PUBLISH
X-WR-CALNAME:Tague Lumber
X-ORIGINAL-URL:https://www.taguelumber.com
X-WR-CALDESC:Events for Tague Lumber
REFRESH-INTERVAL;VALUE=DURATION:PT1H
X-Robots-Tag:noindex
X-PUBLISHED-TTL:PT1H
BEGIN:VTIMEZONE
TZID:America/New_York
BEGIN:DAYLIGHT
TZOFFSETFROM:-0500
TZOFFSETTO:-0400
TZNAME:EDT
DTSTART:20150308T070000
END:DAYLIGHT
BEGIN:STANDARD
TZOFFSETFROM:-0400
TZOFFSETTO:-0500
TZNAME:EST
DTSTART:20151101T060000
END:STANDARD
BEGIN:DAYLIGHT
TZOFFSETFROM:-0500
TZOFFSETTO:-0400
TZNAME:EDT
DTSTART:20160313T070000
END:DAYLIGHT
BEGIN:STANDARD
TZOFFSETFROM:-0400
TZOFFSETTO:-0500
TZNAME:EST
DTSTART:20161106T060000
END:STANDARD
BEGIN:DAYLIGHT
TZOFFSETFROM:-0500
TZOFFSETTO:-0400
TZNAME:EDT
DTSTART:20170312T070000
END:DAYLIGHT
BEGIN:STANDARD
TZOFFSETFROM:-0400
TZOFFSETTO:-0500
TZNAME:EST
DTSTART:20171105T060000
END:STANDARD
BEGIN:DAYLIGHT
TZOFFSETFROM:-0500
TZOFFSETTO:-0400
TZNAME:EDT
DTSTART:20180311T070000
END:DAYLIGHT
BEGIN:STANDARD
TZOFFSETFROM:-0400
TZOFFSETTO:-0500
TZNAME:EST
DTSTART:20181104T060000
END:STANDARD
BEGIN:DAYLIGHT
TZOFFSETFROM:-0500
TZOFFSETTO:-0400
TZNAME:EDT
DTSTART:20190310T070000
END:DAYLIGHT
BEGIN:STANDARD
TZOFFSETFROM:-0400
TZOFFSETTO:-0500
TZNAME:EST
DTSTART:20191103T060000
END:STANDARD
BEGIN:DAYLIGHT
TZOFFSETFROM:-0500
TZOFFSETTO:-0400
TZNAME:EDT
DTSTART:20200308T070000
END:DAYLIGHT
BEGIN:STANDARD
TZOFFSETFROM:-0400
TZOFFSETTO:-0500
TZNAME:EST
DTSTART:20201101T060000
END:STANDARD
BEGIN:DAYLIGHT
TZOFFSETFROM:-0500
TZOFFSETTO:-0400
TZNAME:EDT
DTSTART:20210314T070000
END:DAYLIGHT
BEGIN:STANDARD
TZOFFSETFROM:-0400
TZOFFSETTO:-0500
TZNAME:EST
DTSTART:20211107T060000
END:STANDARD
BEGIN:DAYLIGHT
TZOFFSETFROM:-0500
TZOFFSETTO:-0400
TZNAME:EDT
DTSTART:20220313T070000
END:DAYLIGHT
BEGIN:STANDARD
TZOFFSETFROM:-0400
TZOFFSETTO:-0500
TZNAME:EST
DTSTART:20221106T060000
END:STANDARD
END:VTIMEZONE
BEGIN:VEVENT
DTSTART;TZID=America/New_York:20210924T143000
DTEND;TZID=America/New_York:20210924T170000
DTSTAMP:20260425T075928
CREATED:20210915T180615Z
LAST-MODIFIED:20210915T181245Z
UID:10000571-1632493800-1632502800@www.taguelumber.com
SUMMARY:Premier Door\, Frame & Hardware -- Closing Early for Inventory
DESCRIPTION:Premier Door\, Frame & Hardware will be closing at 2:30pm \non Friday\, Sept. 24\, 2021 for our Annual Inventory.  \nWe will reopen with regular business hours on Monday. \nThank you for your understanding.\n\n 
URL:https://www.taguelumber.com/event/premier-door-frame-hardware-closing-early-for-inventory/
LOCATION:Premier Door\, Frame & Hardware\, 7 Lee Boulevard\, Premier Door Frame & Hardware\, Malvern\, PA\, 19355\, United States
CATEGORIES:Premier
GEO:40.1276509;-75.0226574
X-APPLE-STRUCTURED-LOCATION;VALUE=URI;X-ADDRESS=Premier Door Frame & Hardware 7 Lee Boulevard Premier Door Frame & Hardware Malvern PA 19355 United States;X-APPLE-RADIUS=500;X-TITLE=7 Lee Boulevard\, Premier Door Frame & Hardware:geo:-75.0226574,40.1276509
END:VEVENT
BEGIN:VEVENT
DTSTART;TZID=America/New_York:20210812T110000
DTEND;TZID=America/New_York:20210812T140000
DTSTAMP:20260425T075928
CREATED:20210708T210100Z
LAST-MODIFIED:20210708T210135Z
UID:10000569-1628766000-1628776800@www.taguelumber.com
SUMMARY:FREE Lunch from Zac's Burger Truck at Premier DFH in Malvern
DESCRIPTION:FREE lunch from Zac’s Burger Truck \nfor our valued customers!\n  \nJoin us at Premier Door\, Frame & Hardware\n7 Lee Blvd.\, Malvern\, PA\nThursday\, August 12th\n(from 11:00 – 2:00pm)\n  \n\nVisit with Reps from top manufacturers for product demos\, samples\, and a chance to win DOOR PRIZES!   \n  \n \n  \n 
URL:https://www.taguelumber.com/event/free-lunch-from-zacs-burger-truck-at-premier-dfh-in-malvern/
LOCATION:Premier Door\, Frame & Hardware\, 7 Lee Boulevard\, Premier Door Frame & Hardware\, Malvern\, PA\, 19355\, United States
CATEGORIES:Premier
GEO:40.1276509;-75.0226574
X-APPLE-STRUCTURED-LOCATION;VALUE=URI;X-ADDRESS=Premier Door Frame & Hardware 7 Lee Boulevard Premier Door Frame & Hardware Malvern PA 19355 United States;X-APPLE-RADIUS=500;X-TITLE=7 Lee Boulevard\, Premier Door Frame & Hardware:geo:-75.0226574,40.1276509
END:VEVENT
BEGIN:VEVENT
DTSTART;TZID=America/New_York:20190613T163000
DTEND;TZID=America/New_York:20190613T193000
DTSTAMP:20260425T075928
CREATED:20190516T200902Z
LAST-MODIFIED:20190516T200902Z
UID:10000471-1560443400-1560454200@www.taguelumber.com
SUMMARY:Premier DFH "Relocation Celebration" BBQ
DESCRIPTION:You are invited to\nPREMIER Door\, Frame & Hardware’s\n“Relocation Celebration” BBQ!\n\nIn addition to delicious food from Mission BBQ\,\nwe welcome you to tour our new 28\,000 sq. ft. location\nand see how this state-of-the-art facility can easily provide\nall your commercial building needs!\nDATE:\nThursday\, June 13\, 2019\nTIME:\n4:30pm – 7:30pm\nLOCATION: \nPREMIER Door\, Frame & Hardware\n7 Lee Blvd.\, Malvern\, PA\nRSVP by June 3rd\nLet us know you’re coming in the way most convenient for you:\n1) Tell your Sales Rep you will be joining us\n2) Call Maria Claro at 610-673-0790\n3) Email: mclaro@premierdfh.com\n4) Reply on our Eventbrite site\nPremier BBQ
URL:https://www.taguelumber.com/event/premier-dfh-relocation-celebration-bbq/
LOCATION:Premier Door\, Frame & Hardware\, 7 Lee Boulevard\, Premier Door Frame & Hardware\, Malvern\, PA\, 19355\, United States
CATEGORIES:Premier
GEO:40.1276509;-75.0226574
X-APPLE-STRUCTURED-LOCATION;VALUE=URI;X-ADDRESS=DESCRIPTION:You are invited to\nPREMIER Door Frame & Hardware’s\n“Relocation Celebration” BBQ!\n\nIn addition to delicious food from Mission BBQ\nwe welcome you to tour our new 28000 sq. ft. location\nand see how this state-of-the-art facility can easily provide\nall your commercial building needs!\nDATE:\nThursday June 13 2019\nTIME:\n4:30pm – 7:30pm\n \nPREMIER Door Frame & Hardware\n7 Lee Blvd. Malvern PA\nRSVP by June 3rd\nLet us know you’re coming in the way most convenient for you:\n1) Tell your Sales Rep you will be joining us\n2) Call Maria Claro at 610-673-0790\n3) Email: mclaro@premierdfh.com\n4) Reply on our Eventbrite site\nPremier BBQ;X-APPLE-RADIUS=500;X-TITLE=7 Lee Boulevard\, Premier Door Frame & Hardware:geo:-75.0226574,40.1276509
END:VEVENT
BEGIN:VEVENT
DTSTART;TZID=America/New_York:20161029T060000
DTEND;TZID=America/New_York:20161029T170000
DTSTAMP:20260425T075928
CREATED:20161024T180005Z
LAST-MODIFIED:20161024T180413Z
UID:10000440-1477720800-1477760400@www.taguelumber.com
SUMMARY:Inventory Schedule - Premier Door\, Frame & Hardware
DESCRIPTION:Tague Lumber inventory schedule and early closing information.\nPremier Door\, Frame & Hardware will be closed (as usual) on Saturday\, Oct. 29\, 2016 for our annual inventory. We appreciate your understanding and apologize for any inconvenience. We will reopen with regular business hours on Monday\, Oct. 31\, 2016.
URL:https://www.taguelumber.com/event/inventory-schedule-premier-door-frame-hardware/
LOCATION:Premier Door\, Frame & Hardware\, 7 Lee Boulevard\, Premier Door Frame & Hardware\, Malvern\, PA\, 19355\, United States
CATEGORIES:Premier
GEO:40.1276509;-75.0226574
X-APPLE-STRUCTURED-LOCATION;VALUE=URI;X-ADDRESS=Premier Door Frame & Hardware 7 Lee Boulevard Premier Door Frame & Hardware Malvern PA 19355 United States;X-APPLE-RADIUS=500;X-TITLE=7 Lee Boulevard\, Premier Door Frame & Hardware:geo:-75.0226574,40.1276509
END:VEVENT
END:VCALENDAR