BEGIN:VCALENDAR
VERSION:2.0
PRODID:-//Tague Lumber - ECPv6.15.18//NONSGML v1.0//EN
CALSCALE:GREGORIAN
METHOD:PUBLISH
X-WR-CALNAME:Tague Lumber
X-ORIGINAL-URL:https://www.taguelumber.com
X-WR-CALDESC:Events for Tague Lumber
REFRESH-INTERVAL;VALUE=DURATION:PT1H
X-Robots-Tag:noindex
X-PUBLISHED-TTL:PT1H
BEGIN:VTIMEZONE
TZID:America/New_York
BEGIN:DAYLIGHT
TZOFFSETFROM:-0500
TZOFFSETTO:-0400
TZNAME:EDT
DTSTART:20170312T070000
END:DAYLIGHT
BEGIN:STANDARD
TZOFFSETFROM:-0400
TZOFFSETTO:-0500
TZNAME:EST
DTSTART:20171105T060000
END:STANDARD
BEGIN:DAYLIGHT
TZOFFSETFROM:-0500
TZOFFSETTO:-0400
TZNAME:EDT
DTSTART:20180311T070000
END:DAYLIGHT
BEGIN:STANDARD
TZOFFSETFROM:-0400
TZOFFSETTO:-0500
TZNAME:EST
DTSTART:20181104T060000
END:STANDARD
BEGIN:DAYLIGHT
TZOFFSETFROM:-0500
TZOFFSETTO:-0400
TZNAME:EDT
DTSTART:20190310T070000
END:DAYLIGHT
BEGIN:STANDARD
TZOFFSETFROM:-0400
TZOFFSETTO:-0500
TZNAME:EST
DTSTART:20191103T060000
END:STANDARD
END:VTIMEZONE
BEGIN:VEVENT
DTSTART;TZID=America/New_York:20180716T110000
DTEND;TZID=America/New_York:20180716T140000
DTSTAMP:20260419T123721
CREATED:20180704T020756Z
LAST-MODIFIED:20180704T021335Z
UID:10000497-1531738800-1531749600@www.taguelumber.com
SUMMARY:Lunch is on us at Tague Lumber of Phila.
DESCRIPTION:Enjoy a FREE lunch on\nMonday\, July 16\nfrom  11:00am – 2:00pm\nat Tague Lumber of Philadelphia\nSimonton Lunch at Phila.\n  \n  \n• Grab a sandwich and visit with the Simonton Rep to learn about their quality replacement windows & doors. \n• Simonton provides durable\, quality vinyl windows and doors that are energy efficient\, weather resistant\, and low-maintenance. \n• Simonton windows and doors are custom to your home and backed by industry-leading warranties.
URL:https://www.taguelumber.com/event/lunch-is-on-us/
LOCATION:Tague Lumber of Phila\, 560 E. High Street\, Philadelphia\, PA\, 19144\, United States
CATEGORIES:Philadelphia
GEO:40.0463483;-75.1701749
X-APPLE-STRUCTURED-LOCATION;VALUE=URI;X-ADDRESS=Tague Lumber of Phila 560 E. High Street Philadelphia PA 19144 United States;X-APPLE-RADIUS=500;X-TITLE=560 E. High Street:geo:-75.1701749,40.0463483
END:VEVENT
BEGIN:VEVENT
DTSTART;TZID=America/New_York:20180717T110000
DTEND;TZID=America/New_York:20180717T140000
DTSTAMP:20260419T123721
CREATED:20180704T021312Z
LAST-MODIFIED:20180704T021312Z
UID:10000498-1531825200-1531836000@www.taguelumber.com
SUMMARY:Lunch is on us at Tague of Kennett Square
DESCRIPTION:Enjoy a FREE lunch on\nTuesday\, July 17\nfrom  11:00am – 2:00pm\nat Tague Lumber of Kennett Square\nFree Lunch at Kennett Sq\n  \n• Grab a sandwich and visit with the Simonton Rep to learn about their quality replacement windows & doors. \n• Simonton provides durable\, quality vinyl windows and doors that are energy efficient\, weather resistant\, and low-maintenance. \n• Simonton windows and doors are custom to your home and backed by industry-leading warranties.
URL:https://www.taguelumber.com/event/lunch-is-on-us-at-tague-of-kennett-square/
LOCATION:Tague Lumber – Kennett Sq.\, 475 McFarlan Road\, Kennett Square\, 19348\, United States
CATEGORIES:Kennett Square
GEO:39.8452967;-75.692673
X-APPLE-STRUCTURED-LOCATION;VALUE=URI;X-ADDRESS=Tague Lumber – Kennett Sq. 475 McFarlan Road Kennett Square 19348 United States;X-APPLE-RADIUS=500;X-TITLE=475 McFarlan Road:geo:-75.692673,39.8452967
END:VEVENT
BEGIN:VEVENT
DTSTART;TZID=America/New_York:20180718T110000
DTEND;TZID=America/New_York:20180718T140000
DTSTAMP:20260419T123721
CREATED:20180704T021809Z
LAST-MODIFIED:20180704T021809Z
UID:10000499-1531911600-1531922400@www.taguelumber.com
SUMMARY:Lunch is on us at Tague Lumber of Doylestown
DESCRIPTION:Enjoy a FREE lunch on\nWednesday\, July 18\nfrom  11:00am – 2:00pm\nat Tague Lumber of Doylestown\nFree lunch at Tague Doylestown\n  \n• Grab a sandwich and visit with the Simonton Rep to learn about their quality replacement windows & doors. \n• Simonton provides durable\, quality vinyl windows and doors that are energy efficient\, weather resistant\, and low-maintenance. \n• Simonton windows and doors are custom to your home and backed by industry-leading warranties.
URL:https://www.taguelumber.com/event/lunch-is-on-us-at-tague-lumber-of-doylestown/
LOCATION:Tague Lumber of Doylestown\, 6100 Easton Road\, Plumsteadville\, PA\, 18949\, United States
CATEGORIES:Doylestown
GEO:40.3908118;-75.1474302
X-APPLE-STRUCTURED-LOCATION;VALUE=URI;X-ADDRESS=Tague Lumber of Doylestown 6100 Easton Road Plumsteadville PA 18949 United States;X-APPLE-RADIUS=500;X-TITLE=6100 Easton Road:geo:-75.1474302,40.3908118
END:VEVENT
BEGIN:VEVENT
DTSTART;TZID=America/New_York:20180719T110000
DTEND;TZID=America/New_York:20180719T140000
DTSTAMP:20260419T123721
CREATED:20180704T022247Z
LAST-MODIFIED:20180704T022247Z
UID:10000500-1531998000-1532008800@www.taguelumber.com
SUMMARY:Lunch is on us at Tague Lumber of Phoenixville
DESCRIPTION:Enjoy a FREE lunch on\nThursday\, July 19\nfrom  11:00am – 2:00pm\nat Tague Lumber of Phoenixville\nFree lunch at Tague of Phoenixville\n  \n• Grab a sandwich and visit with the Simonton Rep to learn about their quality replacement windows & doors. \n• Simonton provides durable\, quality vinyl windows and doors that are energy efficient\, weather resistant\, and low-maintenance. \n• Simonton windows and doors are custom to your home and backed by industry-leading warranties.
URL:https://www.taguelumber.com/event/lunch-is-on-us-at-tague-lumber-of-phoenixville/
LOCATION:Tague Lumber in Phoenixville\, 405 Bridge Street\, Phoenixville\, PA\, 19460\, United States
CATEGORIES:Phoenixville
GEO:40.132012;-75.523179
X-APPLE-STRUCTURED-LOCATION;VALUE=URI;X-ADDRESS=Tague Lumber in Phoenixville 405 Bridge Street Phoenixville PA 19460 United States;X-APPLE-RADIUS=500;X-TITLE=405 Bridge Street:geo:-75.523179,40.132012
END:VEVENT
BEGIN:VEVENT
DTSTART;TZID=America/New_York:20180720T110000
DTEND;TZID=America/New_York:20180720T140000
DTSTAMP:20260419T123721
CREATED:20180704T022557Z
LAST-MODIFIED:20180704T022557Z
UID:10000501-1532084400-1532095200@www.taguelumber.com
SUMMARY:Lunch is on us at Tague Lumber of Media
DESCRIPTION:Enjoy a FREE lunch on\nFriday\, July 20\nfrom  11:00am – 2:00pm\nat Tague Lumber of Media\nFree lunch at Tague of Media\n  \n• Grab a sandwich and visit with the Simonton Rep to learn about their quality replacement windows & doors. \n• Simonton provides durable\, quality vinyl windows and doors that are energy efficient\, weather resistant\, and low-maintenance. \n• Simonton windows and doors are custom to your home and backed by industry-leading warranties.
URL:https://www.taguelumber.com/event/lunch-is-on-us-at-tague-lumber-of-media/
LOCATION:Tague Lumber – Media\, 325 Media Station Road\, Media/Phila/Phoenixville
CATEGORIES:Media
GEO:40.1303822;-75.5149128
X-APPLE-STRUCTURED-LOCATION;VALUE=URI;X-ADDRESS=Tague Lumber – Media 325 Media Station Road Media/Phila/Phoenixville;X-APPLE-RADIUS=500;X-TITLE=325 Media Station Road:geo:-75.5149128,40.1303822
END:VEVENT
END:VCALENDAR