BEGIN:VCALENDAR
VERSION:2.0
PRODID:-//Tague Lumber - ECPv6.15.18//NONSGML v1.0//EN
CALSCALE:GREGORIAN
METHOD:PUBLISH
X-WR-CALNAME:Tague Lumber
X-ORIGINAL-URL:https://www.taguelumber.com
X-WR-CALDESC:Events for Tague Lumber
REFRESH-INTERVAL;VALUE=DURATION:PT1H
X-Robots-Tag:noindex
X-PUBLISHED-TTL:PT1H
BEGIN:VTIMEZONE
TZID:America/New_York
BEGIN:DAYLIGHT
TZOFFSETFROM:-0500
TZOFFSETTO:-0400
TZNAME:EDT
DTSTART:20240310T070000
END:DAYLIGHT
BEGIN:STANDARD
TZOFFSETFROM:-0400
TZOFFSETTO:-0500
TZNAME:EST
DTSTART:20241103T060000
END:STANDARD
BEGIN:DAYLIGHT
TZOFFSETFROM:-0500
TZOFFSETTO:-0400
TZNAME:EDT
DTSTART:20250309T070000
END:DAYLIGHT
BEGIN:STANDARD
TZOFFSETFROM:-0400
TZOFFSETTO:-0500
TZNAME:EST
DTSTART:20251102T060000
END:STANDARD
BEGIN:DAYLIGHT
TZOFFSETFROM:-0500
TZOFFSETTO:-0400
TZNAME:EDT
DTSTART:20260308T070000
END:DAYLIGHT
BEGIN:STANDARD
TZOFFSETFROM:-0400
TZOFFSETTO:-0500
TZNAME:EST
DTSTART:20261101T060000
END:STANDARD
END:VTIMEZONE
BEGIN:VEVENT
DTSTART;TZID=America/New_York:20250717T110000
DTEND;TZID=America/New_York:20250717T133000
DTSTAMP:20260424T233544
CREATED:20250702T194551Z
LAST-MODIFIED:20250702T194551Z
UID:10000671-1752750000-1752759000@www.taguelumber.com
SUMMARY:Product Seminars at Doylestown
DESCRIPTION:Register for our July Product Seminar\nEarn 2 AIA CEUs\nSeating is LIMITED for this event! Registration is required!\nCLICK here to register NOW!\nTime: 11:00 a.m. -12:00 p.m.\nPresented by Weyerhaeuser | 1 LU/HSW\nSession One Topic:  (BLS 140) Introduction to FORTE WEB™\nObjectives: Overview of Weyerhaeuser’s EWP (a free\, web-based) sizing software. Whether you’re an architect\, engineer or design professional sizing joists\, beams\, posts\, or studs\, ForteWEB™ software performs the calculations and identifies solutions for the conditions and geometry you specify. Accurately size engineered wood\, dimension lumber\, and steel in one tool – compare design results\, select the most effective solution\, and best economical fit. \n  \nTime: 12:30 p.m.-1:30 p.m.\nPresented by Weyerhaeuser | 1 LU/HSW\nSession Two Topic:    Evaluating Floor Performance\nObjectives: Design floors that will meet customer expectations for performance. Participants compare the conventional code (static) approach to floor design with a dynamic approach based on customer performances. Traditional methods gauge the performance of the floor based on uniform\, non-moving loads whereas customers gauge floor performance by how the floor feels when they walk\, run\, or jump.
URL:https://www.taguelumber.com/event/product-seminars-at-doylestown/
LOCATION:Tague Lumber – Doylestown\, 6100 Easton Road\, Plumsteadville\, PA\, 18947\, United States
CATEGORIES:Doylestown
GEO:40.329846;-75.1293725
X-APPLE-STRUCTURED-LOCATION;VALUE=URI;X-ADDRESS=Tague Lumber – Doylestown 6100 Easton Road Plumsteadville PA 18947 United States;X-APPLE-RADIUS=500;X-TITLE=6100 Easton Road:geo:-75.1293725,40.329846
END:VEVENT
BEGIN:VEVENT
DTSTART;TZID=America/New_York:20250724T110000
DTEND;TZID=America/New_York:20250724T133000
DTSTAMP:20260424T233544
CREATED:20250702T194950Z
LAST-MODIFIED:20250702T194959Z
UID:10000672-1753354800-1753363800@www.taguelumber.com
SUMMARY:Product Seminars at Malvern Showroom
DESCRIPTION:Register for our July Product Seminar\nEarn 2 AIA CEUs\nSeating is LIMITED for this event! Registration is required!\nCLICK here to register NOW!\nTime: 11:00 a.m. -12:00 p.m.\nPresented by Weyerhaeuser | 1 LU/HSW\nSession One Topic:  (BLS 140) Introduction to FORTE WEB™\nObjectives: Overview of Weyerhaeuser’s EWP (a free\, web-based) sizing software. Whether you’re an architect\, engineer or design professional sizing joists\, beams\, posts\, or studs\, ForteWEB™ software performs the calculations and identifies solutions for the conditions and geometry you specify. Accurately size engineered wood\, dimension lumber\, and steel in one tool – compare design results\, select the most effective solution\, and best economical fit. \n  \nTime: 12:30 p.m.-1:30 p.m.\nPresented by Weyerhaeuser | 1 LU/HSW\nSession Two Topic:    Evaluating Floor Performance\nObjectives: Design floors that will meet customer expectations for performance. Participants compare the conventional code (static) approach to floor design with a dynamic approach based on customer performances. Traditional methods gauge the performance of the floor based on uniform\, non-moving loads whereas customers gauge floor performance by how the floor feels when they walk\, run\, or jump.
URL:https://www.taguelumber.com/event/product-seminars-at-malvern-showroom/
LOCATION:Tague Design Showroom\, 181 Lancaster Avenue\, Malvern\, PA\, 19355\, United States
CATEGORIES:Doylestown
GEO:40.043512;-75.537697
X-APPLE-STRUCTURED-LOCATION;VALUE=URI;X-ADDRESS=Tague Design Showroom 181 Lancaster Avenue Malvern PA 19355 United States;X-APPLE-RADIUS=500;X-TITLE=181 Lancaster Avenue:geo:-75.537697,40.043512
END:VEVENT
END:VCALENDAR