BEGIN:VCALENDAR
VERSION:2.0
PRODID:-//Tague Lumber - ECPv6.15.18//NONSGML v1.0//EN
CALSCALE:GREGORIAN
METHOD:PUBLISH
X-ORIGINAL-URL:https://www.taguelumber.com
X-WR-CALDESC:Events for Tague Lumber
REFRESH-INTERVAL;VALUE=DURATION:PT1H
X-Robots-Tag:noindex
X-PUBLISHED-TTL:PT1H
BEGIN:VTIMEZONE
TZID:America/New_York
BEGIN:DAYLIGHT
TZOFFSETFROM:-0500
TZOFFSETTO:-0400
TZNAME:EDT
DTSTART:20240310T070000
END:DAYLIGHT
BEGIN:STANDARD
TZOFFSETFROM:-0400
TZOFFSETTO:-0500
TZNAME:EST
DTSTART:20241103T060000
END:STANDARD
BEGIN:DAYLIGHT
TZOFFSETFROM:-0500
TZOFFSETTO:-0400
TZNAME:EDT
DTSTART:20250309T070000
END:DAYLIGHT
BEGIN:STANDARD
TZOFFSETFROM:-0400
TZOFFSETTO:-0500
TZNAME:EST
DTSTART:20251102T060000
END:STANDARD
BEGIN:DAYLIGHT
TZOFFSETFROM:-0500
TZOFFSETTO:-0400
TZNAME:EDT
DTSTART:20260308T070000
END:DAYLIGHT
BEGIN:STANDARD
TZOFFSETFROM:-0400
TZOFFSETTO:-0500
TZNAME:EST
DTSTART:20261101T060000
END:STANDARD
END:VTIMEZONE
BEGIN:VEVENT
DTSTART;VALUE=DATE:20251127
DTEND;VALUE=DATE:20251128
DTSTAMP:20260425T112237
CREATED:20250102T155749Z
LAST-MODIFIED:20250102T155749Z
UID:10000666-1764201600-1764287999@www.taguelumber.com
SUMMARY:Thanksgiving Holiday 2025
DESCRIPTION:All Tague Lumber\, Tague Design Showrooms\, and\nPremier DFH locations will be CLOSED\nThursday\, November 27th\nto allow our employees to celebrate Thanksgiving with their families.\n  \nWe will REOPEN with normal business hours\non Friday\, Nov. 28th\nWe wish all our valued customers and their families\na very safe and Happy Thanksgiving!
URL:https://www.taguelumber.com/event/thanksgiving-holiday-2025/
CATEGORIES:Design Showroom,Doylestown,Kennett Square,Media,Mill & Door Shop,Philadelphia,Phoenixville,Premier
END:VEVENT
END:VCALENDAR