BEGIN:VCALENDAR
VERSION:2.0
PRODID:-//Tague Lumber - ECPv6.15.18//NONSGML v1.0//EN
CALSCALE:GREGORIAN
METHOD:PUBLISH
X-ORIGINAL-URL:https://www.taguelumber.com
X-WR-CALDESC:Events for Tague Lumber
REFRESH-INTERVAL;VALUE=DURATION:PT1H
X-Robots-Tag:noindex
X-PUBLISHED-TTL:PT1H
BEGIN:VTIMEZONE
TZID:UTC
BEGIN:STANDARD
TZOFFSETFROM:+0000
TZOFFSETTO:+0000
TZNAME:UTC
DTSTART:20140101T000000
END:STANDARD
END:VTIMEZONE
BEGIN:VEVENT
DTSTART;TZID=UTC:20150521T170000
DTEND;TZID=UTC:20150521T200000
DTSTAMP:20260425T095740
CREATED:20150429T144518Z
LAST-MODIFIED:20150429T144518Z
UID:10000388-1432227600-1432238400@www.taguelumber.com
SUMMARY:Contractor College #4 - DECKING Seminar at Kennett Square location
DESCRIPTION:Please join us for the next event in our\nContractor College Educational Series\nAZEK & TIMBERTECH DECKING SEMINAR\nwith hands-on demos AND breakout sessions:\nDATE:  Thursday\, May 21\nTIME:  5:00 (buffet); 5:30 (seminar)\nLOCATION:  Tague Lumber\, 475 McFarlan Rd.\, Kennett Sq. PA\nThe presentation will cover these topics: \n\nAZEK & Timbertech Decking Products\nDecking Design\nDeck Installation\nDeck Railings\nDecking Fasteners\n\n\n“Tips & Tools” for Contractors that can help increase decking sales.\nIntroduction to an innovative I-Pad app for Azek Decking that generates a 3D image of the decking design.\nInformation on NEW Contractor and Builder Rebate and Reward Programs.\nDemo by FastenMaster covering a varietyof decking fasteners on the market.\nPLUS training demos on how to properly install Azek and Timbertech decking & railings.\n\nSEATING is LIMITED! Get your ticket delivered to your inbox. Simply follow this link to our Eventbrite page to register:\nhttps://www.eventbrite.com/e/tague-contractor-college-azek-timbertech-decking-seminar-tickets-16774360564 \n 
URL:https://www.taguelumber.com/event/contractor-college-4-decking-seminar-at-kennett-square-location/
LOCATION:Tague Lumber – Kennett Sq.\, 475 McFarlan Road\, Kennett Square\, 19348\, United States
CATEGORIES:Kennett Square
GEO:39.8452967;-75.692673
X-APPLE-STRUCTURED-LOCATION;VALUE=URI;X-ADDRESS=DESCRIPTION:Please join us for the next event in our\nContractor College Educational Series\nAZEK & TIMBERTECH DECKING SEMINAR\nwith hands-on demos AND breakout sessions:\nDATE:  Thursday May 21\nTIME:  5:00 (buffet); 5:30 (seminar)\n  Tague Lumber 475 McFarlan Rd. Kennett Sq. PA\nThe presentation will cover these topics: \n\nAZEK & Timbertech Decking Products\nDecking Design\nDeck Installation\nDeck Railings\nDecking Fasteners\n\n\n“Tips & Tools” for Contractors that can help increase decking sales.\nIntroduction to an innovative I-Pad app for Azek Decking that generates a 3D image of the decking design.\nInformation on NEW Contractor and Builder Rebate and Reward Programs.\nDemo by FastenMaster covering a varietyof decking fasteners on the market.\nPLUS training demos on how to properly install Azek and Timbertech decking & railings.\n\nSEATING is LIMITED! Get your ticket delivered to your inbox. Simply follow this link to our Eventbrite page to register:\nhttps://www.eventbrite.com/e/tague-contractor-college-azek-timbertech-decking-seminar-tickets-16774360564 \n ;X-APPLE-RADIUS=500;X-TITLE=475 McFarlan Road:geo:-75.692673,39.8452967
END:VEVENT
END:VCALENDAR