BEGIN:VCALENDAR
VERSION:2.0
PRODID:-//Tague Lumber - ECPv6.15.18//NONSGML v1.0//EN
CALSCALE:GREGORIAN
METHOD:PUBLISH
X-ORIGINAL-URL:https://www.taguelumber.com
X-WR-CALDESC:Events for Tague Lumber
REFRESH-INTERVAL;VALUE=DURATION:PT1H
X-Robots-Tag:noindex
X-PUBLISHED-TTL:PT1H
BEGIN:VTIMEZONE
TZID:America/New_York
BEGIN:DAYLIGHT
TZOFFSETFROM:-0500
TZOFFSETTO:-0400
TZNAME:EDT
DTSTART:20240310T070000
END:DAYLIGHT
BEGIN:STANDARD
TZOFFSETFROM:-0400
TZOFFSETTO:-0500
TZNAME:EST
DTSTART:20241103T060000
END:STANDARD
BEGIN:DAYLIGHT
TZOFFSETFROM:-0500
TZOFFSETTO:-0400
TZNAME:EDT
DTSTART:20250309T070000
END:DAYLIGHT
BEGIN:STANDARD
TZOFFSETFROM:-0400
TZOFFSETTO:-0500
TZNAME:EST
DTSTART:20251102T060000
END:STANDARD
BEGIN:DAYLIGHT
TZOFFSETFROM:-0500
TZOFFSETTO:-0400
TZNAME:EDT
DTSTART:20260308T070000
END:DAYLIGHT
BEGIN:STANDARD
TZOFFSETFROM:-0400
TZOFFSETTO:-0500
TZNAME:EST
DTSTART:20261101T060000
END:STANDARD
END:VTIMEZONE
BEGIN:VEVENT
DTSTART;VALUE=DATE:20250715
DTEND;VALUE=DATE:20250901
DTSTAMP:20260423T133213
CREATED:20250730T140208Z
LAST-MODIFIED:20250730T140443Z
UID:10000676-1752537600-1756684799@www.taguelumber.com
SUMMARY:Viwinco Summer Sale - Ends Aug. 31
DESCRIPTION:Save BIG this Summer\non Viwinco Windows!\nFrom now until August 31 —\nSave 10% on all Cambridge Double-Hung Windows.\nFor more details contact your local Tague Lumber Sales Rep. \nDon’t wait!  Once August is over\, so is this deal!\n \n 
URL:https://www.taguelumber.com/event/viwinco-summer-sale-ends-aug-31/
LOCATION:Tague Lumber\, Media/Phila/Phoenixville
CATEGORIES:Design Showroom,Doylestown,Kennett Square,Media,Philadelphia,Phoenixville
GEO:40.1303822;-75.5149128
X-APPLE-STRUCTURED-LOCATION;VALUE=URI;X-ADDRESS=Tague Lumber Media/Phila/Phoenixville;X-APPLE-RADIUS=500;X-TITLE=Media/Phila/Phoenixville:geo:-75.5149128,40.1303822
END:VEVENT
BEGIN:VEVENT
DTSTART;TZID=America/New_York:20250814T110000
DTEND;TZID=America/New_York:20250814T133000
DTSTAMP:20260423T133213
CREATED:20250730T135031Z
LAST-MODIFIED:20250730T135225Z
UID:10000675-1755169200-1755178200@www.taguelumber.com
SUMMARY:Product Seminars at our Doylestown Location
DESCRIPTION:Register for our August Product Seminars\nPresented by:  Cavity Sliders &\nTruStile Doors\nThursday\, Aug. 14\, 2025\nALL are welcome!\nCome for the Information  — Earn 2 AIA CEUs\nSeating is LIMITED for this event! Registration is required!\nCLICK here to register NOW!\nSESSION #1\nTime: 11:00 a.m. -12:00 p.m.\nPresented by Cavity Sliders | 1 LU/HSW | AEC1805\nSession One Topic: The Benefits of Sliding and Pocket Doors Objectives: Course reviews types of sliding doors\, hardware\, and various benefits of applications\, including ADA compliance and occupant safety. Learn about door component selection and the impact on performance; identify the different privacy and security options available for sliding and pocket doors. \nSESSION #2\nTime: 12:30 p.m.-1:30 p.m.\nPresented by TruStile Doors | 1 LU/HSW TRU010-1\nSession Two Topic: Designing Wood Entry Doors for Today’s Custom Homes Objectives: Learn how to specify and design a wood entry system that enhances the design\, improves overall well-being and provides long lasting performance and security.
URL:https://www.taguelumber.com/event/product-seminars-at-our-doylestown-location/
LOCATION:Tague Lumber – Doylestown\, 6100 Easton Road\, Plumsteadville\, PA\, 18947\, United States
CATEGORIES:Doylestown
GEO:40.329846;-75.1293725
X-APPLE-STRUCTURED-LOCATION;VALUE=URI;X-ADDRESS=Tague Lumber – Doylestown 6100 Easton Road Plumsteadville PA 18947 United States;X-APPLE-RADIUS=500;X-TITLE=6100 Easton Road:geo:-75.1293725,40.329846
END:VEVENT
BEGIN:VEVENT
DTSTART;TZID=America/New_York:20250821T110000
DTEND;TZID=America/New_York:20250821T133000
DTSTAMP:20260423T133213
CREATED:20250730T134647Z
LAST-MODIFIED:20250730T135349Z
UID:10000674-1755774000-1755783000@www.taguelumber.com
SUMMARY:Product Seminars at Malvern Showroom
DESCRIPTION:Register for our August Product Seminars\nPresented by:  Cavity Sliders &\nTruStile Doors\n\nThursday\, Aug. 21\, 2025\nALL are welcome!\nCome for the Information  — Earn 2 AIA CEUs\nSeating is LIMITED for this event! Registration is required!\nCLICK here to register NOW!\nSESSION #1\nTime: 11:00 a.m. -12:00 p.m.\nPresented by Cavity Sliders | 1 LU/HSW | AEC1805\nSession One Topic: The Benefits of Sliding and Pocket Doors Objectives: Course reviews types of sliding doors\, hardware\, and various benefits of applications\, including ADA compliance and occupant safety. Learn about door component selection and the impact on performance; identify the different privacy and security options available for sliding and pocket doors. \nSESSION #2\nTime: 12:30 p.m.-1:30 p.m.\nPresented by TruStile Doors | 1 LU/HSW TRU010-1\nSession Two Topic: Designing Wood Entry Doors for Today’s Custom Homes Objectives: Learn how to specify and design a wood entry system that enhances the design\, improves overall well-being and provides long lasting performance and security. \n \n 
URL:https://www.taguelumber.com/event/https-taguemalvernaiaaug21-eventbrite-com/
LOCATION:Tague Design Showroom\, 181 Lancaster Avenue\, Malvern\, PA\, 19355\, United States
CATEGORIES:Doylestown
GEO:40.043512;-75.537697
X-APPLE-STRUCTURED-LOCATION;VALUE=URI;X-ADDRESS=Tague Design Showroom 181 Lancaster Avenue Malvern PA 19355 United States;X-APPLE-RADIUS=500;X-TITLE=181 Lancaster Avenue:geo:-75.537697,40.043512
END:VEVENT
BEGIN:VEVENT
DTSTART;VALUE=DATE:20250831
DTEND;VALUE=DATE:20250902
DTSTAMP:20260423T133213
CREATED:20250102T155531Z
LAST-MODIFIED:20250819T143357Z
UID:10000665-1756598400-1756771199@www.taguelumber.com
SUMMARY:Labor Day Schedule 2025
DESCRIPTION:  \nAll Tague Lumber and Premier DFH locations\nwill be CLOSED\nSaturday\, August 30th  AND\nMonday\, September 1st\nin observance of Labor Day!\n  \nWe will REOPEN on  Tuesday\, September 2nd\nwith normal business hours.\n  \nThank you and have a safe and happy Labor Day Holiday!
URL:https://www.taguelumber.com/event/labor-day-schedule-2025/
LOCATION:Tague Lumber\, Media/Phila/Phoenixville\, PA\, United States
CATEGORIES:Design Showroom,Doylestown,Kennett Square,Media,Mill & Door Shop,Philadelphia,Phoenixville,Premier
GEO:40.1303822;-75.5149128
X-APPLE-STRUCTURED-LOCATION;VALUE=URI;X-ADDRESS=Tague Lumber Media/Phila/Phoenixville PA United States;X-APPLE-RADIUS=500;X-TITLE=Media/Phila/Phoenixville:geo:-75.5149128,40.1303822
END:VEVENT
END:VCALENDAR