BEGIN:VCALENDAR
VERSION:2.0
PRODID:-//Tague Lumber - ECPv6.15.18//NONSGML v1.0//EN
CALSCALE:GREGORIAN
METHOD:PUBLISH
X-WR-CALNAME:Tague Lumber
X-ORIGINAL-URL:https://www.taguelumber.com
X-WR-CALDESC:Events for Tague Lumber
REFRESH-INTERVAL;VALUE=DURATION:PT1H
X-Robots-Tag:noindex
X-PUBLISHED-TTL:PT1H
BEGIN:VTIMEZONE
TZID:America/New_York
BEGIN:DAYLIGHT
TZOFFSETFROM:-0500
TZOFFSETTO:-0400
TZNAME:EDT
DTSTART:20230312T070000
END:DAYLIGHT
BEGIN:STANDARD
TZOFFSETFROM:-0400
TZOFFSETTO:-0500
TZNAME:EST
DTSTART:20231105T060000
END:STANDARD
BEGIN:DAYLIGHT
TZOFFSETFROM:-0500
TZOFFSETTO:-0400
TZNAME:EDT
DTSTART:20240310T070000
END:DAYLIGHT
BEGIN:STANDARD
TZOFFSETFROM:-0400
TZOFFSETTO:-0500
TZNAME:EST
DTSTART:20241103T060000
END:STANDARD
BEGIN:DAYLIGHT
TZOFFSETFROM:-0500
TZOFFSETTO:-0400
TZNAME:EDT
DTSTART:20250309T070000
END:DAYLIGHT
BEGIN:STANDARD
TZOFFSETFROM:-0400
TZOFFSETTO:-0500
TZNAME:EST
DTSTART:20251102T060000
END:STANDARD
END:VTIMEZONE
BEGIN:VEVENT
DTSTART;TZID=America/New_York:20240601T080000
DTEND;TZID=America/New_York:20240831T170000
DTSTAMP:20260424T133013
CREATED:20240528T135352Z
LAST-MODIFIED:20240528T135352Z
UID:10000659-1717228800-1725123600@www.taguelumber.com
SUMMARY:Summer Counter Giveaways
DESCRIPTION:It’s Summer Giveaway Time!\nStop by any of these Tague Lumber locations\n(Philly\, Doylestown\, Media\, Kennett Sq.\, and Phoenixville)\nand enter to win one of our amazing Summer Giveaways!\nFrom June through August 2024\,\neach Tague Lumber location will raffle an amazing prize.\nYou must make a purchase at the sales counter in person.\nThe more you shop\, the better your chances of winning!
URL:https://www.taguelumber.com/event/summer-counter-giveaways/
CATEGORIES:Doylestown,Kennett Square,Media,Philadelphia,Phoenixville
END:VEVENT
BEGIN:VEVENT
DTSTART;TZID=America/New_York:20240606T113000
DTEND;TZID=America/New_York:20240606T130000
DTSTAMP:20260424T133013
CREATED:20240520T175201Z
LAST-MODIFIED:20240617T175604Z
UID:10000648-1717673400-1717678800@www.taguelumber.com
SUMMARY:FREE Customer Appreciation Lunch at Tague Phoenixville location
DESCRIPTION:The Meat Wagon/Swine Dining Lunch truck is BACK!\nJoin us for a FREE BBQ Lunch today\n(Thursday\, June 6)\nat Tague Lumber of Phoenixville\nEnjoy BBQ chicken\, pulled pork or Brisket sandwich along\nwith a side order\, plus a soda or water.\nVENDORS  •  DEMOS   •  PRIZES!\n 
URL:https://www.taguelumber.com/event/free-lunch-at-tague-phoenixville-location/
LOCATION:Tague Lumber in Phoenixville\, 405 Bridge Street\, Phoenixville\, PA\, 19460\, United States
CATEGORIES:Phoenixville
GEO:40.132012;-75.523179
X-APPLE-STRUCTURED-LOCATION;VALUE=URI;X-ADDRESS=Tague Lumber in Phoenixville 405 Bridge Street Phoenixville PA 19460 United States;X-APPLE-RADIUS=500;X-TITLE=405 Bridge Street:geo:-75.523179,40.132012
END:VEVENT
BEGIN:VEVENT
DTSTART;TZID=America/New_York:20240613T113000
DTEND;TZID=America/New_York:20240613T130000
DTSTAMP:20260424T133013
CREATED:20240520T180913Z
LAST-MODIFIED:20240617T175537Z
UID:10000649-1718278200-1718283600@www.taguelumber.com
SUMMARY:FREE Customer Appreciation Lunch at Tague Kennett Sq. location
DESCRIPTION:The Meat Wagon/Swine Dining Lunch truck is BACK!\nJoin us for a FREE BBQ Lunch today\n(Thursday\, June 13)\nat Tague Lumber of Kennett Square\nEnjoy BBQ chicken\, pulled pork or Brisket sandwich along\nwith a side order\, plus a soda or water.\nVENDORS  •  DEMOS   •  PRIZES!\n 
URL:https://www.taguelumber.com/event/free-lunch-at-tague-kennett-sq-location/
LOCATION:Tague Lumber – Kennett Sq.\, 475 McFarlan Road\, Kennett Square\, 19348\, United States
CATEGORIES:Kennett Square
GEO:39.8452967;-75.692673
X-APPLE-STRUCTURED-LOCATION;VALUE=URI;X-ADDRESS=Tague Lumber – Kennett Sq. 475 McFarlan Road Kennett Square 19348 United States;X-APPLE-RADIUS=500;X-TITLE=475 McFarlan Road:geo:-75.692673,39.8452967
END:VEVENT
BEGIN:VEVENT
DTSTART;TZID=America/New_York:20240620T110000
DTEND;TZID=America/New_York:20240620T133000
DTSTAMP:20260424T133013
CREATED:20240520T183053Z
LAST-MODIFIED:20240520T183206Z
UID:10000653-1718881200-1718890200@www.taguelumber.com
SUMMARY:AIA Lunch & Learn — Earn 2 CEUs for FREE (Doylestown)
DESCRIPTION:Join us for a FREE AIA Lunch & Learn\nEarn (2) AIA CEUs\nSession One:\nFactory Pre-Finishing of Exterior Building Products\nTime: 11:00 a.m. -12:00 p.m. Presented by Woodtone | 1 LU/HSW\nObjectives: Discover innovative exterior building products and techniques. Learn how to improve construction and maintenance schedules; understand the risks of traditional on-site painting and staining methods.  (WoodTone Product Van will be on-site for tours and demonstrations.)  \nNEW CEU COURSE from MARVIN !!\nSession Two:\nFenestration Solutions for Historic Rehabilitation Projects\nTime: 12:30 p.m.-1:30 p.m. Presented by Marvin | 1 LU/HSW HistoricRehab 4\nObjectives: This course will educate participants on the importance of fenestration in relation to the building’s exterior\, provide best practices to be employed and examine how Standards and Guidelines from the US Department of Interior are applied to window repair or window replacement. \nYou MUST register to attend Lunch & Learn seminars.\nCLICK HERE to register.
URL:https://www.taguelumber.com/event/aia-lunch-learn-earn-2-ceus-for-free-doylestown/
LOCATION:Tague Lumber – Doylestown\, 6100 Easton Road\, Plumsteadville\, PA\, 18947\, United States
CATEGORIES:Doylestown
GEO:40.329846;-75.1293725
X-APPLE-STRUCTURED-LOCATION;VALUE=URI;X-ADDRESS=Tague Lumber – Doylestown 6100 Easton Road Plumsteadville PA 18947 United States;X-APPLE-RADIUS=500;X-TITLE=6100 Easton Road:geo:-75.1293725,40.329846
END:VEVENT
BEGIN:VEVENT
DTSTART;TZID=America/New_York:20240620T113000
DTEND;TZID=America/New_York:20240620T130000
DTSTAMP:20260424T133013
CREATED:20240520T181323Z
LAST-MODIFIED:20240617T175300Z
UID:10000650-1718883000-1718888400@www.taguelumber.com
SUMMARY:FREE Customer Appreciation Lunch at Tague Doylestown location
DESCRIPTION:The Meat Wagon/Swine Dining Lunch truck is BACK!\nJoin us for a FREE BBQ Lunch today\n(Thursday\, June 20)\nat Tague Lumber of Doylestown\nEnjoy BBQ chicken\, pulled pork or Brisket sandwich along\nwith a side order\, plus a soda or water.\nVENDORS  •  DEMOS   •  PRIZES!\n 
URL:https://www.taguelumber.com/event/free-lunch-at-tague-doylestown-location/
LOCATION:Tague Lumber – Doylestown\, 6100 Easton Road\, Plumsteadville\, PA\, 18947\, United States
CATEGORIES:Doylestown
GEO:40.329846;-75.1293725
X-APPLE-STRUCTURED-LOCATION;VALUE=URI;X-ADDRESS=Tague Lumber – Doylestown 6100 Easton Road Plumsteadville PA 18947 United States;X-APPLE-RADIUS=500;X-TITLE=6100 Easton Road:geo:-75.1293725,40.329846
END:VEVENT
BEGIN:VEVENT
DTSTART;TZID=America/New_York:20240627T110000
DTEND;TZID=America/New_York:20240627T133000
DTSTAMP:20260424T133013
CREATED:20240520T182917Z
LAST-MODIFIED:20240520T182917Z
UID:10000652-1719486000-1719495000@www.taguelumber.com
SUMMARY:AIA Lunch & Learn — Earn 2 CEUs for FREE (Malvern)
DESCRIPTION:Join us for a FREE AIA Lunch & Learn\nEarn (2) AIA CEUs\nSession One:\nFactory Pre-Finishing of Exterior Building Products\nTime: 11:00 a.m. -12:00 p.m. Presented by Woodtone | 1 LU/HSW\nObjectives: Discover innovative exterior building products and techniques. Learn how to improve construction and maintenance schedules; understand the risks of traditional on-site painting and staining methods.  (WoodTone Product Van will be on-site for tours and demonstrations.)  \nNEW CEU COURSE from MARVIN !!\nSession Two:\nFenestration Solutions for Historic Rehabilitation Projects\nTime: 12:30 p.m.-1:30 p.m. Presented by Marvin | 1 LU/HSW HistoricRehab 4\nObjectives: This course will educate participants on the importance of fenestration in relation to the building’s exterior\, provide best practices to be employed and examine how Standards and Guidelines from the US Department of Interior are applied to window repair or window replacement. \nYou MUST register to attend Lunch & Learn seminars.\nCLICK HERE to register.
URL:https://www.taguelumber.com/event/aia-lunch-learn-earn-2-ceus-for-free-malvern/
LOCATION:Tague Design Showroom\, 181 Lancaster Avenue\, Malvern\, PA\, 19355\, United States
CATEGORIES:Design Showroom
GEO:40.043512;-75.537697
X-APPLE-STRUCTURED-LOCATION;VALUE=URI;X-ADDRESS=Tague Design Showroom 181 Lancaster Avenue Malvern PA 19355 United States;X-APPLE-RADIUS=500;X-TITLE=181 Lancaster Avenue:geo:-75.537697,40.043512
END:VEVENT
BEGIN:VEVENT
DTSTART;TZID=America/New_York:20240627T113000
DTEND;TZID=America/New_York:20240627T130000
DTSTAMP:20260424T133013
CREATED:20240520T181907Z
LAST-MODIFIED:20240617T175433Z
UID:10000651-1719487800-1719493200@www.taguelumber.com
SUMMARY:FREE Customer Appreciation Lunch at Tague Malvern Showroom
DESCRIPTION:The Meat Wagon/Swine Dining Lunch truck is BACK!\nJoin us for a FREE BBQ Lunch today\n(Thursday\, June 27)\nat Tague Design Showroom in Malvern\nEnjoy BBQ chicken\, pulled pork or Brisket sandwich along\nwith a side order\, plus a soda or water.\nVENDORS  •  DEMOS   •  PRIZES!\n 
URL:https://www.taguelumber.com/event/free-lunch-at-tague-malvern-showroom/
LOCATION:Tague Design Showroom\, 181 Lancaster Avenue\, Malvern\, PA\, 19355\, United States
CATEGORIES:Design Showroom
GEO:40.043512;-75.537697
X-APPLE-STRUCTURED-LOCATION;VALUE=URI;X-ADDRESS=Tague Design Showroom 181 Lancaster Avenue Malvern PA 19355 United States;X-APPLE-RADIUS=500;X-TITLE=181 Lancaster Avenue:geo:-75.537697,40.043512
END:VEVENT
END:VCALENDAR