BEGIN:VCALENDAR
VERSION:2.0
PRODID:-//Tague Lumber - ECPv6.15.18//NONSGML v1.0//EN
CALSCALE:GREGORIAN
METHOD:PUBLISH
X-WR-CALNAME:Tague Lumber
X-ORIGINAL-URL:https://www.taguelumber.com
X-WR-CALDESC:Events for Tague Lumber
REFRESH-INTERVAL;VALUE=DURATION:PT1H
X-Robots-Tag:noindex
X-PUBLISHED-TTL:PT1H
BEGIN:VTIMEZONE
TZID:America/New_York
BEGIN:DAYLIGHT
TZOFFSETFROM:-0500
TZOFFSETTO:-0400
TZNAME:EDT
DTSTART:20210314T070000
END:DAYLIGHT
BEGIN:STANDARD
TZOFFSETFROM:-0400
TZOFFSETTO:-0500
TZNAME:EST
DTSTART:20211107T060000
END:STANDARD
BEGIN:DAYLIGHT
TZOFFSETFROM:-0500
TZOFFSETTO:-0400
TZNAME:EDT
DTSTART:20220313T070000
END:DAYLIGHT
BEGIN:STANDARD
TZOFFSETFROM:-0400
TZOFFSETTO:-0500
TZNAME:EST
DTSTART:20221106T060000
END:STANDARD
BEGIN:DAYLIGHT
TZOFFSETFROM:-0500
TZOFFSETTO:-0400
TZNAME:EDT
DTSTART:20230312T070000
END:DAYLIGHT
BEGIN:STANDARD
TZOFFSETFROM:-0400
TZOFFSETTO:-0500
TZNAME:EST
DTSTART:20231105T060000
END:STANDARD
END:VTIMEZONE
BEGIN:VEVENT
DTSTART;VALUE=DATE:20220702
DTEND;VALUE=DATE:20220705
DTSTAMP:20260424T055344
CREATED:20220505T235124Z
LAST-MODIFIED:20220609T175652Z
UID:10000581-1656720000-1656979199@www.taguelumber.com
SUMMARY:July 4th Holiday Schedule
DESCRIPTION:All Tague Lumber\, Tague Design Showrooms\nand Premier DFH locations\nwill be CLOSED\nSaturday\, July 2nd   through   Monday\, July 4th\nin observance of Independence Day!\nWe will REOPEN on  Tuesday\, July 5th\nwith normal business hours.\n\nThank you and have a safe and happy 4th of July!
URL:https://www.taguelumber.com/event/july-4th-holiday-schedule-2/
LOCATION:Tague Lumber\, Media/Phila/Phoenixville
CATEGORIES:Design Showroom,Doylestown,Kennett Square,Media,Mill & Door Shop,Philadelphia,Phoenixville,Premier
GEO:40.1303822;-75.5149128
X-APPLE-STRUCTURED-LOCATION;VALUE=URI;X-ADDRESS=Tague Lumber Media/Phila/Phoenixville;X-APPLE-RADIUS=500;X-TITLE=Media/Phila/Phoenixville:geo:-75.5149128,40.1303822
END:VEVENT
BEGIN:VEVENT
DTSTART;VALUE=DATE:20220704
DTEND;VALUE=DATE:20220705
DTSTAMP:20260424T055344
CREATED:20220505T231555Z
LAST-MODIFIED:20220629T193105Z
UID:10000580-1656892800-1656979199@www.taguelumber.com
SUMMARY:July 4th Schedule
DESCRIPTION:All Tague Lumber\, Tague Design Showrooms\nand Premier DFH locations\nwill be CLOSED\nSaturday\, July 2nd   through   Monday\, July 4th\nin observance of Independence Day!\nWe will REOPEN on  Tuesday\, July 5th\nwith normal business hours.\n\nThank you and have a safe and happy 4th of July!
URL:https://www.taguelumber.com/event/memorial-day-schedule-3/
LOCATION:Tague Lumber\, Media/Phila/Phoenixville
CATEGORIES:Design Showroom,Doylestown,Kennett Square,Media,Mill & Door Shop,Philadelphia,Phoenixville,Premier
GEO:40.1303822;-75.5149128
X-APPLE-STRUCTURED-LOCATION;VALUE=URI;X-ADDRESS=Tague Lumber Media/Phila/Phoenixville;X-APPLE-RADIUS=500;X-TITLE=Media/Phila/Phoenixville:geo:-75.5149128,40.1303822
END:VEVENT
BEGIN:VEVENT
DTSTART;TZID=America/New_York:20220711T110000
DTEND;TZID=America/New_York:20220711T130000
DTSTAMP:20260424T055344
CREATED:20220628T030123Z
LAST-MODIFIED:20220628T032445Z
UID:10000589-1657537200-1657544400@www.taguelumber.com
SUMMARY:Nick's Roast Beef Truck - Tague of Doylestown
DESCRIPTION:Join us for a\nFREE LUNCH\nfrom Nick’s Roast Beef Truck\nat our Doylestown location\nMonday\, July 11\n11:00 – 1:00pm\n  \nDoor PRIZES and\nproduct information from these manufacturers:\nMarvin\nTruStile\nWeyerhaeuser\nTimberTech\nDiamond Kote\nREEB\nMadison Wood\nHuttig\nMetrie\nBaldwin\nTop Knobs\nand Tague Lumber’s Custom Mill!\n  \n  \n  \n  \n 
URL:https://www.taguelumber.com/event/nicks-roast-beef-lunch-truck-tague-of-doylestown/
LOCATION:Tague Lumber – Doylestown\, 6100 Easton Road\, Plumsteadville\, PA\, 18947\, United States
CATEGORIES:Doylestown
GEO:40.329846;-75.1293725
X-APPLE-STRUCTURED-LOCATION;VALUE=URI;X-ADDRESS=Tague Lumber – Doylestown 6100 Easton Road Plumsteadville PA 18947 United States;X-APPLE-RADIUS=500;X-TITLE=6100 Easton Road:geo:-75.1293725,40.329846
END:VEVENT
BEGIN:VEVENT
DTSTART;TZID=America/New_York:20220712T110000
DTEND;TZID=America/New_York:20220712T130000
DTSTAMP:20260424T055344
CREATED:20220628T030641Z
LAST-MODIFIED:20220628T030641Z
UID:10000590-1657623600-1657630800@www.taguelumber.com
SUMMARY:Nick's Roast Beef Truck - Tague of Kennett Sq.
DESCRIPTION:Join us for a\nFREE LUNCH\nfrom Nick’s Roast Beef Truck\nat our Kennett Square location\nTuesday\, July 12\n11:00 – 1:00pm\n\nDoor PRIZES and\nproduct information from these manufacturers:\nMarvin\nWeyerhaeuser\nTimberTech\nDiamond Kote\nREEB\nMadison Wood\nMetrie\nBaldwin\nTop Knobs\nand Tague Lumber’s Custom Mill!
URL:https://www.taguelumber.com/event/nicks-roast-beef-truck-tague-of-kennett-sq/
LOCATION:Tague Lumber – Kennett Sq.\, 475 McFarlan Road\, Kennett Square\, 19348\, United States
CATEGORIES:Kennett Square
GEO:39.8452967;-75.692673
X-APPLE-STRUCTURED-LOCATION;VALUE=URI;X-ADDRESS=Tague Lumber – Kennett Sq. 475 McFarlan Road Kennett Square 19348 United States;X-APPLE-RADIUS=500;X-TITLE=475 McFarlan Road:geo:-75.692673,39.8452967
END:VEVENT
BEGIN:VEVENT
DTSTART;TZID=America/New_York:20220713T110000
DTEND;TZID=America/New_York:20220713T130000
DTSTAMP:20260424T055344
CREATED:20220628T031030Z
LAST-MODIFIED:20220628T031030Z
UID:10000591-1657710000-1657717200@www.taguelumber.com
SUMMARY:Nick's Roast Beef Truck — Tague of Philadelphia
DESCRIPTION:Join us for a\nFREE LUNCH\nfrom Nick’s Roast Beef Truck\nat our Philadelphia location\nWednesday\, July 13\n11:00 – 1:00pm\n\nDoor PRIZES and\nproduct information from these manufacturers:\nMarvin\nWeyerhaeuser\nTimberTech\nDiamond Kote\nBenjamin Obdyke\nMadison Wood\nAZEK\nMetrie\nBaldwin\nTop Knobs\nand Tague Lumber’s Custom Mill!
URL:https://www.taguelumber.com/event/nicks-roast-beef-truck-tague-of-philadelphia/
LOCATION:Tague Lumber of Phila\, 560 E. High Street\, Philadelphia\, PA\, 19144\, United States
CATEGORIES:Philadelphia
GEO:40.0463483;-75.1701749
X-APPLE-STRUCTURED-LOCATION;VALUE=URI;X-ADDRESS=Tague Lumber of Phila 560 E. High Street Philadelphia PA 19144 United States;X-APPLE-RADIUS=500;X-TITLE=560 E. High Street:geo:-75.1701749,40.0463483
END:VEVENT
BEGIN:VEVENT
DTSTART;TZID=America/New_York:20220714T110000
DTEND;TZID=America/New_York:20220714T130000
DTSTAMP:20260424T055344
CREATED:20220628T031518Z
LAST-MODIFIED:20220628T031518Z
UID:10000592-1657796400-1657803600@www.taguelumber.com
SUMMARY:Nick's Roast Beef Truck — Tague of Phoenixville
DESCRIPTION:Join us for a\nFREE LUNCH\nfrom Nick’s Roast Beef Truck\nat our Phoenixville location\nThursday\, July 14\n11:00 – 1:00pm\n\nDoor PRIZES and\nproduct information from these manufacturers:\nMarvin\nWeyerhaeuser\nTimberTech\nDiamond Kote\nSimpson Strong-Tie\nMetrie\nIntex\nBaldwin\nTop Knobs\nand Tague Lumber’s Custom Mill!
URL:https://www.taguelumber.com/event/nicks-roast-beef-truck-tague-of-phoenixville/
LOCATION:Tague Lumber in Phoenixville\, 405 Bridge Street\, Phoenixville\, PA\, 19460\, United States
CATEGORIES:Phoenixville
GEO:40.132012;-75.523179
X-APPLE-STRUCTURED-LOCATION;VALUE=URI;X-ADDRESS=Tague Lumber in Phoenixville 405 Bridge Street Phoenixville PA 19460 United States;X-APPLE-RADIUS=500;X-TITLE=405 Bridge Street:geo:-75.523179,40.132012
END:VEVENT
BEGIN:VEVENT
DTSTART;TZID=America/New_York:20220715T110000
DTEND;TZID=America/New_York:20220715T133000
DTSTAMP:20260424T055344
CREATED:20220628T032130Z
LAST-MODIFIED:20220801T002455Z
UID:10000593-1657882800-1657891800@www.taguelumber.com
SUMMARY:AIA Lunch & Learn with Nick's Roast Beef Truck  (8/15) at Tague Malvern Showroom
DESCRIPTION:Join us for a\nFREE LUNCH\nfrom Nick’s Roast Beef Truck\nAND  Earn (2) AIA CEUs\nat our Malvern Showroom\nFriday\, July 15\n11:00 – 1:00pm\nDoor PRIZES and\nproduct information from these manufacturers:\nTimberTech\nWeyerhaeuser\nMasonite\nTimberTech\nDiamond Kote\nBenjamin Obdyke\nSimpson Strong-Tie\nMasterbrand\nBaldwin\nTop Knobs\nIntex\nand Tague Lumber’s Custom Mill!
URL:https://www.taguelumber.com/event/aia-lunch-learn-with-nicks-roast-beef-truck-tague-malvern-showroom/
LOCATION:Tague Design Showroom\, 181 Lancaster Avenue\, Malvern\, PA\, 19355\, United States
CATEGORIES:Design Showroom
GEO:40.043512;-75.537697
X-APPLE-STRUCTURED-LOCATION;VALUE=URI;X-ADDRESS=Tague Design Showroom 181 Lancaster Avenue Malvern PA 19355 United States;X-APPLE-RADIUS=500;X-TITLE=181 Lancaster Avenue:geo:-75.537697,40.043512
END:VEVENT
END:VCALENDAR