BEGIN:VCALENDAR
VERSION:2.0
PRODID:-//Tague Lumber - ECPv6.15.18//NONSGML v1.0//EN
CALSCALE:GREGORIAN
METHOD:PUBLISH
X-ORIGINAL-URL:https://www.taguelumber.com
X-WR-CALDESC:Events for Tague Lumber
REFRESH-INTERVAL;VALUE=DURATION:PT1H
X-Robots-Tag:noindex
X-PUBLISHED-TTL:PT1H
BEGIN:VTIMEZONE
TZID:UTC
BEGIN:STANDARD
TZOFFSETFROM:+0000
TZOFFSETTO:+0000
TZNAME:UTC
DTSTART:20130101T000000
END:STANDARD
END:VTIMEZONE
BEGIN:VEVENT
DTSTART;TZID=UTC:20141023T110000
DTEND;TZID=UTC:20141023T160000
DTSTAMP:20260424T081123
CREATED:20140918T194035Z
LAST-MODIFIED:20140925T022740Z
UID:10000352-1414062000-1414080000@www.taguelumber.com
SUMMARY:Philadelphia Magazine's 2014 Design Home Tours
DESCRIPTION:Tague Design Showroom and Tague Lumber are proud participants of Philadelphia Magazine’s Design Home 2014.  From the breathtaking gourmet kitchen to the stunning custom cabinetry in the bathrooms\, laundry rooms\, and bar areas; from the windows\, doors\, and hardware down to the very lumber used to frame the house — the craftsmanship and innovative designs of the Tague Design Showroom and the quality building materials from Tague Lumber will be on display in the beautiful 2014 Design Home.\nLOCATION:  622 E. Gravers Lane\, Wyndmoor\, PA\nTOURS:  Design Home will be open from Thursday\, Oct. 23 through Sunday\, November 16th. Tours are only given on Thursdays\, Saturday\, Sunday and Monday from 11:00 am – 4:00 pm (closed Tuesday & Wednesday\, Friday). All proceeds benefit MANNA.\nFor more information on tickets & tours:   http://www.phillymag.com/designhome2014/\n 
URL:https://www.taguelumber.com/event/philadelphia-magazines-2014-design-home-tours/
LOCATION:Design Home 2014\, 622 E Gravers Ln\, Wyndmoor\, PA\, 19038\, United States
CATEGORIES:Design Showroom
GEO:40.08327;-75.19596
X-APPLE-STRUCTURED-LOCATION;VALUE=URI;X-ADDRESS=DESCRIPTION:Tague Design Showroom and Tague Lumber are proud participants of Philadelphia Magazine’s Design Home 2014.  From the breathtaking gourmet kitchen to the stunning custom cabinetry in the bathrooms laundry rooms and bar areas; from the windows doors and hardware down to the very lumber used to frame the house — the craftsmanship and innovative designs of the Tague Design Showroom and the quality building materials from Tague Lumber will be on display in the beautiful 2014 Design Home.\n  622 E. Gravers Lane Wyndmoor PA\nTOURS:  Design Home will be open from Thursday Oct. 23 through Sunday November 16th. Tours are only given on Thursdays Saturday Sunday and Monday from 11:00 am – 4:00 pm (closed Tuesday & Wednesday Friday). All proceeds benefit MANNA.\nFor more information on tickets & tours:   http://www.phillymag.com/designhome2014/\n ;X-APPLE-RADIUS=500;X-TITLE=622 E Gravers Ln:geo:-75.19596,40.08327
END:VEVENT
BEGIN:VEVENT
DTSTART;TZID=UTC:20141025T110000
DTEND;TZID=UTC:20141025T160000
DTSTAMP:20260424T081123
CREATED:20140925T014913Z
LAST-MODIFIED:20140925T015313Z
UID:10000353-1414234800-1414252800@www.taguelumber.com
SUMMARY:Philadelphia Magazine's 2014 Design Home Tours
DESCRIPTION:Tague Design Showroom and Tague Lumber are proud participants of Philadelphia Magazine’s Design Home 2014.  From the breathtaking gourmet kitchen to the stunning custom cabinetry in the bathrooms\, laundry rooms\, and bar areas; from the windows\, doors\, and hardware down to the very lumber used to frame the house — the craftsmanship and innovative designs of the Tague Design Showroom and the quality building materials from Tague Lumber will be on display in the beautiful 2014 Design Home.\nLOCATION:  622 E. Gravers Lane\, Wyndmoor\, PA\nTOURS:  Design Home will be open from Thursday\, Oct. 23 through Sunday\, November 16th. Tours are only given on Thursdays\, Saturday\, Sunday and Monday from 11:00 am – 4:00 pm (closed Tuesday & Wednesday\, Friday). All proceeds benefit MANNA.\nFor more information on tickets & tours:   http://www.phillymag.com/designhome2014/
URL:https://www.taguelumber.com/event/philadelphia-magazines-design-home-tours/
CATEGORIES:Design Showroom
END:VEVENT
BEGIN:VEVENT
DTSTART;TZID=UTC:20141026T110000
DTEND;TZID=UTC:20141026T160000
DTSTAMP:20260424T081123
CREATED:20140925T015211Z
LAST-MODIFIED:20140925T015231Z
UID:10000354-1414321200-1414339200@www.taguelumber.com
SUMMARY:Philadelphia Magazine's 2014 Design Home Tours
DESCRIPTION:Tague Design Showroom and Tague Lumber are proud participants of Philadelphia Magazine’s Design Home 2014.  From the breathtaking gourmet kitchen to the stunning custom cabinetry in the bathrooms\, laundry rooms\, and bar areas; from the windows\, doors\, and hardware down to the very lumber used to frame the house — the craftsmanship and innovative designs of the Tague Design Showroom and the quality building materials from Tague Lumber will be on display in the beautiful 2014 Design Home.\nLOCATION:  622 E. Gravers Lane\, Wyndmoor\, PA\nTOURS:  Design Home will be open from Thursday\, Oct. 23 through Sunday\, November 16th. Tours are only given on Thursdays\, Saturday\, Sunday and Monday from 11:00 am – 4:00 pm (closed Tuesday & Wednesday\, Friday). All proceeds benefit MANNA.\nFor more information on tickets & tours:   http://www.phillymag.com/designhome2014/\n 
URL:https://www.taguelumber.com/event/philadelphia-magazines-2014-design-home-tours-2/
LOCATION:Design Home 2014\, 622 E Gravers Ln\, Wyndmoor\, PA\, 19038\, United States
CATEGORIES:Design Showroom
GEO:40.08327;-75.19596
X-APPLE-STRUCTURED-LOCATION;VALUE=URI;X-ADDRESS=DESCRIPTION:Tague Design Showroom and Tague Lumber are proud participants of Philadelphia Magazine’s Design Home 2014.  From the breathtaking gourmet kitchen to the stunning custom cabinetry in the bathrooms laundry rooms and bar areas; from the windows doors and hardware down to the very lumber used to frame the house — the craftsmanship and innovative designs of the Tague Design Showroom and the quality building materials from Tague Lumber will be on display in the beautiful 2014 Design Home.\n  622 E. Gravers Lane Wyndmoor PA\nTOURS:  Design Home will be open from Thursday Oct. 23 through Sunday November 16th. Tours are only given on Thursdays Saturday Sunday and Monday from 11:00 am – 4:00 pm (closed Tuesday & Wednesday Friday). All proceeds benefit MANNA.\nFor more information on tickets & tours:   http://www.phillymag.com/designhome2014/\n ;X-APPLE-RADIUS=500;X-TITLE=622 E Gravers Ln:geo:-75.19596,40.08327
END:VEVENT
BEGIN:VEVENT
DTSTART;TZID=UTC:20141027T110000
DTEND;TZID=UTC:20141027T160000
DTSTAMP:20260424T081123
CREATED:20140925T015517Z
LAST-MODIFIED:20140925T015517Z
UID:10000355-1414407600-1414425600@www.taguelumber.com
SUMMARY:Philadelphia Magazine's 2014 Design Home Tours
DESCRIPTION:Tague Design Showroom and Tague Lumber are proud participants of Philadelphia Magazine’s Design Home 2014.  From the breathtaking gourmet kitchen to the stunning custom cabinetry in the bathrooms\, laundry rooms\, and bar areas; from the windows\, doors\, and hardware down to the very lumber used to frame the house — the craftsmanship and innovative designs of the Tague Design Showroom and the quality building materials from Tague Lumber will be on display in the beautiful 2014 Design Home.\nLOCATION:  622 E. Gravers Lane\, Wyndmoor\, PA\nTOURS:  Design Home will be open from Thursday\, Oct. 23 through Sunday\, November 16th. Tours are only given on Thursdays\, Saturday\, Sunday and Monday from 11:00 am – 4:00 pm (closed Tuesday & Wednesday\, Friday). All proceeds benefit MANNA.\nFor more information on tickets & tours:   http://www.phillymag.com/designhome2014/\n 
URL:https://www.taguelumber.com/event/philadelphia-magazines-2014-design-home-tours-3/
LOCATION:Design Home 2014\, 622 E Gravers Ln\, Wyndmoor\, PA\, 19038\, United States
CATEGORIES:Design Showroom
GEO:40.08327;-75.19596
X-APPLE-STRUCTURED-LOCATION;VALUE=URI;X-ADDRESS=DESCRIPTION:Tague Design Showroom and Tague Lumber are proud participants of Philadelphia Magazine’s Design Home 2014.  From the breathtaking gourmet kitchen to the stunning custom cabinetry in the bathrooms laundry rooms and bar areas; from the windows doors and hardware down to the very lumber used to frame the house — the craftsmanship and innovative designs of the Tague Design Showroom and the quality building materials from Tague Lumber will be on display in the beautiful 2014 Design Home.\n  622 E. Gravers Lane Wyndmoor PA\nTOURS:  Design Home will be open from Thursday Oct. 23 through Sunday November 16th. Tours are only given on Thursdays Saturday Sunday and Monday from 11:00 am – 4:00 pm (closed Tuesday & Wednesday Friday). All proceeds benefit MANNA.\nFor more information on tickets & tours:   http://www.phillymag.com/designhome2014/\n ;X-APPLE-RADIUS=500;X-TITLE=622 E Gravers Ln:geo:-75.19596,40.08327
END:VEVENT
BEGIN:VEVENT
DTSTART;TZID=UTC:20141029T180000
DTEND;TZID=UTC:20141029T200000
DTSTAMP:20260424T081123
CREATED:20140925T021840Z
LAST-MODIFIED:20140925T021840Z
UID:10000371-1414605600-1414612800@www.taguelumber.com
SUMMARY:Ladies Night at Philadelphia Magazine's 2014 Design Home
DESCRIPTION:Enjoy a special LADIES only night at the Design Home!\n  \nTague Design Showroom and Tague Lumber are proud participants of Philadelphia Magazine’s Design Home 2014.  From the breathtaking gourmet kitchen to the stunning custom cabinetry in the bathrooms\, laundry rooms\, and bar areas; from the windows\, doors\, and hardware down to the very lumber used to frame the house — the craftsmanship and innovative designs of the Tague Design Showroom and the quality building materials from Tague Lumber will be on display in the beautiful 2014 Design Home.\nLOCATION:  622 E. Gravers Lane\, Wyndmoor\, PA\nTOURS:  Design Home will be open from Thursday\, Oct. 23 through Sunday\, November 16th. Tours are only given on Thursdays\, Saturday\, Sunday and Monday from 11:00 am – 4:00 pm (closed Tuesday & Wednesday\, Friday). All proceeds benefit MANNA.\nFor more information on tickets & tours:   http://www.phillymag.com/designhome2014/
URL:https://www.taguelumber.com/event/ladies-night-at-philadelphia-magazines-2014-design-home/
LOCATION:Design Home 2014\, 622 E Gravers Ln\, Wyndmoor\, PA\, 19038\, United States
CATEGORIES:Design Showroom
GEO:40.08327;-75.19596
X-APPLE-STRUCTURED-LOCATION;VALUE=URI;X-ADDRESS=DESCRIPTION:Enjoy a special LADIES only night at the Design Home!\n  \nTague Design Showroom and Tague Lumber are proud participants of Philadelphia Magazine’s Design Home 2014.  From the breathtaking gourmet kitchen to the stunning custom cabinetry in the bathrooms laundry rooms and bar areas; from the windows doors and hardware down to the very lumber used to frame the house — the craftsmanship and innovative designs of the Tague Design Showroom and the quality building materials from Tague Lumber will be on display in the beautiful 2014 Design Home.\n  622 E. Gravers Lane Wyndmoor PA\nTOURS:  Design Home will be open from Thursday Oct. 23 through Sunday November 16th. Tours are only given on Thursdays Saturday Sunday and Monday from 11:00 am – 4:00 pm (closed Tuesday & Wednesday Friday). All proceeds benefit MANNA.\nFor more information on tickets & tours:   http://www.phillymag.com/designhome2014/;X-APPLE-RADIUS=500;X-TITLE=622 E Gravers Ln:geo:-75.19596,40.08327
END:VEVENT
BEGIN:VEVENT
DTSTART;TZID=UTC:20141030T110000
DTEND;TZID=UTC:20141030T160000
DTSTAMP:20260424T081123
CREATED:20140925T015643Z
LAST-MODIFIED:20140925T015643Z
UID:10000356-1414666800-1414684800@www.taguelumber.com
SUMMARY:Philadelphia Magazine's 2014 Design Home
DESCRIPTION:Tague Design Showroom and Tague Lumber are proud participants of Philadelphia Magazine’s Design Home 2014.  From the breathtaking gourmet kitchen to the stunning custom cabinetry in the bathrooms\, laundry rooms\, and bar areas; from the windows\, doors\, and hardware down to the very lumber used to frame the house — the craftsmanship and innovative designs of the Tague Design Showroom and the quality building materials from Tague Lumber will be on display in the beautiful 2014 Design Home.\nLOCATION:  622 E. Gravers Lane\, Wyndmoor\, PA\nTOURS:  Design Home will be open from Thursday\, Oct. 23 through Sunday\, November 16th. Tours are only given on Thursdays\, Saturday\, Sunday and Monday from 11:00 am – 4:00 pm (closed Tuesday & Wednesday\, Friday). All proceeds benefit MANNA.\nFor more information on tickets & tours:   http://www.phillymag.com/designhome2014/\n 
URL:https://www.taguelumber.com/event/philadelphia-magazines-2014-design-home/
LOCATION:Design Home 2014\, 622 E Gravers Ln\, Wyndmoor\, PA\, 19038\, United States
CATEGORIES:Design Showroom
GEO:40.08327;-75.19596
X-APPLE-STRUCTURED-LOCATION;VALUE=URI;X-ADDRESS=DESCRIPTION:Tague Design Showroom and Tague Lumber are proud participants of Philadelphia Magazine’s Design Home 2014.  From the breathtaking gourmet kitchen to the stunning custom cabinetry in the bathrooms laundry rooms and bar areas; from the windows doors and hardware down to the very lumber used to frame the house — the craftsmanship and innovative designs of the Tague Design Showroom and the quality building materials from Tague Lumber will be on display in the beautiful 2014 Design Home.\n  622 E. Gravers Lane Wyndmoor PA\nTOURS:  Design Home will be open from Thursday Oct. 23 through Sunday November 16th. Tours are only given on Thursdays Saturday Sunday and Monday from 11:00 am – 4:00 pm (closed Tuesday & Wednesday Friday). All proceeds benefit MANNA.\nFor more information on tickets & tours:   http://www.phillymag.com/designhome2014/\n ;X-APPLE-RADIUS=500;X-TITLE=622 E Gravers Ln:geo:-75.19596,40.08327
END:VEVENT
END:VCALENDAR