BEGIN:VCALENDAR
VERSION:2.0
PRODID:-//Tague Lumber - ECPv6.15.18//NONSGML v1.0//EN
CALSCALE:GREGORIAN
METHOD:PUBLISH
X-ORIGINAL-URL:https://www.taguelumber.com
X-WR-CALDESC:Events for Tague Lumber
REFRESH-INTERVAL;VALUE=DURATION:PT1H
X-Robots-Tag:noindex
X-PUBLISHED-TTL:PT1H
BEGIN:VTIMEZONE
TZID:UTC
BEGIN:STANDARD
TZOFFSETFROM:+0000
TZOFFSETTO:+0000
TZNAME:UTC
DTSTART:20120101T000000
END:STANDARD
END:VTIMEZONE
BEGIN:VEVENT
DTSTART;VALUE=DATE:20130925
DTEND;VALUE=DATE:20130926
DTSTAMP:20260424T100421
CREATED:20130703T170654Z
LAST-MODIFIED:20130805T163053Z
UID:10000330-1380067200-1380153599@www.taguelumber.com
SUMMARY:Katz RoadShow at Tague Lumber
DESCRIPTION:The Katz RoadShow returns to Tague for a full day of hands-on clinics and workshops \nWed.\, September 25\, 2013 \nat Tague Design Showroom in Malvern\, PA \nTague Lumber is proud to offer one day of FREE hands-on building clinics with Gary Katz\, finish carpentry specialist and a nationally recognized author & teacher. These clinics will highlight the latest materials from Moulding & Millwork\, Princeton Classic Mouldings\, Kleer Trimboard\, and TruStile Doors. Don’t miss this educational opportunity as well as the special discounts\, giveaways\, and coupons. Complimentary breakfast and lunch will be served. Each session will last 1 hour and cover the following topics: \nSESSION #1 — Durable Exterior Trim (Sponsored by KLEER)• The five D’s: design\, deflection\, diffusion…• Moisture content and wood movement• Temperature and PVC movement• PVC adhesives\, fillers\, and finishes \nSESSION #2— Problem-free Prefit Doors (Sponsored by TruStile Doors)• Preparing rough openings properly• Solving cross-leg walls and jambs• 1-2-3 plan for fastening hinge jambs• Hinge adjustments that work \nSESSION #3 — Architectural Details (Sponsored by Princeton Classic Mouldings)• Building a Craftsman Style window or door head• Understanding protractor and miter-gauge angles• Using pitch and rise to determine miters• Installing crown moulding on a raked pediment \nSESSION #4 — Installing Baseboard & Crown Moulding (Sponsored by Moulding & Millwork)• Efficient cut list for crown and baseboard• Move to the left for baseboard• Move to the right for crown• Coping baseboard and crown \n 
URL:https://www.taguelumber.com/event/katz-roadshow-at-tague-lumber/
LOCATION:Tague Design Showroom\, 181 Lancaster Avenue\, Malvern\, PA\, 19355\, United States
GEO:40.043512;-75.537697
X-APPLE-STRUCTURED-LOCATION;VALUE=URI;X-ADDRESS=Tague Design Showroom 181 Lancaster Avenue Malvern PA 19355 United States;X-APPLE-RADIUS=500;X-TITLE=181 Lancaster Avenue:geo:-75.537697,40.043512
END:VEVENT
END:VCALENDAR