BEGIN:VCALENDAR
VERSION:2.0
PRODID:-//Tague Lumber - ECPv6.15.18//NONSGML v1.0//EN
CALSCALE:GREGORIAN
METHOD:PUBLISH
X-WR-CALNAME:Tague Lumber
X-ORIGINAL-URL:https://www.taguelumber.com
X-WR-CALDESC:Events for Tague Lumber
REFRESH-INTERVAL;VALUE=DURATION:PT1H
X-Robots-Tag:noindex
X-PUBLISHED-TTL:PT1H
BEGIN:VTIMEZONE
TZID:America/New_York
BEGIN:DAYLIGHT
TZOFFSETFROM:-0500
TZOFFSETTO:-0400
TZNAME:EDT
DTSTART:20120311T070000
END:DAYLIGHT
BEGIN:STANDARD
TZOFFSETFROM:-0400
TZOFFSETTO:-0500
TZNAME:EST
DTSTART:20121104T060000
END:STANDARD
BEGIN:DAYLIGHT
TZOFFSETFROM:-0500
TZOFFSETTO:-0400
TZNAME:EDT
DTSTART:20130310T070000
END:DAYLIGHT
BEGIN:STANDARD
TZOFFSETFROM:-0400
TZOFFSETTO:-0500
TZNAME:EST
DTSTART:20131103T060000
END:STANDARD
BEGIN:DAYLIGHT
TZOFFSETFROM:-0500
TZOFFSETTO:-0400
TZNAME:EDT
DTSTART:20140309T070000
END:DAYLIGHT
BEGIN:STANDARD
TZOFFSETFROM:-0400
TZOFFSETTO:-0500
TZNAME:EST
DTSTART:20141102T060000
END:STANDARD
END:VTIMEZONE
BEGIN:VEVENT
DTSTART;TZID=America/New_York:20130613T180000
DTEND;TZID=America/New_York:20130613T200000
DTSTAMP:20260424T115343
CREATED:20130420T005531Z
LAST-MODIFIED:20130420T005531Z
UID:10000315-1371146400-1371153600@www.taguelumber.com
SUMMARY:"Top Dentists" Awards Presentation at Tague Showroom
DESCRIPTION:Tague Showroom hosts “Top Dentist” Awards Presentation by Main Line Today Magazine\nTague Design Showroom is proud to host the annual presentation of the “Top Dentists” Awards from the publishers of Main Line Today Magazine. Join us as we congratulate “the best” dental practices in the region as voted by their peers. Traditional Dental and Specialty Dental Practices on the Main Line are recognized and celebrated at this event. \nDATE:  Thursday\, June 13\, 2013 \nTIME:  6:00 – 8:00 pm \nLOCATION:  Tague Design Showroom \nRSVP:  marketing@taguelumber.com
URL:https://www.taguelumber.com/event/top-dentists-awards-presentation-at-tague-showroom/
LOCATION:Tague Design Showroom\, 181 Lancaster Avenue\, Malvern\, PA\, 19355\, United States
GEO:40.043512;-75.537697
X-APPLE-STRUCTURED-LOCATION;VALUE=URI;X-ADDRESS=DESCRIPTION:Tague Showroom hosts “Top Dentist” Awards Presentation by Main Line Today Magazine\nTague Design Showroom is proud to host the annual presentation of the “Top Dentists” Awards from the publishers of Main Line Today Magazine. Join us as we congratulate “the best” dental practices in the region as voted by their peers. Traditional Dental and Specialty Dental Practices on the Main Line are recognized and celebrated at this event. \nDATE:  Thursday June 13 2013 \nTIME:  6:00 – 8:00 pm \n  Tague Design Showroom \nRSVP:  marketing@taguelumber.com;X-APPLE-RADIUS=500;X-TITLE=181 Lancaster Avenue:geo:-75.537697,40.043512
END:VEVENT
BEGIN:VEVENT
DTSTART;TZID=America/New_York:20130619T080000
DTEND;TZID=America/New_York:20130619T130000
DTSTAMP:20260424T115343
CREATED:20130507T021955Z
LAST-MODIFIED:20130507T022344Z
UID:10000316-1371628800-1371646800@www.taguelumber.com
SUMMARY:Paslode Tool Trade-in & Cleaning Days -- Media location
DESCRIPTION: 
URL:https://www.taguelumber.com/event/paslode-tool-trade-in-cleaning-days/
LOCATION:Tague Lumber in Media\, 325 Media Station Road\, Media\, PA\, 19063\, United States
GEO:39.914326;-75.396747
X-APPLE-STRUCTURED-LOCATION;VALUE=URI;X-ADDRESS=Tague Lumber in Media 325 Media Station Road Media PA 19063 United States;X-APPLE-RADIUS=500;X-TITLE=325 Media Station Road:geo:-75.396747,39.914326
END:VEVENT
BEGIN:VEVENT
DTSTART;TZID=America/New_York:20130620T080000
DTEND;TZID=America/New_York:20130620T130000
DTSTAMP:20260424T115343
CREATED:20130507T022150Z
LAST-MODIFIED:20130507T022318Z
UID:10000317-1371715200-1371733200@www.taguelumber.com
SUMMARY:Paslode Tool Trade-in & Cleaning Days -- Phoenixville location
DESCRIPTION:
URL:https://www.taguelumber.com/event/paslode-tool-trade-in-cleaning-days-2/
LOCATION:Tague Lumber in Phoenixville\, 405 Bridge Street\, Phoenixville\, PA\, 19460\, United States
GEO:40.132012;-75.523179
X-APPLE-STRUCTURED-LOCATION;VALUE=URI;X-ADDRESS=Tague Lumber in Phoenixville 405 Bridge Street Phoenixville PA 19460 United States;X-APPLE-RADIUS=500;X-TITLE=405 Bridge Street:geo:-75.523179,40.132012
END:VEVENT
END:VCALENDAR