BEGIN:VCALENDAR
VERSION:2.0
PRODID:-//Tague Lumber - ECPv6.15.18//NONSGML v1.0//EN
CALSCALE:GREGORIAN
METHOD:PUBLISH
X-ORIGINAL-URL:https://www.taguelumber.com
X-WR-CALDESC:Events for Tague Lumber
REFRESH-INTERVAL;VALUE=DURATION:PT1H
X-Robots-Tag:noindex
X-PUBLISHED-TTL:PT1H
BEGIN:VTIMEZONE
TZID:America/New_York
BEGIN:DAYLIGHT
TZOFFSETFROM:-0500
TZOFFSETTO:-0400
TZNAME:EDT
DTSTART:20250309T070000
END:DAYLIGHT
BEGIN:STANDARD
TZOFFSETFROM:-0400
TZOFFSETTO:-0500
TZNAME:EST
DTSTART:20251102T060000
END:STANDARD
BEGIN:DAYLIGHT
TZOFFSETFROM:-0500
TZOFFSETTO:-0400
TZNAME:EDT
DTSTART:20260308T070000
END:DAYLIGHT
BEGIN:STANDARD
TZOFFSETFROM:-0400
TZOFFSETTO:-0500
TZNAME:EST
DTSTART:20261101T060000
END:STANDARD
BEGIN:DAYLIGHT
TZOFFSETFROM:-0500
TZOFFSETTO:-0400
TZNAME:EDT
DTSTART:20270314T070000
END:DAYLIGHT
BEGIN:STANDARD
TZOFFSETFROM:-0400
TZOFFSETTO:-0500
TZNAME:EST
DTSTART:20271107T060000
END:STANDARD
BEGIN:DAYLIGHT
TZOFFSETFROM:-0500
TZOFFSETTO:-0400
TZNAME:EDT
DTSTART:20280312T070000
END:DAYLIGHT
BEGIN:STANDARD
TZOFFSETFROM:-0400
TZOFFSETTO:-0500
TZNAME:EST
DTSTART:20281105T060000
END:STANDARD
END:VTIMEZONE
BEGIN:VEVENT
DTSTART;VALUE=DATE:20260523
DTEND;VALUE=DATE:20260526
DTSTAMP:20260422T235828
CREATED:20260420T193434Z
LAST-MODIFIED:20260420T195942Z
UID:10000686-1779494400-1779753599@www.taguelumber.com
SUMMARY:Memorial Day 2026 -- Holiday Schedule
DESCRIPTION:ALL Tague Lumber\, Tague Design Showrooms\, and\nPremier Door\, Frame & Hardware locations\nwill be CLOSED:\nSaturday\, May 23 through\nMonday\, May 25\nin observation of Memorial Day.\nWe will REOPEN with normal business hours on\nTuesday\, May 26th.\nThank you and have a safe and happy Memorial Day!\n  \n  \n 
URL:https://www.taguelumber.com/event/memorial-day-2026-holiday-schedule/
LOCATION:Tague Lumber\, Media/Phila/Phoenixville
CATEGORIES:Design Showroom,Doylestown,Kennett Square,Media,Mill & Door Shop,Philadelphia,Phoenixville,Premier
GEO:40.1303822;-75.5149128
X-APPLE-STRUCTURED-LOCATION;VALUE=URI;X-ADDRESS=Tague Lumber Media/Phila/Phoenixville;X-APPLE-RADIUS=500;X-TITLE=Media/Phila/Phoenixville:geo:-75.5149128,40.1303822
END:VEVENT
BEGIN:VEVENT
DTSTART;VALUE=DATE:20260704
DTEND;VALUE=DATE:20260705
DTSTAMP:20260422T235828
CREATED:20260420T193958Z
LAST-MODIFIED:20260420T193958Z
UID:10000687-1783123200-1783209599@www.taguelumber.com
SUMMARY:July 4\, 2026  Holiday Schedule
DESCRIPTION:Please NOTE:\nIn observance of Independence Day\nall Tague Lumber locations\,\nTague Design Showrooms\nand Premier DFH locations will be\nCLOSED  on:\nSaturday\, July 4th\nWe will REOPEN on Monday\, July 6th\nwith normal business hours.\nWishing you a safe and happy 4th of July!\n 
URL:https://www.taguelumber.com/event/july-4-2026-holiday-schedule/
LOCATION:Tague Lumber\, Media/Phila/Phoenixville
CATEGORIES:Design Showroom,Doylestown,Kennett Square,Media,Mill & Door Shop,Philadelphia,Phoenixville,Premier
GEO:40.1303822;-75.5149128
X-APPLE-STRUCTURED-LOCATION;VALUE=URI;X-ADDRESS=Tague Lumber Media/Phila/Phoenixville;X-APPLE-RADIUS=500;X-TITLE=Media/Phila/Phoenixville:geo:-75.5149128,40.1303822
END:VEVENT
BEGIN:VEVENT
DTSTART;VALUE=DATE:20260905
DTEND;VALUE=DATE:20260908
DTSTAMP:20260422T235828
CREATED:20260420T194538Z
LAST-MODIFIED:20260420T194636Z
UID:10000688-1788566400-1788825599@www.taguelumber.com
SUMMARY:Labor Day Schedule 2026
DESCRIPTION:All Tague Lumber and Premier DFH locations\nwill be CLOSED\nSaturday\, Sept. 5th\nAND\nMonday\, September 7th\nin observance of Labor Day!\nWe will REOPEN on  Tuesday\, September 8th\nwith normal business hours.\nThank you and have a safe and happy Labor Day Holiday!
URL:https://www.taguelumber.com/event/labor-day-schedule-2026/
LOCATION:Tague Lumber\, Media/Phila/Phoenixville\, PA\, United States
CATEGORIES:Design Showroom,Doylestown,Kennett Square,Media,Mill & Door Shop,Philadelphia,Phoenixville,Premier
GEO:40.1303822;-75.5149128
X-APPLE-STRUCTURED-LOCATION;VALUE=URI;X-ADDRESS=Tague Lumber Media/Phila/Phoenixville PA United States;X-APPLE-RADIUS=500;X-TITLE=Media/Phila/Phoenixville:geo:-75.5149128,40.1303822
END:VEVENT
BEGIN:VEVENT
DTSTART;VALUE=DATE:20261126
DTEND;VALUE=DATE:20261127
DTSTAMP:20260422T235828
CREATED:20260420T194933Z
LAST-MODIFIED:20260420T194955Z
UID:10000689-1795651200-1795737599@www.taguelumber.com
SUMMARY:Thanksgiving Holiday 2026
DESCRIPTION:All Tague Lumber\, Tague Design Showrooms\, and\nPremier DFH locations will be CLOSED\nThursday\, November 26th\nto allow our employees to celebrate Thanksgiving with their families.\n  \nWe will REOPEN with normal business hours\non Friday\, Nov. 27th\nWe wish all our valued customers and their families\na very safe and Happy Thanksgiving!
URL:https://www.taguelumber.com/event/thanksgiving-holiday-2026/
CATEGORIES:Design Showroom,Doylestown,Kennett Square,Media,Mill & Door Shop,Philadelphia,Phoenixville,Premier
END:VEVENT
BEGIN:VEVENT
DTSTART;VALUE=DATE:20261224
DTEND;VALUE=DATE:20261226
DTSTAMP:20260422T235828
CREATED:20260420T195413Z
LAST-MODIFIED:20260420T195413Z
UID:10000690-1798070400-1798243199@www.taguelumber.com
SUMMARY:Christmas Holiday Schedule 2026
DESCRIPTION:ALL Tague Lumber\,\nTague Design Showrooms\, and\nPremier Door\, Frame & Hardware locations\nwill be CLOSED on:\n  \nThursday\, December 24th\nAND\nFriday\, December 25th\n\nWe will return to normal business hours on\nMonday\, Dec. 28th\nMerry Christmas\n\n\n  \nThank you and have a safe and Merry Christmas!\n 
URL:https://www.taguelumber.com/event/christmas-holiday-schedule-2026/
CATEGORIES:Design Showroom,Doylestown,Kennett Square,Media,Mill & Door Shop,Philadelphia,Phoenixville,Premier
END:VEVENT
BEGIN:VEVENT
DTSTART;VALUE=DATE:20270101
DTEND;VALUE=DATE:20270102
DTSTAMP:20260422T235828
CREATED:20260420T195757Z
LAST-MODIFIED:20260420T195816Z
UID:10000691-1798761600-1798847999@www.taguelumber.com
SUMMARY:New Year's Holiday Schedule 2027
DESCRIPTION:All Tague Lumber\, Tague Design Showrooms\, and Premier DFH locations will be CLOSED:\nFriday\, January 1\, 2027 (New Year’s Day)\nWe will REOPEN with normal business hours on\nMonday\, January 4\, 2027\nWe wish you and your family a very safe and Happy New Year!
URL:https://www.taguelumber.com/event/new-years-holiday-schedule-2027/
CATEGORIES:Design Showroom,Doylestown,Kennett Square,Media,Mill & Door Shop,Philadelphia,Phoenixville,Premier
END:VEVENT
END:VCALENDAR