BEGIN:VCALENDAR
VERSION:2.0
PRODID:-//Tague Lumber - ECPv6.15.18//NONSGML v1.0//EN
CALSCALE:GREGORIAN
METHOD:PUBLISH
X-ORIGINAL-URL:https://www.taguelumber.com
X-WR-CALDESC:Events for Tague Lumber
REFRESH-INTERVAL;VALUE=DURATION:PT1H
X-Robots-Tag:noindex
X-PUBLISHED-TTL:PT1H
BEGIN:VTIMEZONE
TZID:America/New_York
BEGIN:DAYLIGHT
TZOFFSETFROM:-0500
TZOFFSETTO:-0400
TZNAME:EDT
DTSTART:20170312T070000
END:DAYLIGHT
BEGIN:STANDARD
TZOFFSETFROM:-0400
TZOFFSETTO:-0500
TZNAME:EST
DTSTART:20171105T060000
END:STANDARD
BEGIN:DAYLIGHT
TZOFFSETFROM:-0500
TZOFFSETTO:-0400
TZNAME:EDT
DTSTART:20180311T070000
END:DAYLIGHT
BEGIN:STANDARD
TZOFFSETFROM:-0400
TZOFFSETTO:-0500
TZNAME:EST
DTSTART:20181104T060000
END:STANDARD
BEGIN:DAYLIGHT
TZOFFSETFROM:-0500
TZOFFSETTO:-0400
TZNAME:EDT
DTSTART:20190310T070000
END:DAYLIGHT
BEGIN:STANDARD
TZOFFSETFROM:-0400
TZOFFSETTO:-0500
TZNAME:EST
DTSTART:20191103T060000
END:STANDARD
END:VTIMEZONE
BEGIN:VEVENT
DTSTART;TZID=America/New_York:20180813T110000
DTEND;TZID=America/New_York:20180813T130000
DTSTAMP:20260419T170525
CREATED:20180801T133508Z
LAST-MODIFIED:20180813T134528Z
UID:10000510-1534158000-1534165200@www.taguelumber.com
SUMMARY:Lunch is on us TODAY (Aug 13) at Tague Lumber of Phila.
DESCRIPTION:Enjoy a FREE lunch TODAY\nMonday\, August 13\, 2018\nfrom  11:00am – 1:00pm\nat Tague Lumber of Philadelphia\nTrex lunches
URL:https://www.taguelumber.com/event/lunch-is-on-us-today-at-tague-lumber-of-phila/
LOCATION:Tague Lumber of Phila\, 560 E. High Street\, Philadelphia\, PA\, 19144\, United States
CATEGORIES:Philadelphia
GEO:40.0463483;-75.1701749
X-APPLE-STRUCTURED-LOCATION;VALUE=URI;X-ADDRESS=Tague Lumber of Phila 560 E. High Street Philadelphia PA 19144 United States;X-APPLE-RADIUS=500;X-TITLE=560 E. High Street:geo:-75.1701749,40.0463483
END:VEVENT
BEGIN:VEVENT
DTSTART;TZID=America/New_York:20180815T170000
DTEND;TZID=America/New_York:20180815T190000
DTSTAMP:20260419T170525
CREATED:20180731T002854Z
LAST-MODIFIED:20180731T003747Z
UID:10000503-1534352400-1534359600@www.taguelumber.com
SUMMARY:Free Building Seminar with Mark LaLiberte at Tague Malvern Showroom
DESCRIPTION:Join us for Free Building Seminars\nwith guest speaker Mark LaLiberte as he presents\n“How to cost-effectively build high-performance homes that last longer and meet customer expectations.”\nDiscussion topics will include: Weatherization systems\, Insulation systems\, and Mechanical systems. \n\nEVENT DATE(s)– Two nights at two Tague locations:\nWed.\, August 15 at Tague Malvern Showroom\nThurs.\, August 16 at Tague of Doylestown\nTIME: 5:00pm – 7:00 pm.\nComplimentary Dinner & refreshments will be served.\nHURRY! This is a ticketed event. Seats are limited. Reserve your space today!Follow these links to our Eventbrite registration site:\nClick here to register for the MALVERN (8/15) event.\nClick here to register for the DOYLESTOWN (8/16) event.\n\nLaLiberte Building Seminars\n 
URL:https://www.taguelumber.com/event/free-building-seminar-with-mark-laliberte-at-tague-malvern-showroom/
LOCATION:Tague Design Showroom\, 181 Lancaster Avenue\, Malvern\, PA\, 19355\, United States
CATEGORIES:Design Showroom,Kennett Square,Media,Philadelphia,Phoenixville,Premier
GEO:40.043512;-75.537697
X-APPLE-STRUCTURED-LOCATION;VALUE=URI;X-ADDRESS=Tague Design Showroom 181 Lancaster Avenue Malvern PA 19355 United States;X-APPLE-RADIUS=500;X-TITLE=181 Lancaster Avenue:geo:-75.537697,40.043512
END:VEVENT
BEGIN:VEVENT
DTSTART;TZID=America/New_York:20180820T070000
DTEND;TZID=America/New_York:20180820T090000
DTSTAMP:20260419T170525
CREATED:20180731T191731Z
LAST-MODIFIED:20180731T192046Z
UID:10000505-1534748400-1534755600@www.taguelumber.com
SUMMARY:Free Coffee & Donuts at Tague of Phila
DESCRIPTION:Coffee & donuts\nJoin us for\nFREE Coffee & Donuts\ncompliments of\nJeld-Wen Windows & Doors\nDATE:  Mon.\, August 20\nTIME:  7:00-9:00am\nTague Lumber\n560 E. High Street\nPhiladelphia\, PA
URL:https://www.taguelumber.com/event/free-coffee-donuts-at-tague-of-phila/
LOCATION:Tague – Germantown\, 560 E. High Street\, Philadelphia\, PA\, 19144\, United States
CATEGORIES:Philadelphia
GEO:40.0464738;-75.1703722
X-APPLE-STRUCTURED-LOCATION;VALUE=URI;X-ADDRESS=Tague – Germantown 560 E. High Street Philadelphia PA 19144 United States;X-APPLE-RADIUS=500;X-TITLE=560 E. High Street:geo:-75.1703722,40.0464738
END:VEVENT
END:VCALENDAR