BEGIN:VCALENDAR
VERSION:2.0
PRODID:-//Tague Lumber - ECPv6.15.18//NONSGML v1.0//EN
CALSCALE:GREGORIAN
METHOD:PUBLISH
X-ORIGINAL-URL:https://www.taguelumber.com
X-WR-CALDESC:Events for Tague Lumber
REFRESH-INTERVAL;VALUE=DURATION:PT1H
X-Robots-Tag:noindex
X-PUBLISHED-TTL:PT1H
BEGIN:VTIMEZONE
TZID:America/New_York
BEGIN:DAYLIGHT
TZOFFSETFROM:-0500
TZOFFSETTO:-0400
TZNAME:EDT
DTSTART:20170312T070000
END:DAYLIGHT
BEGIN:STANDARD
TZOFFSETFROM:-0400
TZOFFSETTO:-0500
TZNAME:EST
DTSTART:20171105T060000
END:STANDARD
BEGIN:DAYLIGHT
TZOFFSETFROM:-0500
TZOFFSETTO:-0400
TZNAME:EDT
DTSTART:20180311T070000
END:DAYLIGHT
BEGIN:STANDARD
TZOFFSETFROM:-0400
TZOFFSETTO:-0500
TZNAME:EST
DTSTART:20181104T060000
END:STANDARD
BEGIN:DAYLIGHT
TZOFFSETFROM:-0500
TZOFFSETTO:-0400
TZNAME:EDT
DTSTART:20190310T070000
END:DAYLIGHT
BEGIN:STANDARD
TZOFFSETFROM:-0400
TZOFFSETTO:-0500
TZNAME:EST
DTSTART:20191103T060000
END:STANDARD
END:VTIMEZONE
BEGIN:VEVENT
DTSTART;VALUE=DATE:20180704
DTEND;VALUE=DATE:20180705
DTSTAMP:20260419T205911
CREATED:20180530T134245Z
LAST-MODIFIED:20180619T133328Z
UID:10000487-1530662400-1530748799@www.taguelumber.com
SUMMARY:July 4th Holiday Schedule
DESCRIPTION:July 4th Holiday Schedule\n  \nAll Tague Lumber\, Tague Design Showrooms\, and Premier DFH locations will be closed on July 4th in observance of Independence Day. Have a safe and happy holiday.
URL:https://www.taguelumber.com/event/july-4th-holiday-schedule/
LOCATION:PA
CATEGORIES:Design Showroom,Doylestown,Kennett Square,Media,Philadelphia,Phoenixville,Premier
END:VEVENT
BEGIN:VEVENT
DTSTART;TZID=America/New_York:20180709T073000
DTEND;TZID=America/New_York:20180709T093000
DTSTAMP:20260419T205911
CREATED:20180627T043545Z
LAST-MODIFIED:20180627T044652Z
UID:10000492-1531121400-1531128600@www.taguelumber.com
SUMMARY:FREE Coffee & Donuts with AZEK Decking at Tague/Phila.
DESCRIPTION:FREE Coffee & Donut day\nJoin us for\nFREE Coffee & Donuts\ncompliments of\nAZEK Decking\nDATE:  Mon.\, July 9\nTIME:  7:30-9:30am\nTague Lumber\n560 E. High Street\nPhiladelphia\, PA
URL:https://www.taguelumber.com/event/free-coffee-donuts-with-azek/
LOCATION:Tague – Germantown\, 560 E. High Street\, Philadelphia\, PA\, 19144\, United States
CATEGORIES:Philadelphia
GEO:40.0464738;-75.1703722
X-APPLE-STRUCTURED-LOCATION;VALUE=URI;X-ADDRESS=Tague – Germantown 560 E. High Street Philadelphia PA 19144 United States;X-APPLE-RADIUS=500;X-TITLE=560 E. High Street:geo:-75.1703722,40.0464738
END:VEVENT
BEGIN:VEVENT
DTSTART;TZID=America/New_York:20180716T110000
DTEND;TZID=America/New_York:20180716T140000
DTSTAMP:20260419T205911
CREATED:20180704T020756Z
LAST-MODIFIED:20180704T021335Z
UID:10000497-1531738800-1531749600@www.taguelumber.com
SUMMARY:Lunch is on us at Tague Lumber of Phila.
DESCRIPTION:Enjoy a FREE lunch on\nMonday\, July 16\nfrom  11:00am – 2:00pm\nat Tague Lumber of Philadelphia\nSimonton Lunch at Phila.\n  \n  \n• Grab a sandwich and visit with the Simonton Rep to learn about their quality replacement windows & doors. \n• Simonton provides durable\, quality vinyl windows and doors that are energy efficient\, weather resistant\, and low-maintenance. \n• Simonton windows and doors are custom to your home and backed by industry-leading warranties.
URL:https://www.taguelumber.com/event/lunch-is-on-us/
LOCATION:Tague Lumber of Phila\, 560 E. High Street\, Philadelphia\, PA\, 19144\, United States
CATEGORIES:Philadelphia
GEO:40.0463483;-75.1701749
X-APPLE-STRUCTURED-LOCATION;VALUE=URI;X-ADDRESS=Tague Lumber of Phila 560 E. High Street Philadelphia PA 19144 United States;X-APPLE-RADIUS=500;X-TITLE=560 E. High Street:geo:-75.1701749,40.0463483
END:VEVENT
END:VCALENDAR