BEGIN:VCALENDAR
VERSION:2.0
PRODID:-//Tague Lumber - ECPv6.15.18//NONSGML v1.0//EN
CALSCALE:GREGORIAN
METHOD:PUBLISH
X-ORIGINAL-URL:https://www.taguelumber.com
X-WR-CALDESC:Events for Tague Lumber
REFRESH-INTERVAL;VALUE=DURATION:PT1H
X-Robots-Tag:noindex
X-PUBLISHED-TTL:PT1H
BEGIN:VTIMEZONE
TZID:America/New_York
BEGIN:DAYLIGHT
TZOFFSETFROM:-0500
TZOFFSETTO:-0400
TZNAME:EDT
DTSTART:20160313T070000
END:DAYLIGHT
BEGIN:STANDARD
TZOFFSETFROM:-0400
TZOFFSETTO:-0500
TZNAME:EST
DTSTART:20161106T060000
END:STANDARD
BEGIN:DAYLIGHT
TZOFFSETFROM:-0500
TZOFFSETTO:-0400
TZNAME:EDT
DTSTART:20170312T070000
END:DAYLIGHT
BEGIN:STANDARD
TZOFFSETFROM:-0400
TZOFFSETTO:-0500
TZNAME:EST
DTSTART:20171105T060000
END:STANDARD
BEGIN:DAYLIGHT
TZOFFSETFROM:-0500
TZOFFSETTO:-0400
TZNAME:EDT
DTSTART:20180311T070000
END:DAYLIGHT
BEGIN:STANDARD
TZOFFSETFROM:-0400
TZOFFSETTO:-0500
TZNAME:EST
DTSTART:20181104T060000
END:STANDARD
END:VTIMEZONE
BEGIN:VEVENT
DTSTART;VALUE=DATE:20171111
DTEND;VALUE=DATE:20171112
DTSTAMP:20260420T103625
CREATED:20171110T162423Z
LAST-MODIFIED:20171110T201722Z
UID:10000465-1510358400-1510444799@www.taguelumber.com
SUMMARY:Happy Veteran's Day!
DESCRIPTION:Veteran’s Day gives us the opportunity to pay tribute to the brave men and women of the armed forces who put their lives at risk to ensure our freedom and liberty. Tague Lumber proudly honors all Veterans of the U.S.A. and would like to acknowledge and thank the following employees  for their Military service. \nThank you for your service.Happy Veteran’s Day\n 
URL:https://www.taguelumber.com/event/happy-veterans-day/
LOCATION:Tague Lumber of Phila\, 560 E. High Street\, Philadelphia\, PA\, 19144\, United States
CATEGORIES:Design Showroom,Doylestown,Kennett Square,Media,Philadelphia,Phoenixville,Premier
GEO:40.0463483;-75.1701749
X-APPLE-STRUCTURED-LOCATION;VALUE=URI;X-ADDRESS=Tague Lumber of Phila 560 E. High Street Philadelphia PA 19144 United States;X-APPLE-RADIUS=500;X-TITLE=560 E. High Street:geo:-75.1701749,40.0463483
END:VEVENT
BEGIN:VEVENT
DTSTART;VALUE=DATE:20171123
DTEND;VALUE=DATE:20171124
DTSTAMP:20260420T103625
CREATED:20171118T162649Z
LAST-MODIFIED:20171123T154939Z
UID:10000467-1511395200-1511481599@www.taguelumber.com
SUMMARY:Thanksgiving Schedule
DESCRIPTION:Happy Thanksgiving\nAll Tague Lumber locations\, Tague Design Showrooms\, and Premier Door Frame & Hardware will be CLOSED on  Thursday\, November 23rd to allow our employees to spend some quality time with their families during the Thanksgiving Holiday. We will REOPEN with regular business hours on Friday\, Nov. 24th.  We wish you all a Safe & Happy Thanksgiving!\n\n+ GOOGLE CALENDAR
URL:https://www.taguelumber.com/event/thanksgiving-schedule/
LOCATION:PA
CATEGORIES:Design Showroom,Doylestown,Kennett Square,Media,Philadelphia,Phoenixville,Premier
END:VEVENT
END:VCALENDAR