BEGIN:VCALENDAR
VERSION:2.0
PRODID:-//Tague Lumber - ECPv6.15.18//NONSGML v1.0//EN
CALSCALE:GREGORIAN
METHOD:PUBLISH
X-WR-CALNAME:Tague Lumber
X-ORIGINAL-URL:https://www.taguelumber.com
X-WR-CALDESC:Events for Tague Lumber
REFRESH-INTERVAL;VALUE=DURATION:PT1H
X-Robots-Tag:noindex
X-PUBLISHED-TTL:PT1H
BEGIN:VTIMEZONE
TZID:America/New_York
BEGIN:DAYLIGHT
TZOFFSETFROM:-0500
TZOFFSETTO:-0400
TZNAME:EDT
DTSTART:20250309T070000
END:DAYLIGHT
BEGIN:STANDARD
TZOFFSETFROM:-0400
TZOFFSETTO:-0500
TZNAME:EST
DTSTART:20251102T060000
END:STANDARD
BEGIN:DAYLIGHT
TZOFFSETFROM:-0500
TZOFFSETTO:-0400
TZNAME:EDT
DTSTART:20260308T070000
END:DAYLIGHT
BEGIN:STANDARD
TZOFFSETFROM:-0400
TZOFFSETTO:-0500
TZNAME:EST
DTSTART:20261101T060000
END:STANDARD
BEGIN:DAYLIGHT
TZOFFSETFROM:-0500
TZOFFSETTO:-0400
TZNAME:EDT
DTSTART:20270314T070000
END:DAYLIGHT
BEGIN:STANDARD
TZOFFSETFROM:-0400
TZOFFSETTO:-0500
TZNAME:EST
DTSTART:20271107T060000
END:STANDARD
END:VTIMEZONE
BEGIN:VEVENT
DTSTART;VALUE=DATE:20260704
DTEND;VALUE=DATE:20260705
DTSTAMP:20260420T170708
CREATED:20260420T193958Z
LAST-MODIFIED:20260420T193958Z
UID:10000687-1783123200-1783209599@www.taguelumber.com
SUMMARY:July 4\, 2026  Holiday Schedule
DESCRIPTION:Please NOTE:\nIn observance of Independence Day\nall Tague Lumber locations\,\nTague Design Showrooms\nand Premier DFH locations will be\nCLOSED  on:\nSaturday\, July 4th\nWe will REOPEN on Monday\, July 6th\nwith normal business hours.\nWishing you a safe and happy 4th of July!\n 
URL:https://www.taguelumber.com/event/july-4-2026-holiday-schedule/
LOCATION:Tague Lumber\, Media/Phila/Phoenixville
CATEGORIES:Design Showroom,Doylestown,Kennett Square,Media,Mill & Door Shop,Philadelphia,Phoenixville,Premier
GEO:40.1303822;-75.5149128
X-APPLE-STRUCTURED-LOCATION;VALUE=URI;X-ADDRESS=Tague Lumber Media/Phila/Phoenixville;X-APPLE-RADIUS=500;X-TITLE=Media/Phila/Phoenixville:geo:-75.5149128,40.1303822
END:VEVENT
END:VCALENDAR