BEGIN:VCALENDAR
VERSION:2.0
PRODID:-//Tague Lumber - ECPv6.15.18//NONSGML v1.0//EN
CALSCALE:GREGORIAN
METHOD:PUBLISH
X-ORIGINAL-URL:https://www.taguelumber.com
X-WR-CALDESC:Events for Tague Lumber
REFRESH-INTERVAL;VALUE=DURATION:PT1H
X-Robots-Tag:noindex
X-PUBLISHED-TTL:PT1H
BEGIN:VTIMEZONE
TZID:America/New_York
BEGIN:DAYLIGHT
TZOFFSETFROM:-0500
TZOFFSETTO:-0400
TZNAME:EDT
DTSTART:20150308T070000
END:DAYLIGHT
BEGIN:STANDARD
TZOFFSETFROM:-0400
TZOFFSETTO:-0500
TZNAME:EST
DTSTART:20151101T060000
END:STANDARD
BEGIN:DAYLIGHT
TZOFFSETFROM:-0500
TZOFFSETTO:-0400
TZNAME:EDT
DTSTART:20160313T070000
END:DAYLIGHT
BEGIN:STANDARD
TZOFFSETFROM:-0400
TZOFFSETTO:-0500
TZNAME:EST
DTSTART:20161106T060000
END:STANDARD
BEGIN:DAYLIGHT
TZOFFSETFROM:-0500
TZOFFSETTO:-0400
TZNAME:EDT
DTSTART:20170312T070000
END:DAYLIGHT
BEGIN:STANDARD
TZOFFSETFROM:-0400
TZOFFSETTO:-0500
TZNAME:EST
DTSTART:20171105T060000
END:STANDARD
END:VTIMEZONE
BEGIN:VEVENT
DTSTART;VALUE=DATE:20160330
DTEND;VALUE=DATE:20160401
DTSTAMP:20260425T153738
CREATED:20160311T171904Z
LAST-MODIFIED:20160315T024928Z
UID:10000367-1459296000-1459468799@www.taguelumber.com
SUMMARY:FREE Expo Hall Pass to Atlantic Builders Convention Conference & Expo
DESCRIPTION:FREE Exhibit Hall Pass\nto the Atlantic Builders Convention\n($30 Value) compliments of Tague Lumber\n\nDATE:  Wed.\, March 30  & Thurs.\, March 31\, 2016\nTIME:  8:00 am – 5:00 pm\nLOCATION:  Atlantic City\, NJ Convention Center\n\n\nTo claim your FREE Exhibit Hall pass\, click this link\n\n\nCHOOSE:  EXHIBIT AREA ONLY (Pass)\n\n\nUse Promo code:  TagueABCNJ\n\n\n ($30 fee will be waived) Any other selections or session additions will incur an additional fee not covered by Tague. If you have registered correctly at no time will you be asked for credit card information.\n\n\nABC draws approximately 6\,500 participants from the Northeast region\, including residential and commercial builders\, developers\, remodelers and subcontractors\, plus a variety of manufacturers\, suppliers\, and consulting professionals.  Now in its 67th year\, the convention features nearly 400 exhibits showcasing the latest products and services to a large and diverse audience of decision makers.\nBe sure to stop by our booth #1313 at the 2016 Atlantic Builder’s Convention\n 
URL:https://www.taguelumber.com/event/atlantic-builders-convention-conference-expo/
LOCATION:Atlantic City Convention Center\, One Convention Blvd.\, Atlantic City\, NJ\, United States
GEO:39.3623004;-74.4386695
X-APPLE-STRUCTURED-LOCATION;VALUE=URI;X-ADDRESS=DESCRIPTION:FREE Exhibit Hall Pass\nto the Atlantic Builders Convention\n($30 Value) compliments of Tague Lumber\n\nDATE:  Wed. March 30  & Thurs. March 31 2016\nTIME:  8:00 am – 5:00 pm\n  Atlantic City NJ Convention Center\n\n\nTo claim your FREE Exhibit Hall pass click this link\n\n\nCHOOSE:  EXHIBIT AREA ONLY (Pass)\n\n\nUse Promo code:  TagueABCNJ\n\n\n ($30 fee will be waived) Any other selections or session additions will incur an additional fee not covered by Tague. If you have registered correctly at no time will you be asked for credit card information.\n\n\nABC draws approximately 6500 participants from the Northeast region including residential and commercial builders developers remodelers and subcontractors plus a variety of manufacturers suppliers and consulting professionals.  Now in its 67th year the convention features nearly 400 exhibits showcasing the latest products and services to a large and diverse audience of decision makers.\nBe sure to stop by our booth #1313 at the 2016 Atlantic Builder’s Convention\n ;X-APPLE-RADIUS=500;X-TITLE=One Convention Blvd.:geo:-74.4386695,39.3623004
END:VEVENT
END:VCALENDAR