BEGIN:VCALENDAR
VERSION:2.0
PRODID:-//Tague Lumber - ECPv6.15.18//NONSGML v1.0//EN
CALSCALE:GREGORIAN
METHOD:PUBLISH
X-WR-CALNAME:Tague Lumber
X-ORIGINAL-URL:https://www.taguelumber.com
X-WR-CALDESC:Events for Tague Lumber
REFRESH-INTERVAL;VALUE=DURATION:PT1H
X-Robots-Tag:noindex
X-PUBLISHED-TTL:PT1H
BEGIN:VTIMEZONE
TZID:UTC
BEGIN:STANDARD
TZOFFSETFROM:+0000
TZOFFSETTO:+0000
TZNAME:UTC
DTSTART:20140101T000000
END:STANDARD
END:VTIMEZONE
BEGIN:VEVENT
DTSTART;TZID=UTC:20151007T070000
DTEND;TZID=UTC:20151007T090000
DTSTAMP:20260423T001257
CREATED:20150911T172425Z
LAST-MODIFIED:20150911T172425Z
UID:10000391-1444201200-1444208400@www.taguelumber.com
SUMMARY:Festool Product Launch & Contractor Breakfast
DESCRIPTION:Tague Lumber is serving up a Contractor Breakfast\nwith a Festool Product Introduction!\n\nPlease join us:\nDATE:  Wednesday\, Oct. 7\, 2015\nTIME:  7:00 -9:00 AM\nLOCATION:  Springfield Country Club\, 400 W. Sproul Rd.\, Springfield PA\nRSVP:  This is a ticketed event. Reserve your seat today by clicking this link to our Eventbrite page\n \nhttps://www.eventbrite.com/e/festool-tague-lumber-contractor-breakfast-tickets-18458116724
URL:https://www.taguelumber.com/event/festool-product-launch-contractor-breakfast/
LOCATION:PA\, United States
END:VEVENT
END:VCALENDAR