BEGIN:VCALENDAR
VERSION:2.0
PRODID:-//Tague Lumber - ECPv6.15.18//NONSGML v1.0//EN
CALSCALE:GREGORIAN
METHOD:PUBLISH
X-ORIGINAL-URL:https://www.taguelumber.com
X-WR-CALDESC:Events for Tague Lumber
REFRESH-INTERVAL;VALUE=DURATION:PT1H
X-Robots-Tag:noindex
X-PUBLISHED-TTL:PT1H
BEGIN:VTIMEZONE
TZID:America/New_York
BEGIN:DAYLIGHT
TZOFFSETFROM:-0500
TZOFFSETTO:-0400
TZNAME:EDT
DTSTART:20180311T070000
END:DAYLIGHT
BEGIN:STANDARD
TZOFFSETFROM:-0400
TZOFFSETTO:-0500
TZNAME:EST
DTSTART:20181104T060000
END:STANDARD
BEGIN:DAYLIGHT
TZOFFSETFROM:-0500
TZOFFSETTO:-0400
TZNAME:EDT
DTSTART:20190310T070000
END:DAYLIGHT
BEGIN:STANDARD
TZOFFSETFROM:-0400
TZOFFSETTO:-0500
TZNAME:EST
DTSTART:20191103T060000
END:STANDARD
BEGIN:DAYLIGHT
TZOFFSETFROM:-0500
TZOFFSETTO:-0400
TZNAME:EDT
DTSTART:20200308T070000
END:DAYLIGHT
BEGIN:STANDARD
TZOFFSETFROM:-0400
TZOFFSETTO:-0500
TZNAME:EST
DTSTART:20201101T060000
END:STANDARD
END:VTIMEZONE
BEGIN:VEVENT
DTSTART;TZID=America/New_York:20190801T163000
DTEND;TZID=America/New_York:20190801T193000
DTSTAMP:20260421T205933
CREATED:20190710T164734Z
LAST-MODIFIED:20190722T164746Z
UID:10000532-1564677000-1564687800@www.taguelumber.com
SUMMARY:Tague Lumber Kennett Sq—AdvanTech/ZIP Contractor College(plus 2 AIA CEUs)
DESCRIPTION:Please Join us for the\nHUBER “PROVE IT” EVENT\nat Tague Lumber of Kennett Square\n475 McFarlan Road\, Kennett Square\, PA\nEnjoy free dinner and Drinks plus Product & Install Demos Including:\n• State-of-the-art product trailer features hands- on demos of both Zip System Sheathing & Tape and AdvanTech Flooring & Sheathing. \n• Demonstrations with water and air systems show how the products hold up against the elements— with field-tested results. \n• Hands-on install demos using product accessories\, including Zip tape\, liquid flash and Subfloor Adhesive. \n• Presentation covers condensation management and air infiltration with code compliant continuous insulation. Covers current code in our climate zone\, Dew Point\, as well as an overview of options to address updated codes. Topic qualifies as 1 AIA CEU under course #HEW 503 \nBONUS! Earn up to 2 AIA CEU Credits at this event!\n• The combination of a guided tour of the Prove- it Trailer AND participation in the presentation qualifies as 2 HSW credits by AIA. \n  \nSeats are filling fast! Reserve your place today!  Click here to go to our registration page.
URL:https://www.taguelumber.com/event/tague-lumber-kennett-sq-advantech-zip-contractor-collegeplus-2-aia-ceus/
LOCATION:Tague Lumber – Kennett Sq.\, 475 McFarlan Road\, Kennett Square\, 19348\, United States
CATEGORIES:Kennett Square
GEO:39.8452967;-75.692673
X-APPLE-STRUCTURED-LOCATION;VALUE=URI;X-ADDRESS=Tague Lumber – Kennett Sq. 475 McFarlan Road Kennett Square 19348 United States;X-APPLE-RADIUS=500;X-TITLE=475 McFarlan Road:geo:-75.692673,39.8452967
END:VEVENT
END:VCALENDAR