BEGIN:VCALENDAR
VERSION:2.0
PRODID:-//Tague Lumber - ECPv6.15.18//NONSGML v1.0//EN
CALSCALE:GREGORIAN
METHOD:PUBLISH
X-WR-CALNAME:Tague Lumber
X-ORIGINAL-URL:https://www.taguelumber.com
X-WR-CALDESC:Events for Tague Lumber
REFRESH-INTERVAL;VALUE=DURATION:PT1H
X-Robots-Tag:noindex
X-PUBLISHED-TTL:PT1H
BEGIN:VTIMEZONE
TZID:America/New_York
BEGIN:DAYLIGHT
TZOFFSETFROM:-0500
TZOFFSETTO:-0400
TZNAME:EDT
DTSTART:20220313T070000
END:DAYLIGHT
BEGIN:STANDARD
TZOFFSETFROM:-0400
TZOFFSETTO:-0500
TZNAME:EST
DTSTART:20221106T060000
END:STANDARD
BEGIN:DAYLIGHT
TZOFFSETFROM:-0500
TZOFFSETTO:-0400
TZNAME:EDT
DTSTART:20230312T070000
END:DAYLIGHT
BEGIN:STANDARD
TZOFFSETFROM:-0400
TZOFFSETTO:-0500
TZNAME:EST
DTSTART:20231105T060000
END:STANDARD
BEGIN:DAYLIGHT
TZOFFSETFROM:-0500
TZOFFSETTO:-0400
TZNAME:EDT
DTSTART:20240310T070000
END:DAYLIGHT
BEGIN:STANDARD
TZOFFSETFROM:-0400
TZOFFSETTO:-0500
TZNAME:EST
DTSTART:20241103T060000
END:STANDARD
END:VTIMEZONE
BEGIN:VEVENT
DTSTART;TZID=America/New_York:20231109T180000
DTEND;TZID=America/New_York:20231109T203000
DTSTAMP:20260424T125603
CREATED:20231025T010947Z
LAST-MODIFIED:20231025T015202Z
UID:10000641-1699552800-1699561800@www.taguelumber.com
SUMMARY:Bucks/Mont NARI at Tague of Doylestown
DESCRIPTION:Please join us as Bucks/Mont NARI & Tague Lumber present \n\nUnderstanding Website Optimization (SEO)\, Generating Website Content\,\nand the Using Google Maps for Remodelers & Contractors\n\n  \nEVENT DATE: Thursday\, Nov. 9\, 2023 \nTIME: 6:00 – 8:30pm \nLOCATION:   Tague Lumber of Doylestown\n6100 Easton Rd.\, Plumsteadville PA \n\n  \nGUEST SPEAKER:   Bob Vance (of Home Remodeler/SEO) Bob used to be a builder\, so he is not just a typical computer SEO marketing company\, he truly understands the pain points felt in the construction industry. Bob’s company is dedicated to helping Remodelers and Contractors increase sales and maximize lead flow by getting their Internet Marketing right.\nEVENT SPONSOR:   Marvin Windows & Doors\nTOOL SPOTLIGHT:   Milwaukee Tools\n  \nNARI members  CLICK HERE  to register through NARI.\nTague Lumber customers (not yet NARI members) CLICK HERE to register.\n 
URL:https://www.taguelumber.com/event/bucks-mont-nari-at-tague-of-doylestown/
LOCATION:Tague Lumber – Doylestown\, 6100 Easton Road\, Plumsteadville\, PA\, 18947\, United States
CATEGORIES:Doylestown
GEO:40.329846;-75.1293725
X-APPLE-STRUCTURED-LOCATION;VALUE=URI;X-ADDRESS=DESCRIPTION:Please join us as Bucks/Mont NARI & Tague Lumber present \n\nUnderstanding Website Optimization (SEO) Generating Website Content\nand the Using Google Maps for Remodelers & Contractors\n\n  \nEVENT DATE: Thursday Nov. 9 2023 \nTIME: 6:00 – 8:30pm \n   Tague Lumber of Doylestown\n6100 Easton Rd. Plumsteadville PA \n\n  \nGUEST SPEAKER:   Bob Vance (of Home Remodeler/SEO) Bob used to be a builder so he is not just a typical computer SEO marketing company he truly understands the pain points felt in the construction industry. Bob’s company is dedicated to helping Remodelers and Contractors increase sales and maximize lead flow by getting their Internet Marketing right.\nEVENT SPONSOR:   Marvin Windows & Doors\nTOOL SPOTLIGHT:   Milwaukee Tools\n  \nNARI members  CLICK HERE  to register through NARI.\nTague Lumber customers (not yet NARI members) CLICK HERE to register.\n ;X-APPLE-RADIUS=500;X-TITLE=6100 Easton Road:geo:-75.1293725,40.329846
END:VEVENT
END:VCALENDAR