BEGIN:VCALENDAR
VERSION:2.0
PRODID:-//Tague Lumber - ECPv6.15.18//NONSGML v1.0//EN
CALSCALE:GREGORIAN
METHOD:PUBLISH
X-ORIGINAL-URL:https://www.taguelumber.com
X-WR-CALDESC:Events for Tague Lumber
REFRESH-INTERVAL;VALUE=DURATION:PT1H
X-Robots-Tag:noindex
X-PUBLISHED-TTL:PT1H
BEGIN:VTIMEZONE
TZID:America/New_York
BEGIN:DAYLIGHT
TZOFFSETFROM:-0500
TZOFFSETTO:-0400
TZNAME:EDT
DTSTART:20200308T070000
END:DAYLIGHT
BEGIN:STANDARD
TZOFFSETFROM:-0400
TZOFFSETTO:-0500
TZNAME:EST
DTSTART:20201101T060000
END:STANDARD
BEGIN:DAYLIGHT
TZOFFSETFROM:-0500
TZOFFSETTO:-0400
TZNAME:EDT
DTSTART:20210314T070000
END:DAYLIGHT
BEGIN:STANDARD
TZOFFSETFROM:-0400
TZOFFSETTO:-0500
TZNAME:EST
DTSTART:20211107T060000
END:STANDARD
BEGIN:DAYLIGHT
TZOFFSETFROM:-0500
TZOFFSETTO:-0400
TZNAME:EDT
DTSTART:20220313T070000
END:DAYLIGHT
BEGIN:STANDARD
TZOFFSETFROM:-0400
TZOFFSETTO:-0500
TZNAME:EST
DTSTART:20221106T060000
END:STANDARD
END:VTIMEZONE
BEGIN:VEVENT
DTSTART;TZID=America/New_York:20211105T143000
DTEND;TZID=America/New_York:20211107T233000
DTSTAMP:20260424T035623
CREATED:20210915T182821Z
LAST-MODIFIED:20210915T182821Z
UID:10000575-1636122600-1636327800@www.taguelumber.com
SUMMARY:Tague of Phoenixville - Closing Early for Inventory
DESCRIPTION:Tague Lumber of Phoenixville will be closing at 2:30pm \non Friday\, Nov. 5th\, 2021 \nAND REMAIN CLOSED  on Sat.\, Nov. 6th \nfor our Annual Inventory.  \nWe will reopen with regular business hours on Monday. \nThank you for your understanding.
URL:https://www.taguelumber.com/event/tague-of-phoenixville-closing-early-for-inventory/
LOCATION:Tague Lumber in Phoenixville\, 405 Bridge Street\, Phoenixville\, PA\, 19460\, United States
CATEGORIES:Phoenixville
GEO:40.132012;-75.523179
X-APPLE-STRUCTURED-LOCATION;VALUE=URI;X-ADDRESS=Tague Lumber in Phoenixville 405 Bridge Street Phoenixville PA 19460 United States;X-APPLE-RADIUS=500;X-TITLE=405 Bridge Street:geo:-75.523179,40.132012
END:VEVENT
BEGIN:VEVENT
DTSTART;TZID=America/New_York:20211112T143000
DTEND;TZID=America/New_York:20211114T233000
DTSTAMP:20260424T035623
CREATED:20210915T182904Z
LAST-MODIFIED:20210915T183121Z
UID:10000576-1636727400-1636932600@www.taguelumber.com
SUMMARY:Tague Lumber of Philadelphia — Closing Early for Inventory
DESCRIPTION:Tague Lumber of Philadelphia will be closing at 2:30pm \non Friday\, Nov. 12th\, 2021 \nAND REMAIN CLOSED  on Sat.\, Nov. 13th \nfor our Annual Inventory.  \nWe will reopen with regular business hours on Monday. \nThank you for your understanding.
URL:https://www.taguelumber.com/event/tague-lumber-of-philadelphia-closing-early-for-inventory/
LOCATION:Tague Lumber of Phila\, 560 E. High Street\, Philadelphia\, PA\, 19144\, United States
GEO:40.0463483;-75.1701749
X-APPLE-STRUCTURED-LOCATION;VALUE=URI;X-ADDRESS=Tague Lumber of Phila 560 E. High Street Philadelphia PA 19144 United States;X-APPLE-RADIUS=500;X-TITLE=560 E. High Street:geo:-75.1701749,40.0463483
END:VEVENT
BEGIN:VEVENT
DTSTART;VALUE=DATE:20211125
DTEND;VALUE=DATE:20211126
DTSTAMP:20260424T035623
CREATED:20201230T183738Z
LAST-MODIFIED:20201230T190810Z
UID:10000559-1637798400-1637884799@www.taguelumber.com
SUMMARY:Thanksgiving Holiday Schedule
DESCRIPTION:ALL Tague Lumber\, Tague Design Showrooms\, and\nPremier Door\, Frame & Hardware locations\nwill be CLOSED on\nThursday\, November 25th\nto allow our employees the chance to enjoy the\nThanksgiving holiday with their family and loved ones.\nWe will REOPEN with normal business hours on\nFriday\, November 26\, 2021\n  \nWe’d like to say “Thanks” to our valued customers for your continued support. We truly appreciate your loyalty and\nwish you a very Happy Thanksgiving!\n  \n 
URL:https://www.taguelumber.com/event/thanksgiving-holiday-schedule-3/
LOCATION:Tague Lumber\, Media/Phila/Phoenixville
CATEGORIES:Design Showroom,Doylestown,Kennett Square,Media,Philadelphia,Phoenixville,Premier
GEO:40.1303822;-75.5149128
X-APPLE-STRUCTURED-LOCATION;VALUE=URI;X-ADDRESS=Tague Lumber Media/Phila/Phoenixville;X-APPLE-RADIUS=500;X-TITLE=Media/Phila/Phoenixville:geo:-75.5149128,40.1303822
END:VEVENT
END:VCALENDAR