BEGIN:VCALENDAR
VERSION:2.0
PRODID:-//Tague Lumber - ECPv6.15.18//NONSGML v1.0//EN
CALSCALE:GREGORIAN
METHOD:PUBLISH
X-WR-CALNAME:Tague Lumber
X-ORIGINAL-URL:https://www.taguelumber.com
X-WR-CALDESC:Events for Tague Lumber
REFRESH-INTERVAL;VALUE=DURATION:PT1H
X-Robots-Tag:noindex
X-PUBLISHED-TTL:PT1H
BEGIN:VTIMEZONE
TZID:America/New_York
BEGIN:DAYLIGHT
TZOFFSETFROM:-0500
TZOFFSETTO:-0400
TZNAME:EDT
DTSTART:20180311T070000
END:DAYLIGHT
BEGIN:STANDARD
TZOFFSETFROM:-0400
TZOFFSETTO:-0500
TZNAME:EST
DTSTART:20181104T060000
END:STANDARD
BEGIN:DAYLIGHT
TZOFFSETFROM:-0500
TZOFFSETTO:-0400
TZNAME:EDT
DTSTART:20190310T070000
END:DAYLIGHT
BEGIN:STANDARD
TZOFFSETFROM:-0400
TZOFFSETTO:-0500
TZNAME:EST
DTSTART:20191103T060000
END:STANDARD
BEGIN:DAYLIGHT
TZOFFSETFROM:-0500
TZOFFSETTO:-0400
TZNAME:EDT
DTSTART:20200308T070000
END:DAYLIGHT
BEGIN:STANDARD
TZOFFSETFROM:-0400
TZOFFSETTO:-0500
TZNAME:EST
DTSTART:20201101T060000
END:STANDARD
END:VTIMEZONE
BEGIN:VEVENT
DTSTART;TZID=America/New_York:20190801T163000
DTEND;TZID=America/New_York:20190801T193000
DTSTAMP:20260424T183226
CREATED:20190710T164734Z
LAST-MODIFIED:20190722T164746Z
UID:10000532-1564677000-1564687800@www.taguelumber.com
SUMMARY:Tague Lumber Kennett Sq—AdvanTech/ZIP Contractor College(plus 2 AIA CEUs)
DESCRIPTION:Please Join us for the\nHUBER “PROVE IT” EVENT\nat Tague Lumber of Kennett Square\n475 McFarlan Road\, Kennett Square\, PA\nEnjoy free dinner and Drinks plus Product & Install Demos Including:\n• State-of-the-art product trailer features hands- on demos of both Zip System Sheathing & Tape and AdvanTech Flooring & Sheathing. \n• Demonstrations with water and air systems show how the products hold up against the elements— with field-tested results. \n• Hands-on install demos using product accessories\, including Zip tape\, liquid flash and Subfloor Adhesive. \n• Presentation covers condensation management and air infiltration with code compliant continuous insulation. Covers current code in our climate zone\, Dew Point\, as well as an overview of options to address updated codes. Topic qualifies as 1 AIA CEU under course #HEW 503 \nBONUS! Earn up to 2 AIA CEU Credits at this event!\n• The combination of a guided tour of the Prove- it Trailer AND participation in the presentation qualifies as 2 HSW credits by AIA. \n  \nSeats are filling fast! Reserve your place today!  Click here to go to our registration page.
URL:https://www.taguelumber.com/event/tague-lumber-kennett-sq-advantech-zip-contractor-collegeplus-2-aia-ceus/
LOCATION:Tague Lumber – Kennett Sq.\, 475 McFarlan Road\, Kennett Square\, 19348\, United States
CATEGORIES:Kennett Square
GEO:39.8452967;-75.692673
X-APPLE-STRUCTURED-LOCATION;VALUE=URI;X-ADDRESS=Tague Lumber – Kennett Sq. 475 McFarlan Road Kennett Square 19348 United States;X-APPLE-RADIUS=500;X-TITLE=475 McFarlan Road:geo:-75.692673,39.8452967
END:VEVENT
BEGIN:VEVENT
DTSTART;TZID=America/New_York:20190807T110000
DTEND;TZID=America/New_York:20190807T133000
DTSTAMP:20260424T183226
CREATED:20190711T170132Z
LAST-MODIFIED:20190722T171139Z
UID:10000533-1565175600-1565184600@www.taguelumber.com
SUMMARY:FREE AIA Lunch & Learn —Tague Lumber Doylestown
DESCRIPTION:EARN 2 AIA  CEUs (FREE)\ncompliments of Tague Lumber of Doylestown\n6100 Easton Road\, Plumsteadville\, PA\nPresentations by:  James Hardie Siding & Norwood Windows/Doors\n\nDATE: Wednesday\, August 7\, 2019\nLOCATION: Tague Lumber of Doylestown\, 6100 Easton Rd.\, Plumsteadville\, PA\nTIME: 11:00 – 1:15pm \nSession #1 Time: 11:00 a.m. – 12:00 p.m.\nPresenter: James Hardie\nCourse: (IJHO7E) 1 CEU/HSW\nDescription: Climate-Zoned Cladding & Contemporary Solutions with Fiber Cement Siding Learn about fiber cement siding’s physical properties and its benefits compared to other siding options. Discover the importance of long-term siding performance and how to extend longevity of a structure’s envelope using new climate-zoned cladding. This course also illustrates new panel cladding and the best practices for cutting fiber cement siding. BONUS Presentation on NEW Aspyre collection! \nSession #2 Time: 12:15 p.m. – 1:15 p.m.\nPresenter: Norwood Windows & Doors\nCourse: (INW17A) 1 CEU/HSW\nDescription: Benefits of wood windows and doors\, and green responsible manufacturing. Learn how to achieve true fit\, finish and longevity through individual component preparation. Review electrostatically applied paint process and how to achieve split finishes and multiple colors. Discuss window science and how IG units work. Exact historical replication with energy efficiency; plus Interior vs. Exterior glazing. \n\nSPACE IS VERY LIMITED! Click here to reserve your seat today!\nPlease give 24 hr. notice on cancellations.\nBe sure to make your lunch selection when registering.\n 
URL:https://www.taguelumber.com/event/free-aia-lunch-learn-tague-lumber-doylestown/
LOCATION:Tague Lumber of Doylestown\, 6100 Easton Road\, Plumsteadville\, PA\, 18949\, United States
CATEGORIES:Doylestown
GEO:40.3908118;-75.1474302
X-APPLE-STRUCTURED-LOCATION;VALUE=URI;X-ADDRESS=DESCRIPTION:EARN 2 AIA  CEUs (FREE)\ncompliments of Tague Lumber of Doylestown\n6100 Easton Road Plumsteadville PA\nPresentations by:  James Hardie Siding & Norwood Windows/Doors\n\nDATE: Wednesday August 7 2019\n Tague Lumber of Doylestown 6100 Easton Rd. Plumsteadville PA\nTIME: 11:00 – 1:15pm \nSession #1 Time: 11:00 a.m. – 12:00 p.m.\nPresenter: James Hardie\nCourse: (IJHO7E) 1 CEU/HSW\nDescription: Climate-Zoned Cladding & Contemporary Solutions with Fiber Cement Siding Learn about fiber cement siding’s physical properties and its benefits compared to other siding options. Discover the importance of long-term siding performance and how to extend longevity of a structure’s envelope using new climate-zoned cladding. This course also illustrates new panel cladding and the best practices for cutting fiber cement siding. BONUS Presentation on NEW Aspyre collection! \nSession #2 Time: 12:15 p.m. – 1:15 p.m.\nPresenter: Norwood Windows & Doors\nCourse: (INW17A) 1 CEU/HSW\nDescription: Benefits of wood windows and doors and green responsible manufacturing. Learn how to achieve true fit finish and longevity through individual component preparation. Review electrostatically applied paint process and how to achieve split finishes and multiple colors. Discuss window science and how IG units work. Exact historical replication with energy efficiency; plus Interior vs. Exterior glazing. \n\nSPACE IS VERY LIMITED! Click here to reserve your seat today!\nPlease give 24 hr. notice on cancellations.\nBe sure to make your lunch selection when registering.\n ;X-APPLE-RADIUS=500;X-TITLE=6100 Easton Road:geo:-75.1474302,40.3908118
END:VEVENT
BEGIN:VEVENT
DTSTART;TZID=America/New_York:20190808T110000
DTEND;TZID=America/New_York:20190808T133000
DTSTAMP:20260424T183226
CREATED:20190711T170547Z
LAST-MODIFIED:20190722T171245Z
UID:10000536-1565262000-1565271000@www.taguelumber.com
SUMMARY:FREE AIA Lunch & Learn  — Tague Malvern Showroom
DESCRIPTION:EARN 2 AIA  CEUs (FREE)\ncompliments of Tague Design Showroom\n181 Lancaster Avenue\, Malvern\, PA\nPresentations by: James Hardie Siding & Norwood Windows/Doors\n  \nDATE: Thursday\, August 8\, 2019\nLOCATION: Tague Design Showroom\, 181 Lancaster Avenue\, Malvern\, PA\nTIME: 11:00 – 1:15pm \nSession #1 Time: 11:00 a.m. – 12:00 p.m.\nPresenter: James Hardie\nCourse: (IJHO7E) 1 CEU/HSW\nDescription: Climate-Zoned Cladding & Contemporary Solutions with Fiber Cement Siding Learn about fiber cement siding’s physical properties and its benefits compared to other siding options. Discover the importance of long-term siding performance and how to extend longevity of a structure’s envelope using new climate-zoned cladding. This course also illustrates new panel cladding and the best practices for cutting fiber cement siding. BONUS Presentation on NEW Aspyre collection! \nSession #2 Time: 12:15 p.m. – 1:15 p.m.\nPresenter: Norwood Windows & Doors\nCourse: (INW17A) 1 CEU/HSW\nDescription: Benefits of wood windows and doors\, and green responsible manufacturing. Learn how to achieve true fit\, finish and longevity through individual component preparation. Review electrostatically applied paint process and how to achieve split finishes and multiple colors. Discuss window science and how IG units work. Exact historical replication with energy efficiency; plus Interior vs. Exterior glazing. \nSPACE IS VERY LIMITED! Click here to reserve your seat today!\nPlease give 24 hr. notice on cancellations.\nBe sure to make your lunch selection when registering.\n 
URL:https://www.taguelumber.com/event/free-aia-lunch-learn-tague-malvern-showroom/
LOCATION:Tague Design Showroom\, 181 Lancaster Avenue\, Malvern\, PA\, 19355\, United States
CATEGORIES:Design Showroom
GEO:40.043512;-75.537697
X-APPLE-STRUCTURED-LOCATION;VALUE=URI;X-ADDRESS=DESCRIPTION:EARN 2 AIA  CEUs (FREE)\ncompliments of Tague Design Showroom\n181 Lancaster Avenue Malvern PA\nPresentations by: James Hardie Siding & Norwood Windows/Doors\n  \nDATE: Thursday August 8 2019\n Tague Design Showroom 181 Lancaster Avenue Malvern PA\nTIME: 11:00 – 1:15pm \nSession #1 Time: 11:00 a.m. – 12:00 p.m.\nPresenter: James Hardie\nCourse: (IJHO7E) 1 CEU/HSW\nDescription: Climate-Zoned Cladding & Contemporary Solutions with Fiber Cement Siding Learn about fiber cement siding’s physical properties and its benefits compared to other siding options. Discover the importance of long-term siding performance and how to extend longevity of a structure’s envelope using new climate-zoned cladding. This course also illustrates new panel cladding and the best practices for cutting fiber cement siding. BONUS Presentation on NEW Aspyre collection! \nSession #2 Time: 12:15 p.m. – 1:15 p.m.\nPresenter: Norwood Windows & Doors\nCourse: (INW17A) 1 CEU/HSW\nDescription: Benefits of wood windows and doors and green responsible manufacturing. Learn how to achieve true fit finish and longevity through individual component preparation. Review electrostatically applied paint process and how to achieve split finishes and multiple colors. Discuss window science and how IG units work. Exact historical replication with energy efficiency; plus Interior vs. Exterior glazing. \nSPACE IS VERY LIMITED! Click here to reserve your seat today!\nPlease give 24 hr. notice on cancellations.\nBe sure to make your lunch selection when registering.\n ;X-APPLE-RADIUS=500;X-TITLE=181 Lancaster Avenue:geo:-75.537697,40.043512
END:VEVENT
BEGIN:VEVENT
DTSTART;TZID=America/New_York:20190809T110000
DTEND;TZID=America/New_York:20190809T133000
DTSTAMP:20260424T183226
CREATED:20190711T170929Z
LAST-MODIFIED:20190722T171424Z
UID:10000537-1565348400-1565357400@www.taguelumber.com
SUMMARY:FREE AIA Lunch & Learn — Tague Lumber Kennett Square
DESCRIPTION:EARN 2 AIA  CEUs (FREE)\ncompliments of Tague Lumber\n475 McFarlan Road\, Kennett Square\, PA\nPresentations by: James Hardie Siding & Norwood Windows/Doors\n  \nDATE: Friday\, August 9\, 2019\nLOCATION: Tague Lumber of Kennett Square\, 475 McFarlan Rd.\, Kennett Sq.\, PA\nTIME: 11:00 – 1:15pm \nSession #1 Time: 11:00 a.m. – 12:00 p.m.\nPresenter: James Hardie\nCourse: (IJHO7E) 1 CEU/HSW\nDescription: Climate-Zoned Cladding & Contemporary Solutions with Fiber Cement Siding Learn about fiber cement siding’s physical properties and its benefits compared to other siding options. Discover the importance of long-term siding performance and how to extend longevity of a structure’s envelope using new climate-zoned cladding. This course also illustrates new panel cladding and the best practices for cutting fiber cement siding. BONUS Presentation on NEW Aspyre collection! \nSession #2 Time: 12:15 p.m. – 1:15 p.m.\nPresenter: Norwood Windows & Doors\nCourse: (INW17A) 1 CEU/HSW\nDescription: Benefits of wood windows and doors\, and green responsible manufacturing. Learn how to achieve true fit\, finish and longevity through individual component preparation. Review electrostatically applied paint process and how to achieve split finishes and multiple colors. Discuss window science and how IG units work. Exact historical replication with energy efficiency; plus Interior vs. Exterior glazing. \nSPACE IS VERY LIMITED! Click here to reserve your seat today!\nPlease give 24 hr. notice on cancellations.\nBe sure to make your lunch selection when registering.
URL:https://www.taguelumber.com/event/free-aia-lunch-learn-tague-lumber-kennett-square/
LOCATION:Tague Lumber – Kennett Sq.\, 475 McFarlan Road\, Kennett Square\, 19348\, United States
CATEGORIES:Kennett Square
GEO:39.8452967;-75.692673
X-APPLE-STRUCTURED-LOCATION;VALUE=URI;X-ADDRESS=DESCRIPTION:EARN 2 AIA  CEUs (FREE)\ncompliments of Tague Lumber\n475 McFarlan Road Kennett Square PA\nPresentations by: James Hardie Siding & Norwood Windows/Doors\n  \nDATE: Friday August 9 2019\n Tague Lumber of Kennett Square 475 McFarlan Rd. Kennett Sq. PA\nTIME: 11:00 – 1:15pm \nSession #1 Time: 11:00 a.m. – 12:00 p.m.\nPresenter: James Hardie\nCourse: (IJHO7E) 1 CEU/HSW\nDescription: Climate-Zoned Cladding & Contemporary Solutions with Fiber Cement Siding Learn about fiber cement siding’s physical properties and its benefits compared to other siding options. Discover the importance of long-term siding performance and how to extend longevity of a structure’s envelope using new climate-zoned cladding. This course also illustrates new panel cladding and the best practices for cutting fiber cement siding. BONUS Presentation on NEW Aspyre collection! \nSession #2 Time: 12:15 p.m. – 1:15 p.m.\nPresenter: Norwood Windows & Doors\nCourse: (INW17A) 1 CEU/HSW\nDescription: Benefits of wood windows and doors and green responsible manufacturing. Learn how to achieve true fit finish and longevity through individual component preparation. Review electrostatically applied paint process and how to achieve split finishes and multiple colors. Discuss window science and how IG units work. Exact historical replication with energy efficiency; plus Interior vs. Exterior glazing. \nSPACE IS VERY LIMITED! Click here to reserve your seat today!\nPlease give 24 hr. notice on cancellations.\nBe sure to make your lunch selection when registering.;X-APPLE-RADIUS=500;X-TITLE=475 McFarlan Road:geo:-75.692673,39.8452967
END:VEVENT
BEGIN:VEVENT
DTSTART;TZID=America/New_York:20190812T070000
DTEND;TZID=America/New_York:20190812T100000
DTSTAMP:20260424T183226
CREATED:20190625T161645Z
LAST-MODIFIED:20190625T163348Z
UID:10000525-1565593200-1565604000@www.taguelumber.com
SUMMARY:LP Mobile Trailer at Tague Lumber of Doylestown
DESCRIPTION:You’re invited to join us for the\nLP House Party/Mobile Experience\nDATE:   Monday\, August 12\, 2019\nTIME:   7:00am -10:00 am\nLOCATION:  Tague Lumber of Doylestown (ONLY)\n6100 Easton Rd.\, Plumsteadville\, PA\n  \n\n  \n\n\nFeel free to stop by and tour the LP Mobile Trailer.\n\n\nEnjoy a variety of virtual reality experiences and interactive displays.\n\n\nGrab a free cup of coffee and some donuts or bagels too!\n\n\nONE DAY — ONE LOCATION ONLY!\nTague Lumber of Doylestown\n6100 Easton Rd.\, Plumsteadville\, PA\nMonday\, August 12th from 7:00-10:00 am\nHope to see you there!
URL:https://www.taguelumber.com/event/lp-mobile-trailer-at-tague-lumber-of-doylestown/
LOCATION:Tague Lumber – Doylestown\, 6100 Easton Road\, Plumsteadville\, PA\, 18947\, United States
CATEGORIES:Doylestown
GEO:40.329846;-75.1293725
X-APPLE-STRUCTURED-LOCATION;VALUE=URI;X-ADDRESS=DESCRIPTION:You’re invited to join us for the\nLP House Party/Mobile Experience\nDATE:   Monday August 12 2019\nTIME:   7:00am -10:00 am\n  Tague Lumber of Doylestown (ONLY)\n6100 Easton Rd. Plumsteadville PA\n  \n\n  \n\n\nFeel free to stop by and tour the LP Mobile Trailer.\n\n\nEnjoy a variety of virtual reality experiences and interactive displays.\n\n\nGrab a free cup of coffee and some donuts or bagels too!\n\n\nONE DAY — ONE LOCATION ONLY!\nTague Lumber of Doylestown\n6100 Easton Rd. Plumsteadville PA\nMonday August 12th from 7:00-10:00 am\nHope to see you there!;X-APPLE-RADIUS=500;X-TITLE=6100 Easton Road:geo:-75.1293725,40.329846
END:VEVENT
BEGIN:VEVENT
DTSTART;VALUE=DATE:20190831
DTEND;VALUE=DATE:20190901
DTSTAMP:20260424T183226
CREATED:20190812T170041Z
LAST-MODIFIED:20190812T170041Z
UID:10000539-1567209600-1567295999@www.taguelumber.com
SUMMARY:Labor Day Holiday Schedule - Closed Sat.\, Aug. 31st.
DESCRIPTION:Labor Day Holiday schedule 2019
URL:https://www.taguelumber.com/event/labor-day-holiday-schedule-closed-sat-aug-31st/
CATEGORIES:Design Showroom,Doylestown,Kennett Square,Media,Philadelphia,Phoenixville,Premier
END:VEVENT
END:VCALENDAR