BEGIN:VCALENDAR
VERSION:2.0
PRODID:-//Tague Lumber - ECPv6.15.18//NONSGML v1.0//EN
CALSCALE:GREGORIAN
METHOD:PUBLISH
X-ORIGINAL-URL:https://www.taguelumber.com
X-WR-CALDESC:Events for Tague Lumber
REFRESH-INTERVAL;VALUE=DURATION:PT1H
X-Robots-Tag:noindex
X-PUBLISHED-TTL:PT1H
BEGIN:VTIMEZONE
TZID:America/New_York
BEGIN:DAYLIGHT
TZOFFSETFROM:-0500
TZOFFSETTO:-0400
TZNAME:EDT
DTSTART:20170312T070000
END:DAYLIGHT
BEGIN:STANDARD
TZOFFSETFROM:-0400
TZOFFSETTO:-0500
TZNAME:EST
DTSTART:20171105T060000
END:STANDARD
BEGIN:DAYLIGHT
TZOFFSETFROM:-0500
TZOFFSETTO:-0400
TZNAME:EDT
DTSTART:20180311T070000
END:DAYLIGHT
BEGIN:STANDARD
TZOFFSETFROM:-0400
TZOFFSETTO:-0500
TZNAME:EST
DTSTART:20181104T060000
END:STANDARD
BEGIN:DAYLIGHT
TZOFFSETFROM:-0500
TZOFFSETTO:-0400
TZNAME:EDT
DTSTART:20190310T070000
END:DAYLIGHT
BEGIN:STANDARD
TZOFFSETFROM:-0400
TZOFFSETTO:-0500
TZNAME:EST
DTSTART:20191103T060000
END:STANDARD
END:VTIMEZONE
BEGIN:VEVENT
DTSTART;TZID=America/New_York:20180306T080000
DTEND;TZID=America/New_York:20180306T130000
DTSTAMP:20260424T095346
CREATED:20180301T195216Z
LAST-MODIFIED:20180301T195216Z
UID:10000476-1520323200-1520341200@www.taguelumber.com
SUMMARY:Huber Prove-it Van in Phoenixville
DESCRIPTION:Join us Tuesday\, March 6\, 2018\n8:00am — 1:00pm\nTague Lumber of Phoenixville\n405 Bridge Street\nfor the HUBER Prove-It Tour\n\n  \nHuber Prove it Van Phoenixville\n  \nCheck out the Huber Engineered Wood product Prove It Demo Trailer. \nSee the award-winning Advantech flooring and sheathing and the Zip System panel and tape system in action using simulated weather conditions in this innovative trailer. \nDemos include a Water Tower Demo\, Panel Buster Demo\, Water Penetration Demo\, Popcorn Air Barrier Demo and more. \n  \nFREE coffee & donuts at 8:00am \n  \nEnter to WIN a GREAT Door prize!
URL:https://www.taguelumber.com/event/huber-prove-it-van-in-phoenixville/
LOCATION:Tague Lumber in Phoenixville\, 405 Bridge Street\, Phoenixville\, PA\, 19460\, United States
CATEGORIES:Phoenixville
GEO:40.132012;-75.523179
X-APPLE-STRUCTURED-LOCATION;VALUE=URI;X-ADDRESS=Tague Lumber in Phoenixville 405 Bridge Street Phoenixville PA 19460 United States;X-APPLE-RADIUS=500;X-TITLE=405 Bridge Street:geo:-75.523179,40.132012
END:VEVENT
BEGIN:VEVENT
DTSTART;TZID=America/New_York:20180325T110000
DTEND;TZID=America/New_York:20180325T130000
DTSTAMP:20260424T095346
CREATED:20180221T174251Z
LAST-MODIFIED:20180221T174251Z
UID:10000475-1521975600-1521982800@www.taguelumber.com
SUMMARY:ICAA Mouldings & Mimosas Brunch
DESCRIPTION:Mimosa\nMouldings & Mimosas\nICAA Brunch & Lecture\nJoin the members of the ICAA (Institute of Classical Architecture & Art) for brunch and a private tour of the Tague Lumber Showroom. After brunch\, enjoy a presentation and discussion on the book  Get Your House Right: Architectural Elements to Use and Avoid   with ICAA board member Fred Bissinger. Fred Bissinger has long been known for creating house designs that combine tradition and innovation\, and considers Cusato’s guide a valuable teaching tool that effectively communicates many of the design principles he regularly applies in his work as an architect. \nDate: Sunday\, March 25\, 2018\nTime:  11:00am – 1:00 pm\nLocation:  Tague Design Showroom\, 181 Lancaster Ave.\, Malvern\, PA\nCost/Reservations: $15 ICAA members/$30 General public\nTickets:   https://icaa-phila.ticketleap.com/get-your-house-right/ \n  \nICAA Mouldings & Mimosas
URL:https://www.taguelumber.com/event/icaa-mouldings-mimosas-brunch/
LOCATION:Tague Design Showroom\, 181 Lancaster Avenue\, Malvern\, PA\, 19355\, United States
CATEGORIES:Design Showroom
ORGANIZER;CN="ICAA":MAILTO:icaaphila@gmail.com
GEO:40.043512;-75.537697
X-APPLE-STRUCTURED-LOCATION;VALUE=URI;X-ADDRESS=Tague Design Showroom 181 Lancaster Avenue Malvern PA 19355 United States;X-APPLE-RADIUS=500;X-TITLE=181 Lancaster Avenue:geo:-75.537697,40.043512
END:VEVENT
END:VCALENDAR