BEGIN:VCALENDAR
VERSION:2.0
PRODID:-//Tague Lumber - ECPv6.15.18//NONSGML v1.0//EN
CALSCALE:GREGORIAN
METHOD:PUBLISH
X-ORIGINAL-URL:https://www.taguelumber.com
X-WR-CALDESC:Events for Tague Lumber
REFRESH-INTERVAL;VALUE=DURATION:PT1H
X-Robots-Tag:noindex
X-PUBLISHED-TTL:PT1H
BEGIN:VTIMEZONE
TZID:America/New_York
BEGIN:DAYLIGHT
TZOFFSETFROM:-0500
TZOFFSETTO:-0400
TZNAME:EDT
DTSTART:20150308T070000
END:DAYLIGHT
BEGIN:STANDARD
TZOFFSETFROM:-0400
TZOFFSETTO:-0500
TZNAME:EST
DTSTART:20151101T060000
END:STANDARD
BEGIN:DAYLIGHT
TZOFFSETFROM:-0500
TZOFFSETTO:-0400
TZNAME:EDT
DTSTART:20160313T070000
END:DAYLIGHT
BEGIN:STANDARD
TZOFFSETFROM:-0400
TZOFFSETTO:-0500
TZNAME:EST
DTSTART:20161106T060000
END:STANDARD
BEGIN:DAYLIGHT
TZOFFSETFROM:-0500
TZOFFSETTO:-0400
TZNAME:EDT
DTSTART:20170312T070000
END:DAYLIGHT
BEGIN:STANDARD
TZOFFSETFROM:-0400
TZOFFSETTO:-0500
TZNAME:EST
DTSTART:20171105T060000
END:STANDARD
END:VTIMEZONE
BEGIN:VEVENT
DTSTART;TZID=America/New_York:20161109T090000
DTEND;TZID=America/New_York:20161109T180000
DTSTAMP:20260424T115354
CREATED:20161005T161950Z
LAST-MODIFIED:20161005T161950Z
UID:10000435-1478682000-1478714400@www.taguelumber.com
SUMMARY:NeoCon East & AIA Design on the Delaware Convention
DESCRIPTION:Stop by our booth #1072\nat the NeoCon East\n& AIA Design on the Delaware Event\nPA Convention Center\n1101 Arch Street\, Phila PA\nWednesday\, November 9th\nfrom 9:00 am – 6:00 pm \n& Thursday\, November 10th\nfrom 9:00 am – 4:00 pm\nNeoCon East Convention Nov. 9-10 in Phila.\, PA
URL:https://www.taguelumber.com/event/neocon-east-aia-design-on-the-delaware-convention/
LOCATION:Philadelphia Convention Center\, 1101 Arch Street\, Philadelphia\, PA\, United States
CATEGORIES:Design Showroom,Doylestown,Kennett Square,Media,Philadelphia,Phoenixville
GEO:39.9539479;-75.1588457
X-APPLE-STRUCTURED-LOCATION;VALUE=URI;X-ADDRESS=Philadelphia Convention Center 1101 Arch Street Philadelphia PA United States;X-APPLE-RADIUS=500;X-TITLE=1101 Arch Street:geo:-75.1588457,39.9539479
END:VEVENT
BEGIN:VEVENT
DTSTART;TZID=America/New_York:20161110T090000
DTEND;TZID=America/New_York:20161110T160000
DTSTAMP:20260424T115354
CREATED:20161005T162217Z
LAST-MODIFIED:20161005T162217Z
UID:10000436-1478768400-1478793600@www.taguelumber.com
SUMMARY:NeoCon East & AIA Design on the Delaware Convention
DESCRIPTION:Stop by our booth #1072\nat the NeoCon East\n& AIA Design on the Delaware Event\nPA Convention Center\n1101 Arch Street\, Phila PA\n Thursday\, November 10th\nfrom 9:00 am – 4:00 pm\nNeoCon East Convention Nov. 9-10 in Phila.\, PA
URL:https://www.taguelumber.com/event/neocon-east-aia-design-on-the-delaware-convention-2/
LOCATION:Philadelphia Convention Center\, 1101 Arch Street\, Philadelphia\, PA\, United States
CATEGORIES:Design Showroom,Doylestown,Kennett Square,Media,Philadelphia,Phoenixville
GEO:39.9539479;-75.1588457
X-APPLE-STRUCTURED-LOCATION;VALUE=URI;X-ADDRESS=Philadelphia Convention Center 1101 Arch Street Philadelphia PA United States;X-APPLE-RADIUS=500;X-TITLE=1101 Arch Street:geo:-75.1588457,39.9539479
END:VEVENT
BEGIN:VEVENT
DTSTART;VALUE=DATE:20161111
DTEND;VALUE=DATE:20161112
DTSTAMP:20260424T115354
CREATED:20160223T160931Z
LAST-MODIFIED:20160223T160931Z
UID:10000365-1478822400-1478908799@www.taguelumber.com
SUMMARY:Veteran's Day --Thank you for your service!
DESCRIPTION:Tague Lumber honors the brave men and women who served the United States in all wars. We are proud to offer all military personnel a 10% discount. (See your sales representative for details.)\nDid you know?\nOn the 11th hour of the 11th day of the 11th month of 1918 an armistice between Germany and the Allied nations came into effect. On November 11\, 1919\, Armistice Day was commemorated for the first time. In 1919\, President Wilson proclaimed the day should be “filled with solemn pride in the heroism of those who died in the country’s service and with gratitude for the victory”. \nIn 1926\, the United States Congress officially recognized the end of World War I and declared that the anniversary of the armistice should be commemorated with prayer and thanksgiving. Act (52) was approved on May 13\, 1938\, which made November 11 in each year a legal holiday\, known as Armistice Day. This day was originally intended to honor veterans of World War I. A few years later\, World War II required the largest mobilization of service men in the history of the United States and the American forces fought in Korea. In 1954\, the veterans service organizations urged Congress to change the word “Armistice” to “Veterans”. Congress approved this change and on June 1\, 1954\, November 11 became a day to honor all American veterans\, where ever and whenever they had served.
URL:https://www.taguelumber.com/event/veterans-day-thank-you-for-your-service/
END:VEVENT
BEGIN:VEVENT
DTSTART;TZID=America/New_York:20161111T140000
DTEND;TZID=America/New_York:20161112T170000
DTSTAMP:20260424T115354
CREATED:20161024T180318Z
LAST-MODIFIED:20161024T181103Z
UID:10000441-1478872800-1478970000@www.taguelumber.com
SUMMARY:Inventory Schedule - Tague of Phoenixville
DESCRIPTION:Tague Lumber inventory schedule and early closing information.\nTague Lumber of Phoenixville will be closing at 2:00 pm on Friday\, Nov. 11\, 2016 and will remain closed on Saturday\, Nov. 12th for our annual inventory. We appreciate your understanding and apologize for any inconvenience. We will reopen with regular business hours on Monday\, Nov. 14\, 2016.
URL:https://www.taguelumber.com/event/inventory-schedule-tague-of-phoenixville/
LOCATION:Tague Lumber in Phoenixville\, 405 Bridge Street\, Phoenixville\, PA\, 19460\, United States
CATEGORIES:Phoenixville
GEO:40.132012;-75.523179
X-APPLE-STRUCTURED-LOCATION;VALUE=URI;X-ADDRESS=Tague Lumber in Phoenixville 405 Bridge Street Phoenixville PA 19460 United States;X-APPLE-RADIUS=500;X-TITLE=405 Bridge Street:geo:-75.523179,40.132012
END:VEVENT
BEGIN:VEVENT
DTSTART;TZID=America/New_York:20161118T140000
DTEND;TZID=America/New_York:20161119T170000
DTSTAMP:20260424T115354
CREATED:20161024T180825Z
LAST-MODIFIED:20161024T180825Z
UID:10000442-1479477600-1479574800@www.taguelumber.com
SUMMARY:Inventory Schedule - Tague Lumber of Philadelphia
DESCRIPTION:  \nTague Lumber inventory schedule and early closing information.\nTague Lumber of Philadelphia will be closing at 2:00 pm on Friday\, Nov. 18\, 2016 and will remain closed on Saturday\, Nov. 19th for our annual inventory. We appreciate your understanding and apologize for any inconvenience. We will reopen with regular business hours on Monday\, Nov. 21\, 2016.
URL:https://www.taguelumber.com/event/inventory-schedule-tague-lumber-of-philadelphia/
LOCATION:Tague Lumber of Phila\, 560 E. High Street\, Philadelphia\, PA\, 19144\, United States
CATEGORIES:Philadelphia
GEO:40.0463483;-75.1701749
X-APPLE-STRUCTURED-LOCATION;VALUE=URI;X-ADDRESS=Tague Lumber of Phila 560 E. High Street Philadelphia PA 19144 United States;X-APPLE-RADIUS=500;X-TITLE=560 E. High Street:geo:-75.1701749,40.0463483
END:VEVENT
BEGIN:VEVENT
DTSTART;VALUE=DATE:20161124
DTEND;VALUE=DATE:20161125
DTSTAMP:20260424T115354
CREATED:20160223T043637Z
LAST-MODIFIED:20160223T154843Z
UID:10000421-1479945600-1480031999@www.taguelumber.com
SUMMARY:Happy Thanksgiving!  Tague Lumber closed for the holiday.
DESCRIPTION:All Tague Lumber locations will be closed on Thursday\, November 24\, 2016 to allow our employees to spend time with their families. We will reopen on Friday\, November 25th with normal business hours. We’d like to take this opportunity to thank our customers for their loyalty and wish you all a Happy Thanksgiving!
URL:https://www.taguelumber.com/event/happy-thanksgiving/
LOCATION:Tague Lumber of Phila\, 560 E. High Street\, Philadelphia\, PA\, 19144\, United States
GEO:40.0463483;-75.1701749
X-APPLE-STRUCTURED-LOCATION;VALUE=URI;X-ADDRESS=Tague Lumber of Phila 560 E. High Street Philadelphia PA 19144 United States;X-APPLE-RADIUS=500;X-TITLE=560 E. High Street:geo:-75.1701749,40.0463483
END:VEVENT
END:VCALENDAR