BEGIN:VCALENDAR
VERSION:2.0
PRODID:-//Tague Lumber - ECPv6.15.18//NONSGML v1.0//EN
CALSCALE:GREGORIAN
METHOD:PUBLISH
X-WR-CALNAME:Tague Lumber
X-ORIGINAL-URL:https://www.taguelumber.com
X-WR-CALDESC:Events for Tague Lumber
REFRESH-INTERVAL;VALUE=DURATION:PT1H
X-Robots-Tag:noindex
X-PUBLISHED-TTL:PT1H
BEGIN:VTIMEZONE
TZID:America/New_York
BEGIN:DAYLIGHT
TZOFFSETFROM:-0500
TZOFFSETTO:-0400
TZNAME:EDT
DTSTART:20150308T070000
END:DAYLIGHT
BEGIN:STANDARD
TZOFFSETFROM:-0400
TZOFFSETTO:-0500
TZNAME:EST
DTSTART:20151101T060000
END:STANDARD
BEGIN:DAYLIGHT
TZOFFSETFROM:-0500
TZOFFSETTO:-0400
TZNAME:EDT
DTSTART:20160313T070000
END:DAYLIGHT
BEGIN:STANDARD
TZOFFSETFROM:-0400
TZOFFSETTO:-0500
TZNAME:EST
DTSTART:20161106T060000
END:STANDARD
BEGIN:DAYLIGHT
TZOFFSETFROM:-0500
TZOFFSETTO:-0400
TZNAME:EDT
DTSTART:20170312T070000
END:DAYLIGHT
BEGIN:STANDARD
TZOFFSETFROM:-0400
TZOFFSETTO:-0500
TZNAME:EST
DTSTART:20171105T060000
END:STANDARD
END:VTIMEZONE
BEGIN:VEVENT
DTSTART;TZID=America/New_York:20160701T080000
DTEND;TZID=America/New_York:20160826T120000
DTSTAMP:20260421T143244
CREATED:20160718T130159Z
LAST-MODIFIED:20160718T130159Z
UID:10000425-1467360000-1472212800@www.taguelumber.com
SUMMARY:Great Grill Giveaway at Tague Lumber
DESCRIPTION:ENTER to WIN a Traeger 2016 Pro Series-Bronze Smoker Grill Package worth $1\,050! \nStop by any of these convenient Tague Lumber locations:  Doylestown\, Germantown\, Kennett Square\, Media\, or Phoenixville and enter our “Great Grill Giveaway.”  Contest runs all summer long so the more you visit\, the more chances you have to win!\n \n\nStop in and view the Traeger 2016 Pro Series- Bronze Smoker Grill on display at each location.\nEach visit to one of the locations listed above earns customers an entry form for the drawing. (One entry form per customer\, per visit.)\nThis promotion is for IN-STORE purchases/visits ONLY.  Sorry\, Phone orders do not qualify. \nPrize Drawings will take place on Friday\, August 26th at each location. \nValue of the prize package is $1\,050!\n\nPromotion runs from July through the prize drawing on Aug 26th. \nTague Lumber Great Grill Giveaway Summer 2016
URL:https://www.taguelumber.com/event/great-grill-giveaway-at-tague-lumber/
LOCATION:Tague – Germantown\, 560 E. High Street\, Philadelphia\, PA\, 19144\, United States
CATEGORIES:Doylestown,Kennett Square,Media,Philadelphia,Phoenixville
GEO:40.0464738;-75.1703722
X-APPLE-STRUCTURED-LOCATION;VALUE=URI;X-ADDRESS=Tague – Germantown 560 E. High Street Philadelphia PA 19144 United States;X-APPLE-RADIUS=500;X-TITLE=560 E. High Street:geo:-75.1703722,40.0464738
END:VEVENT
BEGIN:VEVENT
DTSTART;VALUE=DATE:20160704
DTEND;VALUE=DATE:20160705
DTSTAMP:20260421T143244
CREATED:20160222T140629Z
LAST-MODIFIED:20160701T210130Z
UID:10000410-1467590400-1467676799@www.taguelumber.com
SUMMARY:Happy 4th of July!  All Tague locations are closed.
DESCRIPTION:Tague Lumber wishes you a safe and Happy 4th of July! Please note our holiday schedule for each location:  \nAll Tague Lumber locations will be CLOSED on Monday\, July 4th in observance of Independence Day. \n\n We will reopen with normal business hours on Tuesday\, July 5th\nEnjoy your holiday!
URL:https://www.taguelumber.com/event/happy-4th-of-july-tague-holiday-schedule/
CATEGORIES:Design Showroom,Kennett Square,Media
END:VEVENT
BEGIN:VEVENT
DTSTART;TZID=America/New_York:20160711T100000
DTEND;TZID=America/New_York:20160711T140000
DTSTAMP:20260421T143244
CREATED:20160706T001629Z
LAST-MODIFIED:20160706T002643Z
UID:10000382-1468231200-1468245600@www.taguelumber.com
SUMMARY:Jeld-Wen Free BBQ & Mobile Showroom coming to Tague Lumber Doylestown
DESCRIPTION:Please join us for a Free BBQ lunch when the Jeld-Wen “Mobile Showroom” visits Tague Lumber of Doylestown. This innovative new mobile showroom offers an easy\, convenient educational experience. Now we can bring the products samples directly to our customers. \n\nInformation at the right time\, in the right place.\nSee product samples first-hand.\nLearn about key features and benefits of the product lines.\nInteract with specialists dedicated to helping you grow your business!\nFree BBQ lunch\nDoor prizes!\nSpecial pricing.\n\nJeld-Wen mobile trailer event at Tague Lumber of Doylestown on Mon.\, July 11\, 2016
URL:https://www.taguelumber.com/event/jeld-wen-mobile-showroom-bbq-event-coming-to-tague-doylestown/
LOCATION:Tague Lumber of Doylestown\, 6100 Easton Road\, Plumsteadville\, PA\, 18949\, United States
CATEGORIES:Doylestown
GEO:40.3908118;-75.1474302
X-APPLE-STRUCTURED-LOCATION;VALUE=URI;X-ADDRESS=Tague Lumber of Doylestown 6100 Easton Road Plumsteadville PA 18949 United States;X-APPLE-RADIUS=500;X-TITLE=6100 Easton Road:geo:-75.1474302,40.3908118
END:VEVENT
BEGIN:VEVENT
DTSTART;TZID=America/New_York:20160712T100000
DTEND;TZID=America/New_York:20160712T140000
DTSTAMP:20260421T143244
CREATED:20160706T002232Z
LAST-MODIFIED:20160706T004203Z
UID:10000383-1468317600-1468332000@www.taguelumber.com
SUMMARY:Jeld-Wen Free BBQ & Mobile Showroom Event coming to Tague Lumber Phoenixville
DESCRIPTION:Please join us for a Free BBQ lunch when the Jeld-Wen “Mobile Showroom” visits Tague Lumber of Phoenixville. This innovative new mobile showroom offers an easy\, convenient educational experience. Now we can bring the products samples directly to our customers. \n\nInformation at the right time\, in the right place.\nSee product samples first-hand.\nLearn about key features and benefits of the product lines.\nInteract with specialists dedicated to helping you grow your business!\nFree BBQ lunch\nDoor prizes!\nSpecial pricing.\nJeld-wen Mobile Showroom and BBQ event at Tague Lumber of Phoenixville
URL:https://www.taguelumber.com/event/jeld-wen-free-bbq-mobile-showroom-event-coming-to-tague-lumber-phoenixville/
LOCATION:Tague Lumber in Phoenixville\, 405 Bridge Street\, Phoenixville\, PA\, 19460\, United States
CATEGORIES:Phoenixville
GEO:40.132012;-75.523179
X-APPLE-STRUCTURED-LOCATION;VALUE=URI;X-ADDRESS=Tague Lumber in Phoenixville 405 Bridge Street Phoenixville PA 19460 United States;X-APPLE-RADIUS=500;X-TITLE=405 Bridge Street:geo:-75.523179,40.132012
END:VEVENT
BEGIN:VEVENT
DTSTART;TZID=America/New_York:20160713T100000
DTEND;TZID=America/New_York:20160713T140000
DTSTAMP:20260421T143244
CREATED:20160706T004020Z
LAST-MODIFIED:20160706T004021Z
UID:10000424-1468404000-1468418400@www.taguelumber.com
SUMMARY:2 Free AIA seminars & BONUS tour of Jeld-Wen Mobile Showroom at Tague Design Showroom
DESCRIPTION:Tague Design Showroom will offering Free AIA Product Seminars (2 CEUs) at our Malvern Showroom! Join us for the seminars\, stay for the complimentary BBQ lunch and get a BONUS tour of the Jeld-Wen Mobile Showroom.  Learn the key features and benefits of Jeld-Wen products from specialists dedicated to helping you understand how to appropriately apply & integrate products into your designs. \nSeminar #1\n11:00 am – 12:00 pm\nUnderstanding Wood Window Manufacturing Capabilities: Product Durability and Design Flexibility (1HSW CEU) \n12:00 pm – 1:00 pm FREE BBQ Lunch & Tour of Mobile Showroom \nSeminar #2\n1:00 pm – 2:00 pm • Improved Window and Door Flashing Design (1HSW CEU) \n  \nRegistration is required for Seminars. To reserve your seat\, Call Tague Arch. Products Rep\, Maura Crago at 267-678-7304 \n  \n\n\nFree AIA Seminar and Jeld-Wen Mobile Showroom visits the Tague Design Showroom
URL:https://www.taguelumber.com/event/2-free-aia-seminars-bonus-tour-of-jeld-wen-mobile-showroom-at-tague-design-showroom/
LOCATION:Tague Design Showroom\, 181 Lancaster Avenue\, Malvern\, PA\, 19355\, United States
CATEGORIES:Design Showroom
GEO:40.043512;-75.537697
X-APPLE-STRUCTURED-LOCATION;VALUE=URI;X-ADDRESS=Tague Design Showroom 181 Lancaster Avenue Malvern PA 19355 United States;X-APPLE-RADIUS=500;X-TITLE=181 Lancaster Avenue:geo:-75.537697,40.043512
END:VEVENT
END:VCALENDAR