BEGIN:VCALENDAR
VERSION:2.0
PRODID:-//Tague Lumber - ECPv6.15.18//NONSGML v1.0//EN
CALSCALE:GREGORIAN
METHOD:PUBLISH
X-WR-CALNAME:Tague Lumber
X-ORIGINAL-URL:https://www.taguelumber.com
X-WR-CALDESC:Events for Tague Lumber
REFRESH-INTERVAL;VALUE=DURATION:PT1H
X-Robots-Tag:noindex
X-PUBLISHED-TTL:PT1H
BEGIN:VTIMEZONE
TZID:America/New_York
BEGIN:DAYLIGHT
TZOFFSETFROM:-0500
TZOFFSETTO:-0400
TZNAME:EDT
DTSTART:20150308T070000
END:DAYLIGHT
BEGIN:STANDARD
TZOFFSETFROM:-0400
TZOFFSETTO:-0500
TZNAME:EST
DTSTART:20151101T060000
END:STANDARD
BEGIN:DAYLIGHT
TZOFFSETFROM:-0500
TZOFFSETTO:-0400
TZNAME:EDT
DTSTART:20160313T070000
END:DAYLIGHT
BEGIN:STANDARD
TZOFFSETFROM:-0400
TZOFFSETTO:-0500
TZNAME:EST
DTSTART:20161106T060000
END:STANDARD
BEGIN:DAYLIGHT
TZOFFSETFROM:-0500
TZOFFSETTO:-0400
TZNAME:EDT
DTSTART:20170312T070000
END:DAYLIGHT
BEGIN:STANDARD
TZOFFSETFROM:-0400
TZOFFSETTO:-0500
TZNAME:EST
DTSTART:20171105T060000
END:STANDARD
END:VTIMEZONE
BEGIN:VEVENT
DTSTART;TZID=America/New_York:20160512T110000
DTEND;TZID=America/New_York:20160512T133000
DTSTAMP:20260424T115311
CREATED:20160504T123148Z
LAST-MODIFIED:20160504T123148Z
UID:10000372-1463050800-1463059800@www.taguelumber.com
SUMMARY:FREE AIA Seminar at Tague Lumber – Kennett Square
DESCRIPTION:Earn (2) CEUs at our FREE AIA lunch & learn seminars. Complimentary lunch will be provided. \nEvent Date:  Thursday\, May 12\, 2016\nWhere:  Tague Lumber\, 475 McFarlan Road\, Kennett Square\, PA\nTime:  Session 1 (11:00 –12:00); Lunch 12:00 –12:30;  Session 2 (12:30 – 1:30pm) \nCOURSE DESCRIPTIONS:\nTime: 11:00 a.m. – 12:00 p.m. (presented by HB&G)\nSession One: Innovative Column Options for the 21st Century    (HBG06C) 1 CEU/HSW\nBecome aware of the column design options and the materials they are made from. Describe the manufacturing process for column materials. Explain the construction process of the different column material options. Identify the characteristics of the materials used in column construction. Explain the current trends and construction standards that have affected column design in the construction industry today. \nTime: 12:30 p.m. – 1:30 p.m.  (AZT101) 1 CEU/HSW\nSession Two: Cellular PVC and the Changing Face of Trim Products\nThis course explores The types of cellular PVC and the different manufacturing processes. Who is using cellular PVC and how to use it? Understanding the product category so you can make an educated and informed decision when specifying products. Specification and installation considerations when using cellular PVCable practices. \nSEATS ARE LIMITED! Registrations should be through  MAURA CRAGO at: mcrago@taguelumber.com\nFor more information call Maura Crago at 267-678-7304.
URL:https://www.taguelumber.com/event/free-aia-seminar-at-tague-lumber-kennett-square/
LOCATION:Tague Lumber – Kennett Sq.\, 475 McFarlan Road\, Kennett Square\, 19348\, United States
CATEGORIES:Kennett Square
GEO:39.8452967;-75.692673
X-APPLE-STRUCTURED-LOCATION;VALUE=URI;X-ADDRESS=Tague Lumber – Kennett Sq. 475 McFarlan Road Kennett Square 19348 United States;X-APPLE-RADIUS=500;X-TITLE=475 McFarlan Road:geo:-75.692673,39.8452967
END:VEVENT
BEGIN:VEVENT
DTSTART;TZID=America/New_York:20160516T100000
DTEND;TZID=America/New_York:20160516T140000
DTSTAMP:20260424T115311
CREATED:20160222T183723Z
LAST-MODIFIED:20160223T145235Z
UID:10000416-1463392800-1463407200@www.taguelumber.com
SUMMARY:BBQ & Contactor Demo Day at our Philadelphia yard
DESCRIPTION:Join us \nat our Philadelphia location (ONLY) \nfor FREE delicious BBQ & Tool Demos \nfrom some of our top selling product brands. \nTake advantage of special pricing and discounts. \nPlus lots of prizes & giveaways.
URL:https://www.taguelumber.com/event/bbq-contactor-demo-day-at-our-philadelphia-yard/
LOCATION:Tague – Germantown\, 560 E. High Street\, Philadelphia\, PA\, 19144\, United States
CATEGORIES:Media
GEO:40.0464738;-75.1703722
X-APPLE-STRUCTURED-LOCATION;VALUE=URI;X-ADDRESS=Tague – Germantown 560 E. High Street Philadelphia PA 19144 United States;X-APPLE-RADIUS=500;X-TITLE=560 E. High Street:geo:-75.1703722,40.0464738
END:VEVENT
BEGIN:VEVENT
DTSTART;TZID=America/New_York:20160517T100000
DTEND;TZID=America/New_York:20160517T140000
DTSTAMP:20260424T115311
CREATED:20160222T183926Z
LAST-MODIFIED:20160223T145110Z
UID:10000417-1463479200-1463493600@www.taguelumber.com
SUMMARY:BBQ & Contractor Demo Day in our Media yard
DESCRIPTION:Join us \nat our Media location (ONLY) \nfor FREE delicious BBQ & Tool Demos \nfrom some of our top selling product brands. \nTake advantage of special pricing and discounts. \nPlus lots of prizes & giveaways.
URL:https://www.taguelumber.com/event/bbq-contractor-demo-day-in-our-media-yard/
LOCATION:Tague Lumber in Media\, 325 Media Station Road\, Media\, PA\, 19063\, United States
CATEGORIES:Media
GEO:39.914326;-75.396747
X-APPLE-STRUCTURED-LOCATION;VALUE=URI;X-ADDRESS=Tague Lumber in Media 325 Media Station Road Media PA 19063 United States;X-APPLE-RADIUS=500;X-TITLE=325 Media Station Road:geo:-75.396747,39.914326
END:VEVENT
BEGIN:VEVENT
DTSTART;TZID=America/New_York:20160518T100000
DTEND;TZID=America/New_York:20160518T140000
DTSTAMP:20260424T115311
CREATED:20160222T184335Z
LAST-MODIFIED:20160223T143822Z
UID:10000419-1463565600-1463580000@www.taguelumber.com
SUMMARY:Hoagie Day & Contractor Demos at our Kennett Square yard
DESCRIPTION:Join us \nat our Kennett Square location (ONLY) \nfor FREE delicious Hoagies while you checkout Tool Demos \nfrom some of our top selling product brands. \nTake advantage of special pricing and discounts. \nPlus lots of prizes & giveaways.
URL:https://www.taguelumber.com/event/bbq-contractor-demo-day-at-our-kennett-square-yard/
LOCATION:Tague Lumber – Kennett Sq.\, 475 McFarlan Road\, Kennett Square\, 19348\, United States
GEO:39.8452967;-75.692673
X-APPLE-STRUCTURED-LOCATION;VALUE=URI;X-ADDRESS=Tague Lumber – Kennett Sq. 475 McFarlan Road Kennett Square 19348 United States;X-APPLE-RADIUS=500;X-TITLE=475 McFarlan Road:geo:-75.692673,39.8452967
END:VEVENT
BEGIN:VEVENT
DTSTART;TZID=America/New_York:20160519T100000
DTEND;TZID=America/New_York:20160519T140000
DTSTAMP:20260424T115311
CREATED:20160222T184100Z
LAST-MODIFIED:20160223T143707Z
UID:10000418-1463652000-1463666400@www.taguelumber.com
SUMMARY:BBQ & Contractor Demo Day at our Phoenixville yard
DESCRIPTION:Join us \nat our Phoenixville location (ONLY) \nfor FREE delicious BBQ & Tool Demos \nfrom some of our top selling product brands. \nTake advantage of special pricing and discounts. \nPlus lots of prizes & giveaways.
URL:https://www.taguelumber.com/event/bbq-contractor-demo-day-at-our-phoenixville-yard/
LOCATION:Tague Lumber in Phoenixville\, 405 Bridge Street\, Phoenixville\, PA\, 19460\, United States
GEO:40.132012;-75.523179
X-APPLE-STRUCTURED-LOCATION;VALUE=URI;X-ADDRESS=Tague Lumber in Phoenixville 405 Bridge Street Phoenixville PA 19460 United States;X-APPLE-RADIUS=500;X-TITLE=405 Bridge Street:geo:-75.523179,40.132012
END:VEVENT
BEGIN:VEVENT
DTSTART;TZID=America/New_York:20160520T100000
DTEND;TZID=America/New_York:20160520T140000
DTSTAMP:20260424T115311
CREATED:20160222T174812Z
LAST-MODIFIED:20160223T143613Z
UID:10000414-1463738400-1463752800@www.taguelumber.com
SUMMARY:BBQ & Contractor Demo day at Tague Lumber Doylestown
DESCRIPTION:Join us \nat our Doylestown location (ONLY) \nfor FREE delicious BBQ & Tool Demos \nfrom some of our top selling product brands. \nTake advantage of special pricing and discounts. \nPlus lots of prizes & giveaways.
URL:https://www.taguelumber.com/event/contractor-bbq-days-at-tague-lumber-doylestown/
LOCATION:Tague Lumber – Doylestown\, 6100 Easton Road\, Plumsteadville\, PA\, 18947\, United States
GEO:40.329846;-75.1293725
X-APPLE-STRUCTURED-LOCATION;VALUE=URI;X-ADDRESS=Tague Lumber – Doylestown 6100 Easton Road Plumsteadville PA 18947 United States;X-APPLE-RADIUS=500;X-TITLE=6100 Easton Road:geo:-75.1293725,40.329846
END:VEVENT
BEGIN:VEVENT
DTSTART;VALUE=DATE:20160528
DTEND;VALUE=DATE:20160531
DTSTAMP:20260424T115311
CREATED:20160222T181952Z
LAST-MODIFIED:20160223T153957Z
UID:10000415-1464393600-1464652799@www.taguelumber.com
SUMMARY:All Tague Lumber locations will be CLOSED for the Memorial Day holiday
DESCRIPTION:All Tague Lumber locations will be closed in observance of the Memorial Day holiday on the following days:\nSaturday\, May 28 — closed\nMonday\, May 30 — closed\nWe will reopen on Tuesday\, May 31st with our regular business hours.\nHave a safe and Happy Memorial Day!\n \n 
URL:https://www.taguelumber.com/event/all-tague-lumber-locations-will-be-closed-for-the-memorial-day-holiday/
LOCATION:Tague Lumber\, Media/Phila/Phoenixville
GEO:40.1303822;-75.5149128
X-APPLE-STRUCTURED-LOCATION;VALUE=URI;X-ADDRESS=Tague Lumber Media/Phila/Phoenixville;X-APPLE-RADIUS=500;X-TITLE=Media/Phila/Phoenixville:geo:-75.5149128,40.1303822
END:VEVENT
END:VCALENDAR