BEGIN:VCALENDAR
VERSION:2.0
PRODID:-//Tague Lumber - ECPv6.15.18//NONSGML v1.0//EN
CALSCALE:GREGORIAN
METHOD:PUBLISH
X-ORIGINAL-URL:https://www.taguelumber.com
X-WR-CALDESC:Events for Tague Lumber
REFRESH-INTERVAL;VALUE=DURATION:PT1H
X-Robots-Tag:noindex
X-PUBLISHED-TTL:PT1H
BEGIN:VTIMEZONE
TZID:UTC
BEGIN:STANDARD
TZOFFSETFROM:+0000
TZOFFSETTO:+0000
TZNAME:UTC
DTSTART:20140101T000000
END:STANDARD
END:VTIMEZONE
BEGIN:VEVENT
DTSTART;TZID=UTC:20150603T080000
DTEND;TZID=UTC:20150603T130000
DTSTAMP:20260424T132933
CREATED:20150429T145821Z
LAST-MODIFIED:20150429T145821Z
UID:10000389-1433318400-1433336400@www.taguelumber.com
SUMMARY:Paslode Tool Trade-in Event at our MEDIA Location
DESCRIPTION:Join us at our Media location (ONLY)\n for a \nPaslode Tool Trade-in Event\n\nDATE:  Wednesday\, June 3\, 2015\nTIME:  8:00 AM – 1:00 PM\nLOCATION:   Tague Lumber\, 325 Media Station Road\, Media PA\nTrade in an older model Paslode or a comparable competitive brand tool and receive a $75.00 credit towards a NEW replacement tool from Paslode. Contact the hardware manager\, Ed Hyland\, at our Media location for more details. Call 610-566-1200. \n 
URL:https://www.taguelumber.com/event/paslode-tool-trade-in-event-at-our-media-location/
LOCATION:Tague Lumber – Media\, 325 Media Station Road\, Media/Phila/Phoenixville
CATEGORIES:Media
GEO:40.1303822;-75.5149128
X-APPLE-STRUCTURED-LOCATION;VALUE=URI;X-ADDRESS=DESCRIPTION:Join us at our Media location (ONLY)\n for a \nPaslode Tool Trade-in Event\n\nDATE:  Wednesday June 3 2015\nTIME:  8:00 AM – 1:00 PM\n   Tague Lumber 325 Media Station Road Media PA\nTrade in an older model Paslode or a comparable competitive brand tool and receive a $75.00 credit towards a NEW replacement tool from Paslode. Contact the hardware manager Ed Hyland at our Media location for more details. Call 610-566-1200. \n ;X-APPLE-RADIUS=500;X-TITLE=325 Media Station Road:geo:-75.5149128,40.1303822
END:VEVENT
END:VCALENDAR