BEGIN:VCALENDAR
VERSION:2.0
PRODID:-//Tague Lumber - ECPv6.15.18//NONSGML v1.0//EN
CALSCALE:GREGORIAN
METHOD:PUBLISH
X-ORIGINAL-URL:https://www.taguelumber.com
X-WR-CALDESC:Events for Tague Lumber
REFRESH-INTERVAL;VALUE=DURATION:PT1H
X-Robots-Tag:noindex
X-PUBLISHED-TTL:PT1H
BEGIN:VTIMEZONE
TZID:UTC
BEGIN:STANDARD
TZOFFSETFROM:+0000
TZOFFSETTO:+0000
TZNAME:UTC
DTSTART:20130101T000000
END:STANDARD
END:VTIMEZONE
BEGIN:VEVENT
DTSTART;TZID=UTC:20141101T110000
DTEND;TZID=UTC:20141101T160000
DTSTAMP:20260424T150059
CREATED:20140925T015817Z
LAST-MODIFIED:20140925T015817Z
UID:10000357-1414839600-1414857600@www.taguelumber.com
SUMMARY:Philadelphia Magazine's 2014 Design Home
DESCRIPTION:Tague Design Showroom and Tague Lumber are proud participants of Philadelphia Magazine’s Design Home 2014.  From the breathtaking gourmet kitchen to the stunning custom cabinetry in the bathrooms\, laundry rooms\, and bar areas; from the windows\, doors\, and hardware down to the very lumber used to frame the house — the craftsmanship and innovative designs of the Tague Design Showroom and the quality building materials from Tague Lumber will be on display in the beautiful 2014 Design Home.\nLOCATION:  622 E. Gravers Lane\, Wyndmoor\, PA\nTOURS:  Design Home will be open from Thursday\, Oct. 23 through Sunday\, November 16th. Tours are only given on Thursdays\, Saturday\, Sunday and Monday from 11:00 am – 4:00 pm (closed Tuesday & Wednesday\, Friday). All proceeds benefit MANNA.\nFor more information on tickets & tours:   http://www.phillymag.com/designhome2014/\n 
URL:https://www.taguelumber.com/event/philadelphia-magazines-2014-design-home-2/
LOCATION:Design Home 2014\, 622 E Gravers Ln\, Wyndmoor\, PA\, 19038\, United States
CATEGORIES:Design Showroom
GEO:40.08327;-75.19596
X-APPLE-STRUCTURED-LOCATION;VALUE=URI;X-ADDRESS=DESCRIPTION:Tague Design Showroom and Tague Lumber are proud participants of Philadelphia Magazine’s Design Home 2014.  From the breathtaking gourmet kitchen to the stunning custom cabinetry in the bathrooms laundry rooms and bar areas; from the windows doors and hardware down to the very lumber used to frame the house — the craftsmanship and innovative designs of the Tague Design Showroom and the quality building materials from Tague Lumber will be on display in the beautiful 2014 Design Home.\n  622 E. Gravers Lane Wyndmoor PA\nTOURS:  Design Home will be open from Thursday Oct. 23 through Sunday November 16th. Tours are only given on Thursdays Saturday Sunday and Monday from 11:00 am – 4:00 pm (closed Tuesday & Wednesday Friday). All proceeds benefit MANNA.\nFor more information on tickets & tours:   http://www.phillymag.com/designhome2014/\n ;X-APPLE-RADIUS=500;X-TITLE=622 E Gravers Ln:geo:-75.19596,40.08327
END:VEVENT
BEGIN:VEVENT
DTSTART;TZID=UTC:20141102T110000
DTEND;TZID=UTC:20141102T160000
DTSTAMP:20260424T150059
CREATED:20140925T015902Z
LAST-MODIFIED:20140925T015920Z
UID:10000358-1414926000-1414944000@www.taguelumber.com
SUMMARY:Philadelphia Magazine's 2014 Design Home Tours
DESCRIPTION:Tague Design Showroom and Tague Lumber are proud participants of Philadelphia Magazine’s Design Home 2014.  From the breathtaking gourmet kitchen to the stunning custom cabinetry in the bathrooms\, laundry rooms\, and bar areas; from the windows\, doors\, and hardware down to the very lumber used to frame the house — the craftsmanship and innovative designs of the Tague Design Showroom and the quality building materials from Tague Lumber will be on display in the beautiful 2014 Design Home.\nLOCATION:  622 E. Gravers Lane\, Wyndmoor\, PA\nTOURS:  Design Home will be open from Thursday\, Oct. 23 through Sunday\, November 16th. Tours are only given on Thursdays\, Saturday\, Sunday and Monday from 11:00 am – 4:00 pm (closed Tuesday & Wednesday\, Friday). All proceeds benefit MANNA.\nFor more information on tickets & tours:   http://www.phillymag.com/designhome2014/\n 
URL:https://www.taguelumber.com/event/15557/
LOCATION:Design Home 2014\, 622 E Gravers Ln\, Wyndmoor\, PA\, 19038\, United States
CATEGORIES:Design Showroom
GEO:40.08327;-75.19596
X-APPLE-STRUCTURED-LOCATION;VALUE=URI;X-ADDRESS=DESCRIPTION:Tague Design Showroom and Tague Lumber are proud participants of Philadelphia Magazine’s Design Home 2014.  From the breathtaking gourmet kitchen to the stunning custom cabinetry in the bathrooms laundry rooms and bar areas; from the windows doors and hardware down to the very lumber used to frame the house — the craftsmanship and innovative designs of the Tague Design Showroom and the quality building materials from Tague Lumber will be on display in the beautiful 2014 Design Home.\n  622 E. Gravers Lane Wyndmoor PA\nTOURS:  Design Home will be open from Thursday Oct. 23 through Sunday November 16th. Tours are only given on Thursdays Saturday Sunday and Monday from 11:00 am – 4:00 pm (closed Tuesday & Wednesday Friday). All proceeds benefit MANNA.\nFor more information on tickets & tours:   http://www.phillymag.com/designhome2014/\n ;X-APPLE-RADIUS=500;X-TITLE=622 E Gravers Ln:geo:-75.19596,40.08327
END:VEVENT
BEGIN:VEVENT
DTSTART;TZID=UTC:20141103T110000
DTEND;TZID=UTC:20141103T160000
DTSTAMP:20260424T150059
CREATED:20140925T020022Z
LAST-MODIFIED:20140925T020022Z
UID:10000359-1415012400-1415030400@www.taguelumber.com
SUMMARY:Philadelphia Magazine's 2014 Design Home Tours
DESCRIPTION:Tague Design Showroom and Tague Lumber are proud participants of Philadelphia Magazine’s Design Home 2014.  From the breathtaking gourmet kitchen to the stunning custom cabinetry in the bathrooms\, laundry rooms\, and bar areas; from the windows\, doors\, and hardware down to the very lumber used to frame the house — the craftsmanship and innovative designs of the Tague Design Showroom and the quality building materials from Tague Lumber will be on display in the beautiful 2014 Design Home.\nLOCATION:  622 E. Gravers Lane\, Wyndmoor\, PA\nTOURS:  Design Home will be open from Thursday\, Oct. 23 through Sunday\, November 16th. Tours are only given on Thursdays\, Saturday\, Sunday and Monday from 11:00 am – 4:00 pm (closed Tuesday & Wednesday\, Friday). All proceeds benefit MANNA.\nFor more information on tickets & tours:   http://www.phillymag.com/designhome2014/\n 
URL:https://www.taguelumber.com/event/philadelphia-magazines-2014-design-home-tours-4/
LOCATION:Design Home 2014\, 622 E Gravers Ln\, Wyndmoor\, PA\, 19038\, United States
CATEGORIES:Design Showroom
GEO:40.08327;-75.19596
X-APPLE-STRUCTURED-LOCATION;VALUE=URI;X-ADDRESS=DESCRIPTION:Tague Design Showroom and Tague Lumber are proud participants of Philadelphia Magazine’s Design Home 2014.  From the breathtaking gourmet kitchen to the stunning custom cabinetry in the bathrooms laundry rooms and bar areas; from the windows doors and hardware down to the very lumber used to frame the house — the craftsmanship and innovative designs of the Tague Design Showroom and the quality building materials from Tague Lumber will be on display in the beautiful 2014 Design Home.\n  622 E. Gravers Lane Wyndmoor PA\nTOURS:  Design Home will be open from Thursday Oct. 23 through Sunday November 16th. Tours are only given on Thursdays Saturday Sunday and Monday from 11:00 am – 4:00 pm (closed Tuesday & Wednesday Friday). All proceeds benefit MANNA.\nFor more information on tickets & tours:   http://www.phillymag.com/designhome2014/\n ;X-APPLE-RADIUS=500;X-TITLE=622 E Gravers Ln:geo:-75.19596,40.08327
END:VEVENT
BEGIN:VEVENT
DTSTART;TZID=UTC:20141106T110000
DTEND;TZID=UTC:20141106T160000
DTSTAMP:20260424T150059
CREATED:20140925T020139Z
LAST-MODIFIED:20140925T020139Z
UID:10000360-1415271600-1415289600@www.taguelumber.com
SUMMARY:Philadelphia Magazine's 2014 Design Home Tours
DESCRIPTION:Tague Design Showroom and Tague Lumber are proud participants of Philadelphia Magazine’s Design Home 2014.  From the breathtaking gourmet kitchen to the stunning custom cabinetry in the bathrooms\, laundry rooms\, and bar areas; from the windows\, doors\, and hardware down to the very lumber used to frame the house — the craftsmanship and innovative designs of the Tague Design Showroom and the quality building materials from Tague Lumber will be on display in the beautiful 2014 Design Home.\nLOCATION:  622 E. Gravers Lane\, Wyndmoor\, PA\nTOURS:  Design Home will be open from Thursday\, Oct. 23 through Sunday\, November 16th. Tours are only given on Thursdays\, Saturday\, Sunday and Monday from 11:00 am – 4:00 pm (closed Tuesday & Wednesday\, Friday). All proceeds benefit MANNA.\nFor more information on tickets & tours:   http://www.phillymag.com/designhome2014/\n 
URL:https://www.taguelumber.com/event/philadelphia-magazines-2014-design-home-tours-5/
LOCATION:Design Home 2014\, 622 E Gravers Ln\, Wyndmoor\, PA\, 19038\, United States
CATEGORIES:Design Showroom
GEO:40.08327;-75.19596
X-APPLE-STRUCTURED-LOCATION;VALUE=URI;X-ADDRESS=DESCRIPTION:Tague Design Showroom and Tague Lumber are proud participants of Philadelphia Magazine’s Design Home 2014.  From the breathtaking gourmet kitchen to the stunning custom cabinetry in the bathrooms laundry rooms and bar areas; from the windows doors and hardware down to the very lumber used to frame the house — the craftsmanship and innovative designs of the Tague Design Showroom and the quality building materials from Tague Lumber will be on display in the beautiful 2014 Design Home.\n  622 E. Gravers Lane Wyndmoor PA\nTOURS:  Design Home will be open from Thursday Oct. 23 through Sunday November 16th. Tours are only given on Thursdays Saturday Sunday and Monday from 11:00 am – 4:00 pm (closed Tuesday & Wednesday Friday). All proceeds benefit MANNA.\nFor more information on tickets & tours:   http://www.phillymag.com/designhome2014/\n ;X-APPLE-RADIUS=500;X-TITLE=622 E Gravers Ln:geo:-75.19596,40.08327
END:VEVENT
BEGIN:VEVENT
DTSTART;TZID=UTC:20141106T180000
DTEND;TZID=UTC:20141106T200000
DTSTAMP:20260424T150059
CREATED:20140925T021631Z
LAST-MODIFIED:20140925T021631Z
UID:10000370-1415296800-1415304000@www.taguelumber.com
SUMMARY:Holiday Entertaining Ideas! A night at Philadelphia Magazine's 2014 Design Home
DESCRIPTION:Holiday Entertaining — make your holidays special with gift giving tips\, delicious recipes and decor advice from the Design team at the Philadelphia Magazine Design Home.\nTague Design Showroom and Tague Lumber are proud participants of Philadelphia Magazine’s Design Home 2014.  From the breathtaking gourmet kitchen to the stunning custom cabinetry in the bathrooms\, laundry rooms\, and bar areas; from the windows\, doors\, and hardware down to the very lumber used to frame the house — the craftsmanship and innovative designs of the Tague Design Showroom and the quality building materials from Tague Lumber will be on display in the beautiful 2014 Design Home.\nLOCATION:  622 E. Gravers Lane\, Wyndmoor\, PA\nTOURS:  Design Home will be open from Thursday\, Oct. 23 through Sunday\, November 16th. Tours are only given on Thursdays\, Saturday\, Sunday and Monday from 11:00 am – 4:00 pm (closed Tuesday & Wednesday\, Friday). All proceeds benefit MANNA.\nFor more information on tickets & tours:   http://www.phillymag.com/designhome2014/
URL:https://www.taguelumber.com/event/holiday-entertaining-ideas-a-night-at-philadelphia-magazines-2014-design-home/
LOCATION:Design Home 2014\, 622 E Gravers Ln\, Wyndmoor\, PA\, 19038\, United States
CATEGORIES:Design Showroom
GEO:40.08327;-75.19596
X-APPLE-STRUCTURED-LOCATION;VALUE=URI;X-ADDRESS=DESCRIPTION:Holiday Entertaining — make your holidays special with gift giving tips delicious recipes and decor advice from the Design team at the Philadelphia Magazine Design Home.\nTague Design Showroom and Tague Lumber are proud participants of Philadelphia Magazine’s Design Home 2014.  From the breathtaking gourmet kitchen to the stunning custom cabinetry in the bathrooms laundry rooms and bar areas; from the windows doors and hardware down to the very lumber used to frame the house — the craftsmanship and innovative designs of the Tague Design Showroom and the quality building materials from Tague Lumber will be on display in the beautiful 2014 Design Home.\n  622 E. Gravers Lane Wyndmoor PA\nTOURS:  Design Home will be open from Thursday Oct. 23 through Sunday November 16th. Tours are only given on Thursdays Saturday Sunday and Monday from 11:00 am – 4:00 pm (closed Tuesday & Wednesday Friday). All proceeds benefit MANNA.\nFor more information on tickets & tours:   http://www.phillymag.com/designhome2014/;X-APPLE-RADIUS=500;X-TITLE=622 E Gravers Ln:geo:-75.19596,40.08327
END:VEVENT
BEGIN:VEVENT
DTSTART;TZID=UTC:20141108T110000
DTEND;TZID=UTC:20141108T160000
DTSTAMP:20260424T150059
CREATED:20140925T020358Z
LAST-MODIFIED:20140925T020358Z
UID:10000361-1415444400-1415462400@www.taguelumber.com
SUMMARY:Philadelphia Magazine's 2014 Design Home Tours
DESCRIPTION:Tague Design Showroom and Tague Lumber are proud participants of Philadelphia Magazine’s Design Home 2014.  From the breathtaking gourmet kitchen to the stunning custom cabinetry in the bathrooms\, laundry rooms\, and bar areas; from the windows\, doors\, and hardware down to the very lumber used to frame the house — the craftsmanship and innovative designs of the Tague Design Showroom and the quality building materials from Tague Lumber will be on display in the beautiful 2014 Design Home.\nLOCATION:  622 E. Gravers Lane\, Wyndmoor\, PA\nTOURS:  Design Home will be open from Thursday\, Oct. 23 through Sunday\, November 16th. Tours are only given on Thursdays\, Saturday\, Sunday and Monday from 11:00 am – 4:00 pm (closed Tuesday & Wednesday\, Friday). All proceeds benefit MANNA.\nFor more information on tickets & tours:   http://www.phillymag.com/designhome2014/\n 
URL:https://www.taguelumber.com/event/philadelphia-magazines-2014-design-home-tours-7/
LOCATION:Design Home 2014\, 622 E Gravers Ln\, Wyndmoor\, PA\, 19038\, United States
CATEGORIES:Design Showroom
GEO:40.08327;-75.19596
X-APPLE-STRUCTURED-LOCATION;VALUE=URI;X-ADDRESS=DESCRIPTION:Tague Design Showroom and Tague Lumber are proud participants of Philadelphia Magazine’s Design Home 2014.  From the breathtaking gourmet kitchen to the stunning custom cabinetry in the bathrooms laundry rooms and bar areas; from the windows doors and hardware down to the very lumber used to frame the house — the craftsmanship and innovative designs of the Tague Design Showroom and the quality building materials from Tague Lumber will be on display in the beautiful 2014 Design Home.\n  622 E. Gravers Lane Wyndmoor PA\nTOURS:  Design Home will be open from Thursday Oct. 23 through Sunday November 16th. Tours are only given on Thursdays Saturday Sunday and Monday from 11:00 am – 4:00 pm (closed Tuesday & Wednesday Friday). All proceeds benefit MANNA.\nFor more information on tickets & tours:   http://www.phillymag.com/designhome2014/\n ;X-APPLE-RADIUS=500;X-TITLE=622 E Gravers Ln:geo:-75.19596,40.08327
END:VEVENT
BEGIN:VEVENT
DTSTART;TZID=UTC:20141109T110000
DTEND;TZID=UTC:20141109T160000
DTSTAMP:20260424T150059
CREATED:20140925T020441Z
LAST-MODIFIED:20140925T020510Z
UID:10000362-1415530800-1415548800@www.taguelumber.com
SUMMARY:Philadelphia Magazine's 2014 Design Home Tours
DESCRIPTION:  \nTague Design Showroom and Tague Lumber are proud participants of Philadelphia Magazine’s Design Home 2014.  From the breathtaking gourmet kitchen to the stunning custom cabinetry in the bathrooms\, laundry rooms\, and bar areas; from the windows\, doors\, and hardware down to the very lumber used to frame the house — the craftsmanship and innovative designs of the Tague Design Showroom and the quality building materials from Tague Lumber will be on display in the beautiful 2014 Design Home.\nLOCATION:  622 E. Gravers Lane\, Wyndmoor\, PA\nTOURS:  Design Home will be open from Thursday\, Oct. 23 through Sunday\, November 16th. Tours are only given on Thursdays\, Saturday\, Sunday and Monday from 11:00 am – 4:00 pm (closed Tuesday & Wednesday\, Friday). All proceeds benefit MANNA.\nFor more information on tickets & tours:   http://www.phillymag.com/designhome2014/\n 
URL:https://www.taguelumber.com/event/15562/
LOCATION:Design Home 2014\, 622 E Gravers Ln\, Wyndmoor\, PA\, 19038\, United States
CATEGORIES:Design Showroom
GEO:40.08327;-75.19596
X-APPLE-STRUCTURED-LOCATION;VALUE=URI;X-ADDRESS=DESCRIPTION:  \nTague Design Showroom and Tague Lumber are proud participants of Philadelphia Magazine’s Design Home 2014.  From the breathtaking gourmet kitchen to the stunning custom cabinetry in the bathrooms laundry rooms and bar areas; from the windows doors and hardware down to the very lumber used to frame the house — the craftsmanship and innovative designs of the Tague Design Showroom and the quality building materials from Tague Lumber will be on display in the beautiful 2014 Design Home.\n  622 E. Gravers Lane Wyndmoor PA\nTOURS:  Design Home will be open from Thursday Oct. 23 through Sunday November 16th. Tours are only given on Thursdays Saturday Sunday and Monday from 11:00 am – 4:00 pm (closed Tuesday & Wednesday Friday). All proceeds benefit MANNA.\nFor more information on tickets & tours:   http://www.phillymag.com/designhome2014/\n ;X-APPLE-RADIUS=500;X-TITLE=622 E Gravers Ln:geo:-75.19596,40.08327
END:VEVENT
BEGIN:VEVENT
DTSTART;TZID=UTC:20141110T110000
DTEND;TZID=UTC:20141110T160000
DTSTAMP:20260424T150059
CREATED:20140925T020555Z
LAST-MODIFIED:20140925T020622Z
UID:10000363-1415617200-1415635200@www.taguelumber.com
SUMMARY:Philadelphia Magazine's 2014 Design Home Tours
DESCRIPTION:Tague Design Showroom and Tague Lumber are proud participants of Philadelphia Magazine’s Design Home 2014.  From the breathtaking gourmet kitchen to the stunning custom cabinetry in the bathrooms\, laundry rooms\, and bar areas; from the windows\, doors\, and hardware down to the very lumber used to frame the house — the craftsmanship and innovative designs of the Tague Design Showroom and the quality building materials from Tague Lumber will be on display in the beautiful 2014 Design Home.\nLOCATION:  622 E. Gravers Lane\, Wyndmoor\, PA\nTOURS:  Design Home will be open from Thursday\, Oct. 23 through Sunday\, November 16th. Tours are only given on Thursdays\, Saturday\, Sunday and Monday from 11:00 am – 4:00 pm (closed Tuesday & Wednesday\, Friday). All proceeds benefit MANNA.\nFor more information on tickets & tours:   http://www.phillymag.com/designhome2014/\n 
URL:https://www.taguelumber.com/event/15563/
LOCATION:Design Home 2014\, 622 E Gravers Ln\, Wyndmoor\, PA\, 19038\, United States
CATEGORIES:Design Showroom
GEO:40.08327;-75.19596
X-APPLE-STRUCTURED-LOCATION;VALUE=URI;X-ADDRESS=DESCRIPTION:Tague Design Showroom and Tague Lumber are proud participants of Philadelphia Magazine’s Design Home 2014.  From the breathtaking gourmet kitchen to the stunning custom cabinetry in the bathrooms laundry rooms and bar areas; from the windows doors and hardware down to the very lumber used to frame the house — the craftsmanship and innovative designs of the Tague Design Showroom and the quality building materials from Tague Lumber will be on display in the beautiful 2014 Design Home.\n  622 E. Gravers Lane Wyndmoor PA\nTOURS:  Design Home will be open from Thursday Oct. 23 through Sunday November 16th. Tours are only given on Thursdays Saturday Sunday and Monday from 11:00 am – 4:00 pm (closed Tuesday & Wednesday Friday). All proceeds benefit MANNA.\nFor more information on tickets & tours:   http://www.phillymag.com/designhome2014/\n ;X-APPLE-RADIUS=500;X-TITLE=622 E Gravers Ln:geo:-75.19596,40.08327
END:VEVENT
BEGIN:VEVENT
DTSTART;TZID=UTC:20141113T080000
DTEND;TZID=UTC:20141113T170000
DTSTAMP:20260424T150059
CREATED:20140925T020730Z
LAST-MODIFIED:20140925T020730Z
UID:10000364-1415865600-1415898000@www.taguelumber.com
SUMMARY:Philadelphia Magazine's 2014 Design Home Tours
DESCRIPTION:Tague Design Showroom and Tague Lumber are proud participants of Philadelphia Magazine’s Design Home 2014.  From the breathtaking gourmet kitchen to the stunning custom cabinetry in the bathrooms\, laundry rooms\, and bar areas; from the windows\, doors\, and hardware down to the very lumber used to frame the house — the craftsmanship and innovative designs of the Tague Design Showroom and the quality building materials from Tague Lumber will be on display in the beautiful 2014 Design Home.\nLOCATION:  622 E. Gravers Lane\, Wyndmoor\, PA\nTOURS:  Design Home will be open from Thursday\, Oct. 23 through Sunday\, November 16th. Tours are only given on Thursdays\, Saturday\, Sunday and Monday from 11:00 am – 4:00 pm (closed Tuesday & Wednesday\, Friday). All proceeds benefit MANNA.\nFor more information on tickets & tours:   http://www.phillymag.com/designhome2014/
URL:https://www.taguelumber.com/event/philadelphia-magazines-2014-design-home-tours-8/
LOCATION:Design Home 2014\, 622 E Gravers Ln\, Wyndmoor\, PA\, 19038\, United States
CATEGORIES:Design Showroom
GEO:40.08327;-75.19596
X-APPLE-STRUCTURED-LOCATION;VALUE=URI;X-ADDRESS=DESCRIPTION:Tague Design Showroom and Tague Lumber are proud participants of Philadelphia Magazine’s Design Home 2014.  From the breathtaking gourmet kitchen to the stunning custom cabinetry in the bathrooms laundry rooms and bar areas; from the windows doors and hardware down to the very lumber used to frame the house — the craftsmanship and innovative designs of the Tague Design Showroom and the quality building materials from Tague Lumber will be on display in the beautiful 2014 Design Home.\n  622 E. Gravers Lane Wyndmoor PA\nTOURS:  Design Home will be open from Thursday Oct. 23 through Sunday November 16th. Tours are only given on Thursdays Saturday Sunday and Monday from 11:00 am – 4:00 pm (closed Tuesday & Wednesday Friday). All proceeds benefit MANNA.\nFor more information on tickets & tours:   http://www.phillymag.com/designhome2014/;X-APPLE-RADIUS=500;X-TITLE=622 E Gravers Ln:geo:-75.19596,40.08327
END:VEVENT
BEGIN:VEVENT
DTSTART;TZID=UTC:20141115T110000
DTEND;TZID=UTC:20141115T160000
DTSTAMP:20260424T150059
CREATED:20140925T020834Z
LAST-MODIFIED:20140925T020834Z
UID:10000366-1416049200-1416067200@www.taguelumber.com
SUMMARY:Philadelphia Magazine's 2014 Design Home Tours
DESCRIPTION:Tague Design Showroom and Tague Lumber are proud participants of Philadelphia Magazine’s Design Home 2014.  From the breathtaking gourmet kitchen to the stunning custom cabinetry in the bathrooms\, laundry rooms\, and bar areas; from the windows\, doors\, and hardware down to the very lumber used to frame the house — the craftsmanship and innovative designs of the Tague Design Showroom and the quality building materials from Tague Lumber will be on display in the beautiful 2014 Design Home.\nLOCATION:  622 E. Gravers Lane\, Wyndmoor\, PA\nTOURS:  Design Home will be open from Thursday\, Oct. 23 through Sunday\, November 16th. Tours are only given on Thursdays\, Saturday\, Sunday and Monday from 11:00 am – 4:00 pm (closed Tuesday & Wednesday\, Friday). All proceeds benefit MANNA.\nFor more information on tickets & tours:   http://www.phillymag.com/designhome2014/\n 
URL:https://www.taguelumber.com/event/philadelphia-magazines-2014-design-home-tours-9/
LOCATION:Design Home 2014\, 622 E Gravers Ln\, Wyndmoor\, PA\, 19038\, United States
CATEGORIES:Design Showroom
GEO:40.08327;-75.19596
X-APPLE-STRUCTURED-LOCATION;VALUE=URI;X-ADDRESS=DESCRIPTION:Tague Design Showroom and Tague Lumber are proud participants of Philadelphia Magazine’s Design Home 2014.  From the breathtaking gourmet kitchen to the stunning custom cabinetry in the bathrooms laundry rooms and bar areas; from the windows doors and hardware down to the very lumber used to frame the house — the craftsmanship and innovative designs of the Tague Design Showroom and the quality building materials from Tague Lumber will be on display in the beautiful 2014 Design Home.\n  622 E. Gravers Lane Wyndmoor PA\nTOURS:  Design Home will be open from Thursday Oct. 23 through Sunday November 16th. Tours are only given on Thursdays Saturday Sunday and Monday from 11:00 am – 4:00 pm (closed Tuesday & Wednesday Friday). All proceeds benefit MANNA.\nFor more information on tickets & tours:   http://www.phillymag.com/designhome2014/\n ;X-APPLE-RADIUS=500;X-TITLE=622 E Gravers Ln:geo:-75.19596,40.08327
END:VEVENT
BEGIN:VEVENT
DTSTART;TZID=UTC:20141116T110000
DTEND;TZID=UTC:20141116T160000
DTSTAMP:20260424T150059
CREATED:20140925T020956Z
LAST-MODIFIED:20140925T020956Z
UID:10000368-1416135600-1416153600@www.taguelumber.com
SUMMARY:FINAL DAY --Philadelphia Magazine's 2014 Design Home Tours
DESCRIPTION:Tague Design Showroom and Tague Lumber are proud participants of Philadelphia Magazine’s Design Home 2014.  From the breathtaking gourmet kitchen to the stunning custom cabinetry in the bathrooms\, laundry rooms\, and bar areas; from the windows\, doors\, and hardware down to the very lumber used to frame the house — the craftsmanship and innovative designs of the Tague Design Showroom and the quality building materials from Tague Lumber will be on display in the beautiful 2014 Design Home.\nLOCATION:  622 E. Gravers Lane\, Wyndmoor\, PA\nTOURS:  Design Home will be open from Thursday\, Oct. 23 through Sunday\, November 16th. Tours are only given on Thursdays\, Saturday\, Sunday and Monday from 11:00 am – 4:00 pm (closed Tuesday & Wednesday\, Friday). All proceeds benefit MANNA.\nFor more information on tickets & tours:   http://www.phillymag.com/designhome2014/
URL:https://www.taguelumber.com/event/final-day-philadelphia-magazines-2014-design-home-tours/
LOCATION:Design Home 2014\, 622 E Gravers Ln\, Wyndmoor\, PA\, 19038\, United States
CATEGORIES:Design Showroom
GEO:40.08327;-75.19596
X-APPLE-STRUCTURED-LOCATION;VALUE=URI;X-ADDRESS=DESCRIPTION:Tague Design Showroom and Tague Lumber are proud participants of Philadelphia Magazine’s Design Home 2014.  From the breathtaking gourmet kitchen to the stunning custom cabinetry in the bathrooms laundry rooms and bar areas; from the windows doors and hardware down to the very lumber used to frame the house — the craftsmanship and innovative designs of the Tague Design Showroom and the quality building materials from Tague Lumber will be on display in the beautiful 2014 Design Home.\n  622 E. Gravers Lane Wyndmoor PA\nTOURS:  Design Home will be open from Thursday Oct. 23 through Sunday November 16th. Tours are only given on Thursdays Saturday Sunday and Monday from 11:00 am – 4:00 pm (closed Tuesday & Wednesday Friday). All proceeds benefit MANNA.\nFor more information on tickets & tours:   http://www.phillymag.com/designhome2014/;X-APPLE-RADIUS=500;X-TITLE=622 E Gravers Ln:geo:-75.19596,40.08327
END:VEVENT
BEGIN:VEVENT
DTSTART;VALUE=DATE:20141127
DTEND;VALUE=DATE:20141128
DTSTAMP:20260424T150059
CREATED:20141117T051730Z
LAST-MODIFIED:20141117T051730Z
UID:10000377-1417046400-1417132799@www.taguelumber.com
SUMMARY:Tague Lumber closed for Thanksgiving Holiday
DESCRIPTION:All Tague Lumber locations will be closed for Thursday\, November 27\, 2014 to celebrate Thanksgiving with our families.\nWe will reopen on Friday\, November 28th at our usual hours.\nEnjoy your Thanksgiving Day!
URL:https://www.taguelumber.com/event/tague-lumber-closed-for-thanksgiving-holiday/
END:VEVENT
END:VCALENDAR