BEGIN:VCALENDAR
VERSION:2.0
PRODID:-//Tague Lumber - ECPv6.15.18//NONSGML v1.0//EN
CALSCALE:GREGORIAN
METHOD:PUBLISH
X-ORIGINAL-URL:https://www.taguelumber.com
X-WR-CALDESC:Events for Tague Lumber
REFRESH-INTERVAL;VALUE=DURATION:PT1H
X-Robots-Tag:noindex
X-PUBLISHED-TTL:PT1H
BEGIN:VTIMEZONE
TZID:UTC
BEGIN:STANDARD
TZOFFSETFROM:+0000
TZOFFSETTO:+0000
TZNAME:UTC
DTSTART:20130101T000000
END:STANDARD
END:VTIMEZONE
BEGIN:VEVENT
DTSTART;VALUE=DATE:20140704
DTEND;VALUE=DATE:20140705
DTSTAMP:20260424T212215
CREATED:20140702T181226Z
LAST-MODIFIED:20140702T181226Z
UID:10000350-1404432000-1404518399@www.taguelumber.com
SUMMARY:All Tague Lumber locations will be CLOSED on July 4th in observance of Independence Day
DESCRIPTION:All Tague Lumber locations will be CLOSED on July 4th in observance of Independence Day. We hope you enjoy some time off with family and friends too. Stay safe!
URL:https://www.taguelumber.com/event/all-tague-lumber-locations-will-be-closed-on-july-4th-in-observance-of-independence-day/
LOCATION:Tague Lumber\, Media/Phila/Phoenixville
GEO:40.1303822;-75.5149128
X-APPLE-STRUCTURED-LOCATION;VALUE=URI;X-ADDRESS=Tague Lumber Media/Phila/Phoenixville;X-APPLE-RADIUS=500;X-TITLE=Media/Phila/Phoenixville:geo:-75.5149128,40.1303822
END:VEVENT
BEGIN:VEVENT
DTSTART;TZID=UTC:20140723T110000
DTEND;TZID=UTC:20140723T140000
DTSTAMP:20260424T212215
CREATED:20140701T155652Z
LAST-MODIFIED:20140701T160915Z
UID:10000347-1406113200-1406124000@www.taguelumber.com
SUMMARY:TREX Decking Seminar & FREE BBQ at Tague -Kennett Square
DESCRIPTION:Mark your calendar\n and remember to join us for another \nFREE event:\n\n\nTREX decking Seminar & BBQ event\nWednesday\, July 23rd at our\n475 McFarlan Road\, Kennett Square location.\n\nSeminar Session #1 11:30am – 12:00 pm\nSeminar Session #2 12:30pm – 1:00 pm\n• Get a FREE lunch\n• learn how to earn a $250 Trex product credit\n• enter to win $100 gift card\n• PLUS all seminar attendees receive a FREE lottery ticket.\n Seminar seating is LIMITED so you MUST register for the event. Follow the easy Eventbrite link below to register for your session today! Hurry seating is limited!\nhttp://www.eventbrite.com/e/trex-decking-seminar-free-bbq-at-tague-kennett-square-pa-tickets-12135486567
URL:https://www.taguelumber.com/event/trex-decking-seminar-free-bbq-at-tague-kennett-square/
LOCATION:Tague Lumber – Kennett Sq.\, 475 McFarlan Road\, Kennett Square\, 19348\, United States
GEO:39.8452967;-75.692673
X-APPLE-STRUCTURED-LOCATION;VALUE=URI;X-ADDRESS=Tague Lumber – Kennett Sq. 475 McFarlan Road Kennett Square 19348 United States;X-APPLE-RADIUS=500;X-TITLE=475 McFarlan Road:geo:-75.692673,39.8452967
END:VEVENT
END:VCALENDAR