BEGIN:VCALENDAR
VERSION:2.0
PRODID:-//Tague Lumber - ECPv6.15.18//NONSGML v1.0//EN
CALSCALE:GREGORIAN
METHOD:PUBLISH
X-ORIGINAL-URL:https://www.taguelumber.com
X-WR-CALDESC:Events for Tague Lumber
REFRESH-INTERVAL;VALUE=DURATION:PT1H
X-Robots-Tag:noindex
X-PUBLISHED-TTL:PT1H
BEGIN:VTIMEZONE
TZID:UTC
BEGIN:STANDARD
TZOFFSETFROM:+0000
TZOFFSETTO:+0000
TZNAME:UTC
DTSTART:20130101T000000
END:STANDARD
END:VTIMEZONE
BEGIN:VEVENT
DTSTART;VALUE=DATE:20140307
DTEND;VALUE=DATE:20140308
DTSTAMP:20260425T231210
CREATED:20140227T173524Z
LAST-MODIFIED:20140227T173524Z
UID:10000339-1394150400-1394236799@www.taguelumber.com
SUMMARY:DVGBC Tri-State Sustainability Symposium
DESCRIPTION:Stop by Tague Lumber’s display table at the Delaware Valley Green Building Council’s (DVGBC)Tri-State Sustainability Symposium\nFriday\, March 7th\, 2014 8:00 am – 3:30 pmTemple University\, Philadelphia \n\nRegister today for a full-day gathering of sustainability experts\, industry leaders\, and green building troublemakers on Friday\, March 7th\, and for all you green professionals – the Symposium has been submitted for 7.5 GBCI/AIA CE hours.  Now in its fourth year\, this event brings together industry\, university and community leaders to share best practices\, ask challenging questions\, and provide cutting edge information about sustainability in the Tri-State region. This event\, to be held at Temple University\, will draw over 800 attendees and will feature sessions covering diverse topics such as green technology\, business and sustainability\, commercial real estate owners and tenants\, renewable energy\, LEED v4\, and more.
URL:https://www.taguelumber.com/event/dvgbc-tri-state-sustainability-symposium/
LOCATION:Temple University\, Performing Arts Center\, Philadelphia\, United States
GEO:39.9814026;-75.1568638
X-APPLE-STRUCTURED-LOCATION;VALUE=URI;X-ADDRESS=Temple University Performing Arts Center Philadelphia United States;X-APPLE-RADIUS=500;X-TITLE=Performing Arts Center:geo:-75.1568638,39.9814026
END:VEVENT
BEGIN:VEVENT
DTSTART;VALUE=DATE:20140312
DTEND;VALUE=DATE:20140313
DTSTAMP:20260425T231210
CREATED:20140227T172605Z
LAST-MODIFIED:20140227T172605Z
UID:10000338-1394582400-1394668799@www.taguelumber.com
SUMMARY:IDEAS Lumber & Building Material Trade Show
DESCRIPTION:IDEAS Trade Show\nWed.\, March 12th\, 2014 Doors open at 11:00 amValley Forge Casino Resort\nThis show is open to retail lumber and building material dealers\, architects\, contractors\, installers\, builders\, and tradesmen. \n\n\nRegistration Fees:  No charge for pre-registered building material dealers\, contractors\, Installers\, builders\, and tradesmen. \nOnce again:  There is no admission fee to attend for pre-registered attendees. However\, there will be a $5.00 administration fee at the door for unregistered attendees. If you are registered\, all Seminars are FREE. Just register online here.
URL:https://www.taguelumber.com/event/ideas-lumber-building-material-trade-show/
LOCATION:Valley Forge Casino Resort\, 1160 First Avenue\, King of Prussia\, United States
GEO:40.095379;-75.4145622
X-APPLE-STRUCTURED-LOCATION;VALUE=URI;X-ADDRESS=Valley Forge Casino Resort 1160 First Avenue King of Prussia United States;X-APPLE-RADIUS=500;X-TITLE=1160 First Avenue:geo:-75.4145622,40.095379
END:VEVENT
BEGIN:VEVENT
DTSTART;TZID=UTC:20140313T180000
DTEND;TZID=UTC:20140313T180000
DTSTAMP:20260425T231210
CREATED:20140227T181830Z
LAST-MODIFIED:20140227T181830Z
UID:10000343-1394733600-1394733600@www.taguelumber.com
SUMMARY:Paoli Hospital Ladies Auxilliary Executive Board Meeting
DESCRIPTION:Tague Design Showroom welcomes the members of the Paoli Hospital Ladies Auxilliary \nfor their annual Executive Board Meeting.
URL:https://www.taguelumber.com/event/paoli-hospital-ladies-auxilliary-executive-board-meeting/
END:VEVENT
BEGIN:VEVENT
DTSTART;VALUE=DATE:20140326
DTEND;VALUE=DATE:20140327
DTSTAMP:20260425T231210
CREATED:20140227T175652Z
LAST-MODIFIED:20140227T175652Z
UID:10000341-1395792000-1395878399@www.taguelumber.com
SUMMARY:Pennsylvania Apartment Association's  2014 Trade Show & Conference
DESCRIPTION:PAA Trade Show\nMarch 26\, 201410:00 am – 4:00 pmValley Forge Casino Resort\n  \nThe PAA Trade Show & Education Conference is the largest ONE DAY industry show in the Northeast. Over 1300 industry professionals from the tri-state area attend each year. This event provides an opportunity for vendors to display their products and services to the Philadelphia area’s multi-family housing decision makers and site personnel. 
URL:https://www.taguelumber.com/event/pennsylvania-apartment-associations-2014-trade-show-conference/
LOCATION:Valley Forge Casino Resort\, 1160 First Avenue\, King of Prussia\, United States
GEO:40.095379;-75.4145622
X-APPLE-STRUCTURED-LOCATION;VALUE=URI;X-ADDRESS=Valley Forge Casino Resort 1160 First Avenue King of Prussia United States;X-APPLE-RADIUS=500;X-TITLE=1160 First Avenue:geo:-75.4145622,40.095379
END:VEVENT
BEGIN:VEVENT
DTSTART;TZID=UTC:20140327T170000
DTEND;TZID=UTC:20140327T190000
DTSTAMP:20260425T231210
CREATED:20140227T174636Z
LAST-MODIFIED:20140227T174636Z
UID:10000340-1395939600-1395946800@www.taguelumber.com
SUMMARY:Suburban West Realtors Association's Happy Hour & Affiliate Expo
DESCRIPTION:Suburban West Realtors Association’s Happy Hour & Affiliate ExpoThursday\, March 27th 5:00 – 7:00 pmTague Design Showroom181 Lancaster Ave.\, Malvern PA \nAfter a sold-out event the past two years\, Suburban West is bringing back our popular Happy Hour and Affiliate Expo on Thursday\, March 27th at Tague Design Showroom for a unique evening of camaraderie and networking! Suburban West’s Affiliate members represent a spectrum of businesses affiliated with real estate. From home inspectors to mortgages\, from staging to title insurance and much more. Upwards of 25 Affiliate members will host booths throughout the event so you (and your clients) can learn and benefit from their services. Where else can you experience: \n\nExpo featuring 25 Affiliate sponsor tables and displays\nAppetizers\, beer and wine\nNetworking with REALTORS and Affiliates\nExplore a state-of-the-art showroom\nComplimentary valet parking\nAffiliate Network Exchange Table\n\nCOST:  FREE for SWRA members;  $40.00 for non-members \nPlease note registration is required!  Because of limited capacity\, pre-registration is required on a first-come\, first-serve basis. No waiting list or walk-ins permitted.Register Now (once logged in\, access Event Calendar) or call 866-495-SWRA
URL:https://www.taguelumber.com/event/suburban-west-realtors-associations-happy-hour-affiliate-expo/
LOCATION:Tague Design Showroom\, 181 Lancaster Avenue\, Malvern\, PA\, 19355\, United States
GEO:40.043512;-75.537697
X-APPLE-STRUCTURED-LOCATION;VALUE=URI;X-ADDRESS=Tague Design Showroom 181 Lancaster Avenue Malvern PA 19355 United States;X-APPLE-RADIUS=500;X-TITLE=181 Lancaster Avenue:geo:-75.537697,40.043512
END:VEVENT
BEGIN:VEVENT
DTSTART;TZID=UTC:20140328T100000
DTEND;TZID=UTC:20140328T150000
DTSTAMP:20260425T231210
CREATED:20140227T180724Z
LAST-MODIFIED:20140227T180724Z
UID:10000342-1396000800-1396018800@www.taguelumber.com
SUMMARY:"Never Too Late: Redesigning Your Home & Lifestyle"  Showroom Event
DESCRIPTION:“Never too Late” Lifestyle Seminarwith Judi & Don Larkin \nFriday\, March 2810:00 – 3:00 pmTague Design Showroom181 Lancaster Ave.\, Malvern PA \nMark your calendars for Judi & Don Larkin\, design experts and authors of the book\, “Never Too Late: 7 Steps to Achieving Your Dream At Any Age” to host a day of workshops. Come join them as they share their tips and tricks for living a well-designed life. This day includes decorating tips\, an interactive cooking demonstration and a fashion show. Seats are limited so register now to reserve your space. Tickets are FREE—visit http://www.judi-donlarkin.com/ for details on how to sign up for this event.
URL:https://www.taguelumber.com/event/never-too-late-redesigning-your-home-lifestyle-showroom-event/
LOCATION:Tague Design Showroom\, 181 Lancaster Avenue\, Malvern\, PA\, 19355\, United States
GEO:40.043512;-75.537697
X-APPLE-STRUCTURED-LOCATION;VALUE=URI;X-ADDRESS=Tague Design Showroom 181 Lancaster Avenue Malvern PA 19355 United States;X-APPLE-RADIUS=500;X-TITLE=181 Lancaster Avenue:geo:-75.537697,40.043512
END:VEVENT
END:VCALENDAR