BEGIN:VCALENDAR
VERSION:2.0
PRODID:-//Tague Lumber - ECPv6.15.18//NONSGML v1.0//EN
CALSCALE:GREGORIAN
METHOD:PUBLISH
X-ORIGINAL-URL:https://www.taguelumber.com
X-WR-CALDESC:Events for Tague Lumber
REFRESH-INTERVAL;VALUE=DURATION:PT1H
X-Robots-Tag:noindex
X-PUBLISHED-TTL:PT1H
BEGIN:VTIMEZONE
TZID:UTC
BEGIN:STANDARD
TZOFFSETFROM:+0000
TZOFFSETTO:+0000
TZNAME:UTC
DTSTART:20120101T000000
END:STANDARD
END:VTIMEZONE
BEGIN:VEVENT
DTSTART;TZID=UTC:20131118T140000
DTEND;TZID=UTC:20131118T180000
DTSTAMP:20260424T162519
CREATED:20131018T141751Z
LAST-MODIFIED:20131018T141751Z
UID:10000332-1384783200-1384797600@www.taguelumber.com
SUMMARY:GreenBuild Expo -- Lenfest Plaza Tours
DESCRIPTION:The GreenBuild International Conference is the world’s largest expo dedicated to green building and this year it is being held at the Philadelphia Convention Center on Nov. 20-22\, 2013. Thirty thousand (30\,000) people are expected to attend this event. The theme for the 2013 conference is “Greenbuild Nation\,” drawing on Philadelphia’s roots as the birthplace of the nation. \nTague Lumber is proud to announce that the Black Locust Benches we created for Lenfest Plaza at the PA Academy of Fine Arts on Cherry Street were selected to be on the GreenBuild walking tours. CEU credits available for this tour as well. \n \nTOUR DESCRIPTION:  A Golden Mile of Walkways\, Gardens and Public Art Description: Cities are full of public spaces\, both hidden gems and iconic plazas. We will start with the LEED Gold expansion of the Pennsylvania Convention Center and then enjoy a brisk Fall walk outside on this walking tour of Center City Philadelphia to learn how designers are integrating sustainable design and stormwater management into public art and space. Participants will pass by public art pieces in elegant public spaces including Lenfest Plaza (PA Academy of Fine Arts)\, Love Park\, Logan Square\, Sister Cities Park\, and Rittenhouse Square. The tour ends at the Kimmel Center’s rooftop garden overlooking Particle Falls\, a public art exhibit which depicts air quality in real time using lighting projection. \nDate & Time: TM07 —Monday\, November 18\, 2pm – 6pmTF07 — Friday November 22\, 2pm – 6pm
URL:https://www.taguelumber.com/event/greenbuild-expo-lenfest-plaza-tours/
LOCATION:Lenfest Plaza\, Broad & Cherry Streets\, Philadelphia\, PA\, United States
GEO:39.9553259;-75.162897
X-APPLE-STRUCTURED-LOCATION;VALUE=URI;X-ADDRESS=Lenfest Plaza Broad & Cherry Streets Philadelphia PA United States;X-APPLE-RADIUS=500;X-TITLE=Broad & Cherry Streets:geo:-75.162897,39.9553259
END:VEVENT
BEGIN:VEVENT
DTSTART;TZID=UTC:20131120T090000
DTEND;TZID=UTC:20131120T170000
DTSTAMP:20260424T162519
CREATED:20131018T143346Z
LAST-MODIFIED:20131018T143620Z
UID:10000334-1384938000-1384966800@www.taguelumber.com
SUMMARY:GreenBuild Conference at the Philadelphia Convention Center
DESCRIPTION:The GreenBuild International Conference is the world’s largest expo dedicated to green building and this year it is being held at the Philadelphia Convention Center on Nov. 20-21\, 2013. Thirty thousand (30\,000) people are expected to attend this event. The theme for the 2013 conference is “Greenbuild Nation\,” drawing on Philadelphia’s roots as the birthplace of the nation.  \nBe sure to visit Tague Lumber’s booth (#2217) at this event located in the DVGBC’s “500-Mile Pavillion”. See our E-newsletter for a link to obtain a FREE pass to the Expo Hall compliments of Tague Lumber.
URL:https://www.taguelumber.com/event/greenbuild-conference-at-the-philadelphia-convention-center/
LOCATION:Philadelphia Convention Center\, 1101 Arch Street\, Philadelphia\, PA\, United States
GEO:39.9539479;-75.1588457
X-APPLE-STRUCTURED-LOCATION;VALUE=URI;X-ADDRESS=Philadelphia Convention Center 1101 Arch Street Philadelphia PA United States;X-APPLE-RADIUS=500;X-TITLE=1101 Arch Street:geo:-75.1588457,39.9539479
END:VEVENT
BEGIN:VEVENT
DTSTART;TZID=UTC:20131121T090000
DTEND;TZID=UTC:20131121T170000
DTSTAMP:20260424T162519
CREATED:20131018T143559Z
LAST-MODIFIED:20131018T143559Z
UID:10000335-1385024400-1385053200@www.taguelumber.com
SUMMARY:GreenBuild Conference at the Philadelphia Convention Center
DESCRIPTION:The GreenBuild International Conference is the world’s largest expo dedicated to green building and this year it is being held at the Philadelphia Convention Center on Nov. 20-21\, 2013. Thirty thousand (30\,000) people are expected to attend this event. The theme for the 2013 conference is “Greenbuild Nation\,” drawing on Philadelphia’s roots as the birthplace of the nation.  \nBe sure to visit Tague Lumber’s booth (#2217) at this event located in the DVGBC’s “500-Mile Pavillion”. See our E-newsletter for a link to obtain a FREE pass to the Expo Hall compliments of Tague Lumber.
URL:https://www.taguelumber.com/event/greenbuild-conference-at-the-philadelphia-convention-center-2/
LOCATION:Philadelphia Convention Center\, 1101 Arch Street\, Philadelphia\, PA\, United States
GEO:39.9539479;-75.1588457
X-APPLE-STRUCTURED-LOCATION;VALUE=URI;X-ADDRESS=Philadelphia Convention Center 1101 Arch Street Philadelphia PA United States;X-APPLE-RADIUS=500;X-TITLE=1101 Arch Street:geo:-75.1588457,39.9539479
END:VEVENT
BEGIN:VEVENT
DTSTART;TZID=UTC:20131122T020000
DTEND;TZID=UTC:20131122T180000
DTSTAMP:20260424T162519
CREATED:20131018T141956Z
LAST-MODIFIED:20131018T141956Z
UID:10000333-1385085600-1385143200@www.taguelumber.com
SUMMARY:GreenBuild Expo - Lenfest Plaza Tours
DESCRIPTION:The GreenBuild International Conference is the world’s largest expo dedicated to green building and this year it is being held at the Philadelphia Convention Center on Nov. 20-22\, 2013. Thirty thousand (30\,000) people are expected to attend this event. The theme for the 2013 conference is “Greenbuild Nation\,” drawing on Philadelphia’s roots as the birthplace of the nation. \nTague Lumber is proud to announce that the Black Locust Benches we created for Lenfest Plaza at the PA Academy of Fine Arts on Cherry Street were selected to be on the GreenBuild walking tours. CEU credits available for this tour as well. \n \nTOUR DESCRIPTION:  A Golden Mile of Walkways\, Gardens and Public Art Description: Cities are full of public spaces\, both hidden gems and iconic plazas. We will start with the LEED Gold expansion of the Pennsylvania Convention Center and then enjoy a brisk Fall walk outside on this walking tour of Center City Philadelphia to learn how designers are integrating sustainable design and stormwater management into public art and space. Participants will pass by public art pieces in elegant public spaces including Lenfest Plaza (PA Academy of Fine Arts)\, Love Park\, Logan Square\, Sister Cities Park\, and Rittenhouse Square. The tour ends at the Kimmel Center’s rooftop garden overlooking Particle Falls\, a public art exhibit which depicts air quality in real time using lighting projection. \nDate & Time:TM07 —Monday\, November 18\, 2pm – 6pmTF07 — Friday November 22\, 2pm – 6pm \n 
URL:https://www.taguelumber.com/event/greenbuild-expo-lenfest-plaza-tours-2/
LOCATION:Lenfest Plaza\, Broad & Cherry Streets\, Philadelphia\, PA\, United States
GEO:39.9553259;-75.162897
X-APPLE-STRUCTURED-LOCATION;VALUE=URI;X-ADDRESS=Lenfest Plaza Broad & Cherry Streets Philadelphia PA United States;X-APPLE-RADIUS=500;X-TITLE=Broad & Cherry Streets:geo:-75.162897,39.9553259
END:VEVENT
END:VCALENDAR