BEGIN:VCALENDAR
VERSION:2.0
PRODID:-//Tague Lumber - ECPv6.15.18//NONSGML v1.0//EN
CALSCALE:GREGORIAN
METHOD:PUBLISH
X-WR-CALNAME:Tague Lumber
X-ORIGINAL-URL:https://www.taguelumber.com
X-WR-CALDESC:Events for Tague Lumber
REFRESH-INTERVAL;VALUE=DURATION:PT1H
X-Robots-Tag:noindex
X-PUBLISHED-TTL:PT1H
BEGIN:VTIMEZONE
TZID:America/New_York
BEGIN:DAYLIGHT
TZOFFSETFROM:-0500
TZOFFSETTO:-0400
TZNAME:EDT
DTSTART:20120311T070000
END:DAYLIGHT
BEGIN:STANDARD
TZOFFSETFROM:-0400
TZOFFSETTO:-0500
TZNAME:EST
DTSTART:20121104T060000
END:STANDARD
BEGIN:DAYLIGHT
TZOFFSETFROM:-0500
TZOFFSETTO:-0400
TZNAME:EDT
DTSTART:20130310T070000
END:DAYLIGHT
BEGIN:STANDARD
TZOFFSETFROM:-0400
TZOFFSETTO:-0500
TZNAME:EST
DTSTART:20131103T060000
END:STANDARD
BEGIN:DAYLIGHT
TZOFFSETFROM:-0500
TZOFFSETTO:-0400
TZNAME:EDT
DTSTART:20140309T070000
END:DAYLIGHT
BEGIN:STANDARD
TZOFFSETFROM:-0400
TZOFFSETTO:-0500
TZNAME:EST
DTSTART:20141102T060000
END:STANDARD
END:VTIMEZONE
BEGIN:VEVENT
DTSTART;TZID=America/New_York:20130422T073000
DTEND;TZID=America/New_York:20130422T090000
DTSTAMP:20260424T152339
CREATED:20130318T190307Z
LAST-MODIFIED:20130318T190307Z
UID:10000310-1366615800-1366621200@www.taguelumber.com
SUMMARY:Builder Breakfast Seminar "Building More Energy Efficient Homes"  with Justin Wilson
DESCRIPTION:Join Tague Lumber & DuPont Tyvek for a Builder Breakfast Seminar on: \n“How to Build More Energy Efficient Homes” \nDATE:  Monday\, April 22\, 2013 \nTIME:  7:30am – 9:00am \nLOCATION:  Tague Design Showroom\, 181 Lancaster Ave Malvern\, PA 19355 \nGUEST SPEAKER:  Justin Wilson \nRSVP to:  Kconnor@taguelumber.com \nThis event is limited to 50 participants so please reserve your spot today. \nEnjoy a delicious hot breakfast while learning advanced building techniques.  \n  \nAbout Justin Wilson….Justin Wilson is a leader in research and development for the construction industry. He presents\, in over 100 cities yearly\, to architects\, engineers\, builders\, educators and trade partners on high performance home construction practices. Justin Wilson is President of Building Performance Solutions\, Inc.\, a Colorado based science consulting firm. \nThis event is sponsored by Tague Lumber & DuPont Tyvek. \n 
URL:https://www.taguelumber.com/event/builder-breakfast-seminar-building-more-energy-efficient-homes-with-justin-wilson/
LOCATION:Tague Design Showroom\, 181 Lancaster Avenue\, Malvern\, PA\, 19355\, United States
GEO:40.043512;-75.537697
X-APPLE-STRUCTURED-LOCATION;VALUE=URI;X-ADDRESS=DESCRIPTION:Join Tague Lumber & DuPont Tyvek for a Builder Breakfast Seminar on: \n“How to Build More Energy Efficient Homes” \nDATE:  Monday April 22 2013 \nTIME:  7:30am – 9:00am \n  Tague Design Showroom 181 Lancaster Ave Malvern PA 19355 \nGUEST SPEAKER:  Justin Wilson \nRSVP to:  Kconnor@taguelumber.com \nThis event is limited to 50 participants so please reserve your spot today. \nEnjoy a delicious hot breakfast while learning advanced building techniques.  \n  \nAbout Justin Wilson….Justin Wilson is a leader in research and development for the construction industry. He presents in over 100 cities yearly to architects engineers builders educators and trade partners on high performance home construction practices. Justin Wilson is President of Building Performance Solutions Inc. a Colorado based science consulting firm. \nThis event is sponsored by Tague Lumber & DuPont Tyvek. \n ;X-APPLE-RADIUS=500;X-TITLE=181 Lancaster Avenue:geo:-75.537697,40.043512
END:VEVENT
BEGIN:VEVENT
DTSTART;TZID=America/New_York:20130418T180000
DTEND;TZID=America/New_York:20130418T200000
DTSTAMP:20260424T152339
CREATED:20130318T182805Z
LAST-MODIFIED:20130318T182805Z
UID:10000309-1366308000-1366315200@www.taguelumber.com
SUMMARY:Cooking Demo by $1 Million winner of the Pillsbury® Bake-off -- Local Devon resident\, Christina Verrelli
DESCRIPTION:Join us for this fun event & learn a few secrets about the Pillsbury® Bake-off. \nYou’ll even get to taste the winning recipe: Pumpkin Ravoli with Salted Caramel Whipped Cream.  A sweet new twist on pumpkin ravioli with flaky crescent dough\, cream cheese and caramel sauce.  \nDate: Thursday\, April 18\, 2013 Time: 6:00 pm – 8:00 pm  \nPlace: Tague Design Showroom 181 Lancaster Avenue\, Malvern\, PA  \nRSVP: marketing@taguelumber.com  \nHURRY! This event is limited to the first 75 participants.  \nAbout Christina Verrelli…Christina’s cooking skills earned her a spot at the 45th Pillsbury® Bake-Off Contest — where she clinched the $1\,000\,000 grand prize. Even though a sweet treat was her winning dish\, she’s more of a comfort-food cook at heart. Whether she’s cooking for a crowd\, creating prize-winning desserts or simply whipping up new ideas for the family table\, Christina loves being in the kitchen. Christina lives in Devon\, PA with her husband\, Lou\, and daughters Lauren\, 8\, and Samantha\, 10. You can join her new food blog at www.epicuricloud.com \nAbout the Tague Design Showroom… Tague Lumber is a family owned Building Materials Distributor with over 100+ years of dedicated service in the Philadelphia and surrounding counties. The Tague Design Showroom is their 10\,000 sq. ft. showroom in Malvern and features stunning kitchen and bath displays\, custom cabinetry\, windows & doors\, moulding & millwork\, decks & siding and the largest display of residential hardware in the region. Voted “Best of Main Line” for the last 4 years in a row\, The Tague Design Showroom is open to the public and has certified kitchen designers on staff. To view samples of our stunning kitchen and bath transformations visit www.taguelumber.com/design-showroom \nTague Design Showroom 181 Lancaster Avenue Malvern\, PA 19355Phone: 610-640-4180 Store Hours: Monday-Friday | 8:30am – 5:00pm Wednesday | 8:30am – 7:00pm Saturday | 10:00am – 3:00pm Sunday | Closed
URL:https://www.taguelumber.com/event/cooking-demo-by-1-million-winner-of-the-pillsbury-bake-off-local-devon-resident-christina-verrelli/
LOCATION:Tague Design Showroom\, 181 Lancaster Avenue\, Malvern\, PA\, 19355\, United States
GEO:40.043512;-75.537697
X-APPLE-STRUCTURED-LOCATION;VALUE=URI;X-ADDRESS=Tague Design Showroom 181 Lancaster Avenue Malvern PA 19355 United States;X-APPLE-RADIUS=500;X-TITLE=181 Lancaster Avenue:geo:-75.537697,40.043512
END:VEVENT
BEGIN:VEVENT
DTSTART;TZID=America/New_York:20130321T170000
DTEND;TZID=America/New_York:20130321T190000
DTSTAMP:20260424T152339
CREATED:20130318T180018Z
LAST-MODIFIED:20130318T180018Z
UID:10000308-1363885200-1363892400@www.taguelumber.com
SUMMARY:Suburban West Realtor & Affiliate Expo
DESCRIPTION:Suburban West Realtor Association’s Happy Hour & Affiliate Expo \nMarch 21; 5:00pm-7:00pm @ Tague Design Showroom\, Malvern  \n\n\n\nBecause of limited capacity\, pre-registration is required on a first-come\, first-serve basis. This premier event will feature: \n\nExpo featuring 25 Affiliate sponsor tables and displays \nState-of-the-Art design showroom\nComplimentary valet parking\nNetworking with REALTORS and Affiliates\nListing Exchange Table  \n\nRegister today by calling the Association office at 610-560-4800  \n 
URL:https://www.taguelumber.com/event/suburban-west-realtor-affiliate-expo/
LOCATION:Design Showroom\, 181 Lancaster Ave\, Malvern\, PA\, 19355\, United States
GEO:40.043512;-75.537697
X-APPLE-STRUCTURED-LOCATION;VALUE=URI;X-ADDRESS=Design Showroom 181 Lancaster Ave Malvern PA 19355 United States;X-APPLE-RADIUS=500;X-TITLE=181 Lancaster Ave:geo:-75.537697,40.043512
END:VEVENT
END:VCALENDAR