BEGIN:VCALENDAR
VERSION:2.0
PRODID:-//Tague Lumber - ECPv6.15.18//NONSGML v1.0//EN
CALSCALE:GREGORIAN
METHOD:PUBLISH
X-WR-CALNAME:Tague Lumber
X-ORIGINAL-URL:https://www.taguelumber.com
X-WR-CALDESC:Events for Tague Lumber
REFRESH-INTERVAL;VALUE=DURATION:PT1H
X-Robots-Tag:noindex
X-PUBLISHED-TTL:PT1H
BEGIN:VTIMEZONE
TZID:America/New_York
BEGIN:DAYLIGHT
TZOFFSETFROM:-0500
TZOFFSETTO:-0400
TZNAME:EDT
DTSTART:20120311T070000
END:DAYLIGHT
BEGIN:STANDARD
TZOFFSETFROM:-0400
TZOFFSETTO:-0500
TZNAME:EST
DTSTART:20121104T060000
END:STANDARD
BEGIN:DAYLIGHT
TZOFFSETFROM:-0500
TZOFFSETTO:-0400
TZNAME:EDT
DTSTART:20130310T070000
END:DAYLIGHT
BEGIN:STANDARD
TZOFFSETFROM:-0400
TZOFFSETTO:-0500
TZNAME:EST
DTSTART:20131103T060000
END:STANDARD
BEGIN:DAYLIGHT
TZOFFSETFROM:-0500
TZOFFSETTO:-0400
TZNAME:EDT
DTSTART:20140309T070000
END:DAYLIGHT
BEGIN:STANDARD
TZOFFSETFROM:-0400
TZOFFSETTO:-0500
TZNAME:EST
DTSTART:20141102T060000
END:STANDARD
END:VTIMEZONE
BEGIN:VEVENT
DTSTART;TZID=America/New_York:20130321T170000
DTEND;TZID=America/New_York:20130321T190000
DTSTAMP:20260424T164643
CREATED:20130318T180018Z
LAST-MODIFIED:20130318T180018Z
UID:10000308-1363885200-1363892400@www.taguelumber.com
SUMMARY:Suburban West Realtor & Affiliate Expo
DESCRIPTION:Suburban West Realtor Association’s Happy Hour & Affiliate Expo \nMarch 21; 5:00pm-7:00pm @ Tague Design Showroom\, Malvern  \n\n\n\nBecause of limited capacity\, pre-registration is required on a first-come\, first-serve basis. This premier event will feature: \n\nExpo featuring 25 Affiliate sponsor tables and displays \nState-of-the-Art design showroom\nComplimentary valet parking\nNetworking with REALTORS and Affiliates\nListing Exchange Table  \n\nRegister today by calling the Association office at 610-560-4800  \n 
URL:https://www.taguelumber.com/event/suburban-west-realtor-affiliate-expo/
LOCATION:Design Showroom\, 181 Lancaster Ave\, Malvern\, PA\, 19355\, United States
GEO:40.043512;-75.537697
X-APPLE-STRUCTURED-LOCATION;VALUE=URI;X-ADDRESS=Design Showroom 181 Lancaster Ave Malvern PA 19355 United States;X-APPLE-RADIUS=500;X-TITLE=181 Lancaster Ave:geo:-75.537697,40.043512
END:VEVENT
END:VCALENDAR